BEGIN:VCALENDAR
VERSION:2.0
PRODID:-//AnandChowdhary//calendar-link//EN
BEGIN:VEVENT
DTSTART:20251203T181500Z
DTEND:20251203T183000Z
DTSTAMP:20251119T175926Z
SUMMARY:The Path to Growth in 2026: AI-Driven S&OP for Financial Impact
LOCATION:Room Theater 1,  Gaylord Rockies Resort & Convention Center, 6700 N Gaylord Rockies Blvd, Aurora, CO 80019, USA
UID:91967
END:VEVENT
END:VCALENDAR
