Workbook

Sheet ינואר 2018
A1: לוחות שכר באוניברסיטאות - סגל אקדמי זוטר, עמיתי הוראה ומורים מן החוץ
A2: פעימה ראשונה בגין הסכם השכר עם הסגל האקדמי הזוטר באוניברסיטאות, החל מ-1.1.2018
B5: מורה משנה ב' | F5: מעודכן לינואר 2018 | J5: מורה משנה א' | N5: =$F$5 -> מעודכן לינואר 2018
B6: שנות ותק | C6: שכר משולב כולל ותק | D6: תוספת אקדמית (ניידות, ביגוד, טלפון) | E6: סך הכול שכר ללא תוספת שחיקה | F6: תוספת שחיקה | J6: שנות ותק | K6: שכר משולב כולל ותק | L6: תוספת אקדמית (ניידות, ביגוד, טלפון) | M6: סך הכול שכר ללא תוספת שחיקה | N6: תוספת שחיקה
B7: 0 | C7: ₪ 6,887.63 | D7: ₪ 2,173.96 | E7: 9061.5948 | F7: ₪ 1,268.62 | J7: 0 | K7: ₪ 5,840.22 | L7: ₪ 2,141.98 | M7: ₪ 7,982.19 | N7: ₪ 1,117.51
B8: 1 | C8: ₪ 6,955.93 | D8: ₪ 2,173.96 | E8: ₪ 9,129.89 | F8: ₪ 1,278.18 | J8: 1 | K8: ₪ 5,897.01 | L8: ₪ 2,141.98 | M8: ₪ 8,038.98 | N8: ₪ 1,125.46
B9: 2 | C9: ₪ 7,024.10 | D9: ₪ 2,173.96 | E9: ₪ 9,198.06 | F9: ₪ 1,287.73 | J9: 2 | K9: ₪ 5,953.68 | L9: ₪ 2,141.98 | M9: ₪ 8,095.65 | N9: ₪ 1,133.39
B10: 3 | C10: ₪ 7,092.39 | D10: ₪ 2,173.96 | E10: ₪ 9,266.36 | F10: ₪ 1,297.29 | J10: 3 | K10: ₪ 6,010.47 | L10: ₪ 2,141.98 | M10: ₪ 8,152.44 | N10: ₪ 1,141.34
B11: 4 | C11: ₪ 7,160.69 | D11: ₪ 2,173.96 | E11: ₪ 9,334.65 | F11: ₪ 1,306.85 | J11: 4 | K11: ₪ 6,067.26 | L11: ₪ 2,141.98 | M11: ₪ 8,209.23 | N11: ₪ 1,149.29
B12: 5 | C12: ₪ 7,228.98 | D12: ₪ 2,173.96 | E12: ₪ 9,402.94 | F12: ₪ 1,316.41 | J12: 5 | K12: ₪ 6,123.93 | L12: ₪ 2,141.98 | M12: ₪ 8,265.90 | N12: ₪ 1,157.23
B13: 6 | C13: ₪ 7,297.27 | D13: ₪ 2,173.96 | E13: ₪ 9,471.24 | F13: ₪ 1,325.97 | J13: 6 | K13: ₪ 6,180.72 | L13: ₪ 2,141.98 | M13: ₪ 8,322.69 | N13: ₪ 1,165.18
B14: 7 | C14: ₪ 7,365.57 | D14: ₪ 2,173.96 | E14: ₪ 9,539.53 | F14: ₪ 1,335.53 | J14: 7 | K14: ₪ 6,237.39 | L14: ₪ 2,141.98 | M14: ₪ 8,379.36 | N14: ₪ 1,173.11
B15: 8 | C15: ₪ 7,433.86 | D15: ₪ 2,173.96 | E15: ₪ 9,607.82 | F15: ₪ 1,345.10 | J15: 8 | K15: ₪ 6,294.18 | L15: ₪ 2,141.98 | M15: ₪ 8,436.15 | N15: ₪ 1,181.06
B16: 9 | C16: ₪ 7,502.15 | D16: ₪ 2,173.96 | E16: ₪ 9,676.12 | F16: ₪ 1,354.66 | J16: 9 | K16: ₪ 6,350.97 | L16: ₪ 2,141.98 | M16: ₪ 8,492.94 | N16: ₪ 1,189.01
B17: 10 | C17: ₪ 7,570.45 | D17: ₪ 2,173.96 | E17: ₪ 9,744.41 | F17: ₪ 1,364.22 | J17: 10 | K17: ₪ 6,407.64 | L17: ₪ 2,141.98 | M17: ₪ 8,549.61 | N17: ₪ 1,196.95
B20: מדריך ד"ר | F20: =$F$5 -> מעודכן לינואר 2018 | J20: מדריך | N20: =$F$20 -> מעודכן לינואר 2018
B21: שנות ותק | C21: שכר משולב כולל ותק | D21: תוספת אקדמית (ניידות, ביגוד, טלפון) | E21: סך הכול שכר ללא תוספת שחיקה | F21: תוספת שחיקה | J21: שנות ותק | K21: שכר משולב כולל ותק | L21: תוספת אקדמית (ניידות, ביגוד, טלפון) | M21: סך הכול שכר ללא תוספת שחיקה | N21: תוספת שחיקה
B22: 0 | C22: 7380.43 | D22: 2158.5856 | E22: =SUM($C22:$D22) -> 9539.0157 | F22: 1339.0387 | J22: 0 | K22: 6883.9078 | L22: 2141.8361 | M22: =SUM($K22:$L22) -> 9025.7439 | N22: 1267.1806
B23: 1 | C23: 7447.7146 | D23: =$D$22 -> 2158.5856 | E23: =SUM($C23:$D23) -> 9606.3003 | F23: 1348.4585 | J23: 1 | K23: 6951.1924 | L23: =$L$22 -> 2141.8361 | M23: =SUM($K23:$L23) -> 9093.0285 | N23: 1276.6004
B24: 2 | C24: 7514.9992 | D24: =$D$22 -> 2158.5856 | E24: =SUM($C24:$D24) -> 9673.5849 | F24: 1357.8783 | J24: 2 | K24: 7018.3577 | L24: =$L$22 -> 2141.8361 | M24: =SUM($K24:$L24) -> 9160.1938 | N24: 1286.0036
B25: 3 | C25: 7582.1645 | D25: =$D$22 -> 2158.5856 | E25: =SUM($C25:$D25) -> 9740.7502 | F25: 1367.2815 | J25: 3 | K25: 7085.6423 | L25: =$L$22 -> 2141.8361 | M25: =SUM($K25:$L25) -> 9227.4784 | N25: 1295.4234
B26: 4 | C26: 7649.4491 | D26: =$D$22 -> 2158.5856 | E26: =SUM($C26:$D26) -> 9808.0348 | F26: 1376.7013 | J26: 4 | K26: 7152.9269 | L26: =$L$22 -> 2141.8361 | M26: =SUM($K26:$L26) -> 9294.763 | N26: 1304.8433
B27: 5 | C27: 7716.7337 | D27: =$D$22 -> 2158.5856 | E27: =SUM($C27:$D27) -> 9875.3194 | F27: 1386.1212 | J27: 5 | K27: 7220.2115 | L27: =$L$22 -> 2141.8361 | M27: =SUM($K27:$L27) -> 9362.0476 | N27: 1314.2631
B28: 6 | C28: 7784.0184 | D28: =$D$22 -> 2158.5856 | E28: =SUM($C28:$D28) -> 9942.604 | F28: 1395.541 | J28: 6 | K28: 7287.4961 | L28: =$L$22 -> 2141.8361 | M28: =SUM($K28:$L28) -> 9429.3322 | N28: 1323.683
B29: 7 | C29: 7851.303 | D29: =$D$22 -> 2158.5856 | E29: =SUM($C29:$D29) -> 10009.889 | F29: 1404.9609 | J29: 7 | K29: 7354.7807 | L29: =$L$22 -> 2141.8361 | M29: =SUM($K29:$L29) -> 9496.6168 | N29: 1333.1028
B30: 8 | C30: 7918.5876 | D30: =$D$22 -> 2158.5856 | E30: =SUM($C30:$D30) -> 10077.173 | F30: 1414.3807 | J30: 8 | K30: 7422.0653 | L30: =$L$22 -> 2141.8361 | M30: =SUM($K30:$L30) -> 9563.9014 | N30: 1342.5227
B31: 9 | C31: 7985.8722 | D31: =$D$22 -> 2158.5856 | E31: =SUM($C31:$D31) -> 10144.458 | F31: 1423.8006 | J31: 9 | K31: 7489.35 | L31: =$L$22 -> 2141.8361 | M31: =SUM($K31:$L31) -> 9631.186 | N31: 1351.9425
B32: 10 | C32: 8053.1568 | D32: =$D$22 -> 2158.5856 | E32: =SUM($C32:$D32) -> 10211.742 | F32: 1433.2204 | J32: 10 | K32: 7556.6346 | L32: =$L$22 -> 2141.8361 | M32: =SUM($K32:$L32) -> 9698.4706 | N32: 1361.3623
B33: 11 | C33: 8120.4414 | D33: =$D$22 -> 2158.5856 | E33: =SUM($C33:$D33) -> 10279.027 | F33: 1442.6402 | J33: 11 | K33: 7623.7999 | L33: =$L$22 -> 2141.8361 | M33: =SUM($K33:$L33) -> 9765.6359 | N33: 1370.7655
B34: 12 | C34: 8187.6067 | D34: =$D$22 -> 2158.5856 | E34: =SUM($C34:$D34) -> 10346.192 | F34: 1452.0434 | J34: 12 | K34: 7691.0845 | L34: =$L$22 -> 2141.8361 | M34: =SUM($K34:$L34) -> 9832.9205 | N34: 1380.1853
... B47: 25 | C47: 9062.1873 | D47: =$D$22 -> 2158.5856 | E47: =SUM($C47:$D47) -> 11220.773 | F47: 1574.4847 | J47: 25 | K47: 8565.6651 | L47: =$L$22 -> 2141.8361 | M47: =SUM($K47:$L47) -> 10707.501 | N47: 1502.6266
B50: אסיסטנט ב' | F50: =$F$20 -> מעודכן לינואר 2018 | J50: אסיסטנט א' | N50: =$F$20 -> מעודכן לינואר 2018
B51: שנות ותק | C51: שכר משולב כולל ותק | D51: תוספת אקדמית (ניידות, ביגוד, טלפון) | E51: סך הכול שכר ללא תוספת שחיקה | F51: תוספת שחיקה | J51: שנות ותק | K51: שכר משולב כולל ותק | L51: תוספת אקדמית (ניידות, ביגוד, טלפון) | M51: סך הכול שכר ללא תוספת שחיקה | N51: תוספת שחיקה
B52: 0 | C52: 6502.3897 | D52: 2126.3272 | E52: =SUM($C52:$D52) -> 8628.717 | F52: 1211.5968 | J52: 0 | K52: 5851.9719 | L52: 2110.3221 | M52: =SUM($K52:$L52) -> 7962.2939 | N52: 1118.2976
B53: 1 | C53: 6565.2603 | D53: =$D$52 -> 2126.3272 | E53: =SUM($C53:$D53) -> 8691.5875 | F53: 1220.3987 | J53: 1 | K53: 5907.9231 | L53: =$L$52 -> 2110.3221 | M53: =SUM($K53:$L53) -> 8018.2451 | N53: 1126.1308
B54: 2 | C54: 6628.2501 | D54: =$D$52 -> 2126.3272 | E54: =SUM($C54:$D54) -> 8754.5773 | F54: 1229.2173 | J54: 2 | K54: 5963.755 | L54: =$L$52 -> 2110.3221 | M54: =SUM($K54:$L54) -> 8074.0771 | N54: 1133.9472
B55: 3 | C55: 6691.24 | D55: =$D$52 -> 2126.3272 | E55: =SUM($C55:$D55) -> 8817.5672 | F55: 1238.0359 | J55: 3 | K55: 6019.7062 | L55: =$L$52 -> 2110.3221 | M55: =SUM($K55:$L55) -> 8130.0283 | N55: 1141.7804
B56: 4 | C56: 6754.1105 | D56: =$D$52 -> 2126.3272 | E56: =SUM($C56:$D56) -> 8880.4377 | F56: 1246.8377 | J56: 4 | K56: 6075.6574 | L56: =$L$52 -> 2110.3221 | M56: =SUM($K56:$L56) -> 8185.9795 | N56: 1149.6136
B57: 5 | C57: 6817.1004 | D57: =$D$52 -> 2126.3272 | E57: =SUM($C57:$D57) -> 8943.4276 | F57: 1255.6563 | J57: 5 | K57: 6131.4893 | L57: =$L$52 -> 2110.3221 | M57: =SUM($K57:$L57) -> 8241.8114 | N57: 1157.4301
B58: 6 | C58: 6880.0902 | D58: =$D$52 -> 2126.3272 | E58: =SUM($C58:$D58) -> 9006.4174 | F58: 1264.4749 | J58: 6 | K58: 6187.4405 | L58: =$L$52 -> 2110.3221 | M58: =SUM($K58:$L58) -> 8297.7626 | N58: 1165.2632
...

Sheet יולי 2019
A1: לוחות שכר באוניברסיטאות - סגל אקדמי זוטר, עמיתי הוראה ומורים מן החוץ
A2: פעימה שנייה בגין הסכם השכר עם הסגל האקדמי הזוטר באוניברסיטאות, החל מ-1.7.2019
B5: מורה משנה ב' | F5: מעודכן ליולי 2019 | J5: מורה משנה א' | N5: =$F$5 -> מעודכן ליולי 2019
B6: שנות ותק | C6: שכר משולב כולל ותק | D6: תוספת אקדמית (ניידות, ביגוד, טלפון) | E6: סך הכול שכר ללא תוספת שחיקה | F6: תוספת שחיקה | J6: שנות ותק | K6: שכר משולב כולל ותק | L6: תוספת אקדמית (ניידות, ביגוד, טלפון) | M6: סך הכול שכר ללא תוספת שחיקה | N6: תוספת שחיקה
B7: 0 | C7: 6955.4896 | D7: 2195.382 | E7: 9150.8716 | F7: 1281.122 | J7: 0 | K7: 5897.7553 | L7: 2163.0801 | M7: 8060.8354 | N7: 1128.517
B8: 1 | C8: 7024.4563 | D8: 2195.382 | E8: 9219.8383 | F8: 1290.7774 | J8: 1 | K8: 5955.1053 | L8: 2163.0801 | M8: 8118.1854 | N8: 1136.546
B9: 2 | C9: 7093.3008 | D9: 2195.382 | E9: 9288.6828 | F9: 1300.4156 | J9: 2 | K9: 6012.333 | L9: 2163.0801 | M9: 8175.4131 | N9: 1144.5578
B10: 3 | C10: 7162.2675 | D10: 2195.382 | E10: 9357.6495 | F10: 1310.0709 | J10: 3 | K10: 6069.683 | L10: 2163.0801 | M10: 8232.7631 | N10: 1152.5868
B11: 4 | C11: 7231.2342 | D11: 2195.382 | E11: 9426.6162 | F11: 1319.7263 | J11: 4 | K11: 6127.033 | L11: 2163.0801 | M11: 8290.1131 | N11: 1160.6158
B12: 5 | C12: 7300.2009 | D12: 2195.382 | E12: 9495.5829 | F12: 1329.3816 | J12: 5 | K12: 6184.2607 | L12: 2163.0801 | M12: 8347.3408 | N12: 1168.6277
B13: 6 | C13: 7369.1677 | D13: 2195.382 | E13: 9564.5496 | F13: 1339.037 | J13: 6 | K13: 6241.6107 | L13: 2163.0801 | M13: 8404.6908 | N13: 1176.6567
B14: 7 | C14: 7438.1344 | D14: 2195.382 | E14: 9633.5164 | F14: 1348.6923 | J14: 7 | K14: 6298.8384 | L14: 2163.0801 | M14: 8461.9185 | N14: 1184.6686
B15: 8 | C15: 7507.1011 | D15: 2195.382 | E15: 9702.4831 | F15: 1358.3476 | J15: 8 | K15: 6356.1884 | L15: 2163.0801 | M15: 8519.2685 | N15: 1192.6976
B16: 9 | C16: 7576.0678 | D16: 2195.382 | E16: 9771.4498 | F16: 1368.003 | J16: 9 | K16: 6413.5384 | L16: 2163.0801 | M16: 8576.6185 | N16: 1200.7266
B17: 10 | C17: 7645.0346 | D17: 2195.382 | E17: 9840.4165 | F17: 1377.6583 | J17: 10 | K17: 6470.7661 | L17: 2163.0801 | M17: 8633.8462 | N17: 1208.7385
B20: מדריך ד"ר | F20: =$F$5 -> מעודכן ליולי 2019 | J20: מדריך | N20: =$F$5 -> מעודכן ליולי 2019
B21: שנות ותק | C21: שכר משולב כולל ותק | D21: תוספת אקדמית (ניידות, ביגוד, טלפון) | E21: סך הכול שכר ללא תוספת שחיקה | F21: תוספת שחיקה | J21: שנות ותק | K21: שכר משולב כולל ותק | L21: תוספת אקדמית (ניידות, ביגוד, טלפון) | M21: סך הכול שכר ללא תוספת שחיקה | N21: תוספת שחיקה
B22: 0 | C22: 7446.4005 | D22: 2158.5856 | E22: =SUM($C22:$D22) -> 9604.9862 | F22: 1350.6805 | J22: 0 | K22: 6949.8783 | L22: 2141.8361 | M22: =SUM($K22:$L22) -> 9091.7144 | N22: 1278.8225
B23: 1 | C23: 7513.6851 | D23: =$D$22 -> 2158.5856 | E23: =SUM($C23:$D23) -> 9672.2708 | F23: 1360.1004 | J23: 1 | K23: 7017.1629 | L23: =$L$22 -> 2141.8361 | M23: =SUM($K23:$L23) -> 9158.999 | N23: 1288.2423
B24: 2 | C24: 7580.9697 | D24: =$D$22 -> 2158.5856 | E24: =SUM($C24:$D24) -> 9739.5554 | F24: 1369.5202 | J24: 2 | K24: 7084.3282 | L24: =$L$22 -> 2141.8361 | M24: =SUM($K24:$L24) -> 9226.1643 | N24: 1297.6454
B25: 3 | C25: 7648.135 | D25: =$D$22 -> 2158.5856 | E25: =SUM($C25:$D25) -> 9806.7207 | F25: 1378.9233 | J25: 3 | K25: 7151.6128 | L25: =$L$22 -> 2141.8361 | M25: =SUM($K25:$L25) -> 9293.4489 | N25: 1307.0653
B26: 4 | C26: 7715.4196 | D26: =$D$22 -> 2158.5856 | E26: =SUM($C26:$D26) -> 9874.0053 | F26: 1388.3432 | J26: 4 | K26: 7218.8974 | L26: =$L$22 -> 2141.8361 | M26: =SUM($K26:$L26) -> 9360.7335 | N26: 1316.4851
B27: 5 | C27: 7782.7042 | D27: =$D$22 -> 2158.5856 | E27: =SUM($C27:$D27) -> 9941.2899 | F27: 1397.763 | J27: 5 | K27: 7286.182 | L27: =$L$22 -> 2141.8361 | M27: =SUM($K27:$L27) -> 9428.0181 | N27: 1325.905
B28: 6 | C28: 7849.9889 | D28: =$D$22 -> 2158.5856 | E28: =SUM($C28:$D28) -> 10008.574 | F28: 1407.1829 | J28: 6 | K28: 7353.4666 | L28: =$L$22 -> 2141.8361 | M28: =SUM($K28:$L28) -> 9495.3027 | N28: 1335.3248
B29: 7 | C29: 7917.2735 | D29: =$D$22 -> 2158.5856 | E29: =SUM($C29:$D29) -> 10075.859 | F29: 1416.6027 | J29: 7 | K29: 7420.7512 | L29: =$L$22 -> 2141.8361 | M29: =SUM($K29:$L29) -> 9562.5873 | N29: 1344.7447
B30: 8 | C30: 7984.5581 | D30: =$D$22 -> 2158.5856 | E30: =SUM($C30:$D30) -> 10143.144 | F30: 1426.0226 | J30: 8 | K30: 7488.0358 | L30: =$L$22 -> 2141.8361 | M30: =SUM($K30:$L30) -> 9629.8719 | N30: 1354.1645
B31: 9 | C31: 8051.8427 | D31: =$D$22 -> 2158.5856 | E31: =SUM($C31:$D31) -> 10210.428 | F31: 1435.4424 | J31: 9 | K31: 7555.3205 | L31: =$L$22 -> 2141.8361 | M31: =SUM($K31:$L31) -> 9697.1565 | N31: 1363.5844
B32: 10 | C32: 8119.1273 | D32: =$D$22 -> 2158.5856 | E32: =SUM($C32:$D32) -> 10277.713 | F32: 1444.8623 | J32: 10 | K32: 7622.6051 | L32: =$L$22 -> 2141.8361 | M32: =SUM($K32:$L32) -> 9764.4411 | N32: 1373.0042
B33: 11 | C33: 8186.4119 | D33: =$D$22 -> 2158.5856 | E33: =SUM($C33:$D33) -> 10344.998 | F33: 1454.2821 | J33: 11 | K33: 7689.7704 | L33: =$L$22 -> 2141.8361 | M33: =SUM($K33:$L33) -> 9831.6064 | N33: 1382.4073
B34: 12 | C34: 8253.5772 | D34: =$D$22 -> 2158.5856 | E34: =SUM($C34:$D34) -> 10412.163 | F34: 1463.6852 | J34: 12 | K34: 7757.055 | L34: =$L$22 -> 2141.8361 | M34: =SUM($K34:$L34) -> 9898.891 | N34: 1391.8272
... B47: 25 | C47: 9128.1578 | D47: =$D$22 -> 2158.5856 | E47: =SUM($C47:$D47) -> 11286.743 | F47: 1586.1265 | J47: 25 | K47: 8631.6356 | L47: =$L$22 -> 2141.8361 | M47: =SUM($K47:$L47) -> 10773.472 | N47: 1514.2685
B50: אסיסטנט ב' | F50: =$F$5 -> מעודכן ליולי 2019 | J50: אסיסטנט א' | N50: =$F$5 -> מעודכן ליולי 2019
B51: שנות ותק | C51: שכר משולב כולל ותק | D51: תוספת אקדמית (ניידות, ביגוד, טלפון) | E51: סך הכול שכר ללא תוספת שחיקה | F51: תוספת שחיקה | J51: שנות ותק | K51: שכר משולב כולל ותק | L51: תוספת אקדמית (ניידות, ביגוד, טלפון) | M51: סך הכול שכר ללא תוספת שחיקה | N51: תוספת שחיקה
B52: 0 | C52: 6568.3602 | D52: 2126.3272 | E52: =SUM($C52:$D52) -> 8694.6875 | F52: 1223.2387 | J52: 0 | K52: 5917.9424 | L52: 2110.3221 | M52: =SUM($K52:$L52) -> 8028.2644 | N52: 1129.9395
B53: 1 | C53: 6631.2308 | D53: =$D$52 -> 2126.3272 | E53: =SUM($C53:$D53) -> 8757.558 | F53: 1232.0406 | J53: 1 | K53: 5973.8936 | L53: =$L$52 -> 2110.3221 | M53: =SUM($K53:$L53) -> 8084.2156 | N53: 1137.7726
B54: 2 | C54: 6694.2206 | D54: =$D$52 -> 2126.3272 | E54: =SUM($C54:$D54) -> 8820.5478 | F54: 1240.8591 | J54: 2 | K54: 6029.7255 | L54: =$L$52 -> 2110.3221 | M54: =SUM($K54:$L54) -> 8140.0475 | N54: 1145.5891
B55: 3 | C55: 6757.2105 | D55: =$D$52 -> 2126.3272 | E55: =SUM($C55:$D55) -> 8883.5377 | F55: 1249.6777 | J55: 3 | K55: 6085.6767 | L55: =$L$52 -> 2110.3221 | M55: =SUM($K55:$L55) -> 8195.9988 | N55: 1153.4223
B56: 4 | C56: 6820.081 | D56: =$D$52 -> 2126.3272 | E56: =SUM($C56:$D56) -> 8946.4082 | F56: 1258.4796 | J56: 4 | K56: 6141.6279 | L56: =$L$52 -> 2110.3221 | M56: =SUM($K56:$L56) -> 8251.95 | N56: 1161.2554
B57: 5 | C57: 6883.0709 | D57: =$D$52 -> 2126.3272 | E57: =SUM($C57:$D57) -> 9009.3981 | F57: 1267.2982 | J57: 5 | K57: 6197.4598 | L57: =$L$52 -> 2110.3221 | M57: =SUM($K57:$L57) -> 8307.7819 | N57: 1169.0719
B58: 6 | C58: 6946.0607 | D58: =$D$52 -> 2126.3272 | E58: =SUM($C58:$D58) -> 9072.3879 | F58: 1276.1168 | J58: 6 | K58: 6253.411 | L58: =$L$52 -> 2110.3221 | M58: =SUM($K58:$L58) -> 8363.7331 | N58: 1176.9051
...

Sheet ינואר 2020
A1: לוחות שכר באוניברסיטאות - סגל אקדמי זוטר, עמיתי הוראה ומורים מן החוץ
A2: פעימה שלישית בגין הסכם השכר עם הסגל האקדמי הזוטר באוניברסיטאות, החל מ-1.1.2020
B5: מורה משנה ב' | F5: מעודכן לינואר 2020 | J5: מורה משנה א' | N5: =$F$5 -> מעודכן לינואר 2020
B6: שנות ותק | C6: שכר משולב כולל ותק | D6: תוספת אקדמית (ניידות, ביגוד, טלפון) | E6: סך הכול שכר ללא תוספת שחיקה | F6: תוספת שחיקה | J6: שנות ותק | K6: שכר משולב כולל ותק | L6: תוספת אקדמית (ניידות, ביגוד, טלפון) | M6: סך הכול שכר ללא תוספת שחיקה | N6: תוספת שחיקה
B7: 0 | C7: 7057.2773 | D7: 2227.5095 | E7: 9284.7868 | F7: 1299.8701 | J7: 0 | K7: 5984.0639 | L7: 2194.7349 | M7: 8178.7989 | N7: 1145.0318
B8: 1 | C8: 7127.2533 | D8: 2227.5095 | E8: 9354.7628 | F8: 1309.6668 | J8: 1 | K8: 6042.2532 | L8: 2194.7349 | M8: 8236.9881 | N8: 1153.1783
B9: 2 | C9: 7197.1052 | D9: 2227.5095 | E9: 9424.6147 | F9: 1319.4461 | J9: 2 | K9: 6100.3184 | L9: 2194.7349 | M9: 8295.0533 | N9: 1161.3075
B10: 3 | C10: 7267.0812 | D10: 2227.5095 | E10: 9494.5907 | F10: 1329.2427 | J10: 3 | K10: 6158.5076 | L10: 2194.7349 | M10: 8353.2426 | N10: 1169.454
B11: 4 | C11: 7337.0572 | D11: 2227.5095 | E11: 9564.5667 | F11: 1339.0393 | J11: 4 | K11: 6216.6969 | L11: 2194.7349 | M11: 8411.4318 | N11: 1177.6005
B12: 5 | C12: 7407.0332 | D12: 2227.5095 | E12: 9634.5427 | F12: 1348.836 | J12: 5 | K12: 6274.7621 | L12: 2194.7349 | M12: 8469.497 | N12: 1185.7296
B13: 6 | C13: 7477.0091 | D13: 2227.5095 | E13: 9704.5187 | F13: 1358.6326 | J13: 6 | K13: 6332.9513 | L13: 2194.7349 | M13: 8527.6863 | N13: 1193.8761
B14: 7 | C14: 7546.9851 | D14: 2227.5095 | E14: 9774.4947 | F14: 1368.4293 | J14: 7 | K14: 6391.0165 | L14: 2194.7349 | M14: 8585.7514 | N14: 1202.0052
B15: 8 | C15: 7616.9611 | D15: 2227.5095 | E15: 9844.4706 | F15: 1378.2259 | J15: 8 | K15: 6449.2058 | L15: 2194.7349 | M15: 8643.9407 | N15: 1210.1517
B16: 9 | C16: 7686.9371 | D16: 2227.5095 | E16: 9914.4466 | F16: 1388.0225 | J16: 9 | K16: 6507.395 | L16: 2194.7349 | M16: 8702.13 | N16: 1218.2982
B17: 10 | C17: 7756.9131 | D17: 2227.5095 | E17: 9984.4226 | F17: 1397.8192 | J17: 10 | K17: 6565.4602 | L17: 2194.7349 | M17: 8760.1951 | N17: 1226.4273
B20: מדריך ד"ר | F20: =$F$5 -> מעודכן לינואר 2020 | J20: מדריך | N20: =$F$20 -> מעודכן לינואר 2020
B21: שנות ותק | C21: שכר משולב כולל ותק | D21: תוספת אקדמית (ניידות, ביגוד, טלפון) | E21: סך הכול שכר ללא תוספת שחיקה | F21: תוספת שחיקה | J21: שנות ותק | K21: שכר משולב כולל ותק | L21: תוספת אקדמית (ניידות, ביגוד, טלפון) | M21: סך הכול שכר ללא תוספת שחיקה | N21: תוספת שחיקה
B22: 0 | C22: 7544.4648 | D22: 2158.5856 | E22: =SUM($C22:$D22) -> 9703.0504 | F22: 1367.986 | J22: 0 | K22: 7047.9425 | L22: 2141.8361 | M22: =SUM($K22:$L22) -> 9189.7786 | N22: 1296.1279
B23: 1 | C23: 7611.7494 | D23: =$D$22 -> 2158.5856 | E23: =SUM($C23:$D23) -> 9770.335 | F23: 1377.4058 | J23: 1 | K23: 7115.2271 | L23: =$L$22 -> 2141.8361 | M23: =SUM($K23:$L23) -> 9257.0632 | N23: 1305.5478
B24: 2 | C24: 7679.034 | D24: =$D$22 -> 2158.5856 | E24: =SUM($C24:$D24) -> 9837.6196 | F24: 1386.8257 | J24: 2 | K24: 7182.3925 | L24: =$L$22 -> 2141.8361 | M24: =SUM($K24:$L24) -> 9324.2285 | N24: 1314.9509
B25: 3 | C25: 7746.1993 | D25: =$D$22 -> 2158.5856 | E25: =SUM($C25:$D25) -> 9904.7849 | F25: 1396.2288 | J25: 3 | K25: 7249.6771 | L25: =$L$22 -> 2141.8361 | M25: =SUM($K25:$L25) -> 9391.5131 | N25: 1324.3707
B26: 4 | C26: 7813.4839 | D26: =$D$22 -> 2158.5856 | E26: =SUM($C26:$D26) -> 9972.0695 | F26: 1405.6486 | J26: 4 | K26: 7316.9617 | L26: =$L$22 -> 2141.8361 | M26: =SUM($K26:$L26) -> 9458.7977 | N26: 1333.7906
B27: 5 | C27: 7880.7685 | D27: =$D$22 -> 2158.5856 | E27: =SUM($C27:$D27) -> 10039.354 | F27: 1415.0685 | J27: 5 | K27: 7384.2463 | L27: =$L$22 -> 2141.8361 | M27: =SUM($K27:$L27) -> 9526.0823 | N27: 1343.2104
B28: 6 | C28: 7948.0531 | D28: =$D$22 -> 2158.5856 | E28: =SUM($C28:$D28) -> 10106.639 | F28: 1424.4883 | J28: 6 | K28: 7451.5309 | L28: =$L$22 -> 2141.8361 | M28: =SUM($K28:$L28) -> 9593.367 | N28: 1352.6303
B29: 7 | C29: 8015.3377 | D29: =$D$22 -> 2158.5856 | E29: =SUM($C29:$D29) -> 10173.923 | F29: 1433.9082 | J29: 7 | K29: 7518.8155 | L29: =$L$22 -> 2141.8361 | M29: =SUM($K29:$L29) -> 9660.6516 | N29: 1362.0501
B30: 8 | C30: 8082.6223 | D30: =$D$22 -> 2158.5856 | E30: =SUM($C30:$D30) -> 10241.208 | F30: 1443.328 | J30: 8 | K30: 7586.1001 | L30: =$L$22 -> 2141.8361 | M30: =SUM($K30:$L30) -> 9727.9362 | N30: 1371.47
B31: 9 | C31: 8149.9069 | D31: =$D$22 -> 2158.5856 | E31: =SUM($C31:$D31) -> 10308.493 | F31: 1452.7479 | J31: 9 | K31: 7653.3847 | L31: =$L$22 -> 2141.8361 | M31: =SUM($K31:$L31) -> 9795.2208 | N31: 1380.8898
B32: 10 | C32: 8217.1915 | D32: =$D$22 -> 2158.5856 | E32: =SUM($C32:$D32) -> 10375.777 | F32: 1462.1677 | J32: 10 | K32: 7720.6693 | L32: =$L$22 -> 2141.8361 | M32: =SUM($K32:$L32) -> 9862.5054 | N32: 1390.3097
B33: 11 | C33: 8284.4761 | D33: =$D$22 -> 2158.5856 | E33: =SUM($C33:$D33) -> 10443.062 | F33: 1471.5876 | J33: 11 | K33: 7787.8346 | L33: =$L$22 -> 2141.8361 | M33: =SUM($K33:$L33) -> 9929.6707 | N33: 1399.7128
B34: 12 | C34: 8351.6415 | D34: =$D$22 -> 2158.5856 | E34: =SUM($C34:$D34) -> 10510.227 | F34: 1480.9907 | J34: 12 | K34: 7855.1192 | L34: =$L$22 -> 2141.8361 | M34: =SUM($K34:$L34) -> 9996.9553 | N34: 1409.1326
... B47: 25 | C47: 9226.2221 | D47: =$D$22 -> 2158.5856 | E47: =SUM($C47:$D47) -> 11384.808 | F47: 1603.432 | J47: 25 | K47: 8729.6998 | L47: =$L$22 -> 2141.8361 | M47: =SUM($K47:$L47) -> 10871.536 | N47: 1531.5739
B50: אסיסטנט ב' | F50: =$F$20 -> מעודכן לינואר 2020 | J50: אסיסטנט א' | N50: =$F$20 -> מעודכן לינואר 2020
B51: שנות ותק | C51: שכר משולב כולל ותק | D51: תוספת אקדמית (ניידות, ביגוד, טלפון) | E51: סך הכול שכר ללא תוספת שחיקה | F51: תוספת שחיקה | J51: שנות ותק | K51: שכר משולב כולל ותק | L51: תוספת אקדמית (ניידות, ביגוד, טלפון) | M51: סך הכול שכר ללא תוספת שחיקה | N51: תוספת שחיקה
B52: 0 | C52: 6666.4245 | D52: 2126.3272 | E52: =SUM($C52:$D52) -> 8792.7517 | F52: 1240.5441 | J52: 0 | K52: 6016.0066 | L52: 2110.3221 | M52: =SUM($K52:$L52) -> 8126.3287 | N52: 1147.2449
B53: 1 | C53: 6729.295 | D53: =$D$52 -> 2126.3272 | E53: =SUM($C53:$D53) -> 8855.6223 | F53: 1249.346 | J53: 1 | K53: 6071.9578 | L53: =$L$52 -> 2110.3221 | M53: =SUM($K53:$L53) -> 8182.2799 | N53: 1155.0781
B54: 2 | C54: 6792.2849 | D54: =$D$52 -> 2126.3272 | E54: =SUM($C54:$D54) -> 8918.6121 | F54: 1258.1646 | J54: 2 | K54: 6127.7897 | L54: =$L$52 -> 2110.3221 | M54: =SUM($K54:$L54) -> 8238.1118 | N54: 1162.8946
B55: 3 | C55: 6855.2747 | D55: =$D$52 -> 2126.3272 | E55: =SUM($C55:$D55) -> 8981.6019 | F55: 1266.9832 | J55: 3 | K55: 6183.741 | L55: =$L$52 -> 2110.3221 | M55: =SUM($K55:$L55) -> 8294.063 | N55: 1170.7277
B56: 4 | C56: 6918.1453 | D56: =$D$52 -> 2126.3272 | E56: =SUM($C56:$D56) -> 9044.4725 | F56: 1275.7851 | J56: 4 | K56: 6239.6922 | L56: =$L$52 -> 2110.3221 | M56: =SUM($K56:$L56) -> 8350.0142 | N56: 1178.5609
B57: 5 | C57: 6981.1351 | D57: =$D$52 -> 2126.3272 | E57: =SUM($C57:$D57) -> 9107.4623 | F57: 1284.6036 | J57: 5 | K57: 6295.5241 | L57: =$L$52 -> 2110.3221 | M57: =SUM($K57:$L57) -> 8405.8461 | N57: 1186.3774
B58: 6 | C58: 7044.125 | D58: =$D$52 -> 2126.3272 | E58: =SUM($C58:$D58) -> 9170.4522 | F58: 1293.4222 | J58: 6 | K58: 6351.4753 | L58: =$L$52 -> 2110.3221 | M58: =SUM($K58:$L58) -> 8461.7973 | N58: 1194.2105
...

Sheet ינואר 2021
A1: לוחות שכר באוניברסיטאות - סגל אקדמי זוטר, עמיתי הוראה ומורים מן החוץ
A2: פעימה רביעית בגין הסכם השכר עם הסגל האקדמי הזוטר באוניברסיטאות, החל מ-1.1.2021
B5: מורה משנה ב' | F5: מעודכן לינואר 2021 | J5: מורה משנה א' | N5: =$F$5 -> מעודכן לינואר 2021
B6: שנות ותק | C6: שכר משולב כולל ותק | D6: תוספת אקדמית (ניידות, ביגוד, טלפון) | E6: סך הכול שכר ללא תוספת שחיקה | F6: תוספת שחיקה | J6: שנות ותק | K6: שכר משולב כולל ותק | L6: תוספת אקדמית (ניידות, ביגוד, טלפון) | M6: סך הכול שכר ללא תוספת שחיקה | N6: תוספת שחיקה
B7: 0 | C7: 7192.9941 | D7: 2270.3462 | E7: 9463.3404 | F7: 1324.8677 | J7: 0 | K7: 6099.1421 | L7: 2236.9414 | M7: 8336.0835 | N7: 1167.0517
B8: 1 | C8: 7264.3158 | D8: 2270.3462 | E8: 9534.6621 | F8: 1334.8527 | J8: 1 | K8: 6158.4504 | L8: 2236.9414 | M8: 8395.3917 | N8: 1175.3548
B9: 2 | C9: 7335.5111 | D9: 2270.3462 | E9: 9605.8573 | F9: 1344.82 | J9: 2 | K9: 6217.6322 | L9: 2236.9414 | M9: 8454.5736 | N9: 1183.6403
B10: 3 | C10: 7406.8327 | D10: 2270.3462 | E10: 9677.179 | F10: 1354.8051 | J10: 3 | K10: 6276.9405 | L10: 2236.9414 | M10: 8513.8818 | N10: 1191.9435
B11: 4 | C11: 7478.1544 | D11: 2270.3462 | E11: 9748.5007 | F11: 1364.7901 | J11: 4 | K11: 6336.2487 | L11: 2236.9414 | M11: 8573.1901 | N11: 1200.2466
B12: 5 | C12: 7549.4761 | D12: 2270.3462 | E12: 9819.8223 | F12: 1374.7751 | J12: 5 | K12: 6395.4306 | L12: 2236.9414 | M12: 8632.3719 | N12: 1208.5321
B13: 6 | C13: 7620.7978 | D13: 2270.3462 | E13: 9891.144 | F13: 1384.7602 | J13: 6 | K13: 6454.7388 | L13: 2236.9414 | M13: 8691.6802 | N13: 1216.8352
B14: 7 | C14: 7692.1195 | D14: 2270.3462 | E14: 9962.4657 | F14: 1394.7452 | J14: 7 | K14: 6513.9207 | L14: 2236.9414 | M14: 8750.862 | N14: 1225.1207
B15: 8 | C15: 7763.4412 | D15: 2270.3462 | E15: 10033.787 | F15: 1404.7302 | J15: 8 | K15: 6573.2289 | L15: 2236.9414 | M15: 8810.1703 | N15: 1233.4238
B16: 9 | C16: 7834.7628 | D16: 2270.3462 | E16: 10105.109 | F16: 1414.7153 | J16: 9 | K16: 6632.5372 | L16: 2236.9414 | M16: 8869.4786 | N16: 1241.727
B17: 10 | C17: 7906.0845 | D17: 2270.3462 | E17: 10176.431 | F17: 1424.7003 | J17: 10 | K17: 6691.719 | L17: 2236.9414 | M17: 8928.6604 | N17: 1250.0125
B20: מדריך ד"ר | F20: =$F$5 -> מעודכן לינואר 2021 | J20: מדריך | N20: =$F$20 -> מעודכן לינואר 2021
B21: שנות ותק | C21: שכר משולב כולל ותק | D21: תוספת אקדמית (ניידות, ביגוד, טלפון) | E21: סך הכול שכר ללא תוספת שחיקה | F21: תוספת שחיקה | J21: שנות ותק | K21: שכר משולב כולל ותק | L21: תוספת אקדמית (ניידות, ביגוד, טלפון) | M21: סך הכול שכר ללא תוספת שחיקה | N21: תוספת שחיקה
B22: 0 | C22: 7672.8398 | D22: 2158.5856 | E22: =SUM($C22:$D22) -> 9831.4254 | F22: 1390.6404 | J22: 0 | K22: 7176.3176 | L22: 2141.8361 | M22: =SUM($K22:$L22) -> 9318.1536 | N22: 1318.7823
B23: 1 | C23: 7740.1244 | D23: =$D$22 -> 2158.5856 | E23: =SUM($C23:$D23) -> 9898.71 | F23: 1400.0602 | J23: 1 | K23: 7243.6022 | L23: =$L$22 -> 2141.8361 | M23: =SUM($K23:$L23) -> 9385.4382 | N23: 1328.2022
B24: 2 | C24: 7807.409 | D24: =$D$22 -> 2158.5856 | E24: =SUM($C24:$D24) -> 9965.9947 | F24: 1409.4801 | J24: 2 | K24: 7310.7675 | L24: =$L$22 -> 2141.8361 | M24: =SUM($K24:$L24) -> 9452.6036 | N24: 1337.6053
B25: 3 | C25: 7874.5743 | D25: =$D$22 -> 2158.5856 | E25: =SUM($C25:$D25) -> 10033.16 | F25: 1418.8832 | J25: 3 | K25: 7378.0521 | L25: =$L$22 -> 2141.8361 | M25: =SUM($K25:$L25) -> 9519.8882 | N25: 1347.0252
B26: 4 | C26: 7941.8589 | D26: =$D$22 -> 2158.5856 | E26: =SUM($C26:$D26) -> 10100.445 | F26: 1428.3031 | J26: 4 | K26: 7445.3367 | L26: =$L$22 -> 2141.8361 | M26: =SUM($K26:$L26) -> 9587.1728 | N26: 1356.445
B27: 5 | C27: 8009.1435 | D27: =$D$22 -> 2158.5856 | E27: =SUM($C27:$D27) -> 10167.729 | F27: 1437.7229 | J27: 5 | K27: 7512.6213 | L27: =$L$22 -> 2141.8361 | M27: =SUM($K27:$L27) -> 9654.4574 | N27: 1365.8649
B28: 6 | C28: 8076.4281 | D28: =$D$22 -> 2158.5856 | E28: =SUM($C28:$D28) -> 10235.014 | F28: 1447.1427 | J28: 6 | K28: 7579.9059 | L28: =$L$22 -> 2141.8361 | M28: =SUM($K28:$L28) -> 9721.742 | N28: 1375.2847
B29: 7 | C29: 8143.7127 | D29: =$D$22 -> 2158.5856 | E29: =SUM($C29:$D29) -> 10302.298 | F29: 1456.5626 | J29: 7 | K29: 7647.1905 | L29: =$L$22 -> 2141.8361 | M29: =SUM($K29:$L29) -> 9789.0266 | N29: 1384.7045
B30: 8 | C30: 8210.9974 | D30: =$D$22 -> 2158.5856 | E30: =SUM($C30:$D30) -> 10369.583 | F30: 1465.9824 | J30: 8 | K30: 7714.4751 | L30: =$L$22 -> 2141.8361 | M30: =SUM($K30:$L30) -> 9856.3112 | N30: 1394.1244
B31: 9 | C31: 8278.282 | D31: =$D$22 -> 2158.5856 | E31: =SUM($C31:$D31) -> 10436.868 | F31: 1475.4023 | J31: 9 | K31: 7781.7597 | L31: =$L$22 -> 2141.8361 | M31: =SUM($K31:$L31) -> 9923.5958 | N31: 1403.5442
B32: 10 | C32: 8345.5666 | D32: =$D$22 -> 2158.5856 | E32: =SUM($C32:$D32) -> 10504.152 | F32: 1484.8221 | J32: 10 | K32: 7849.0443 | L32: =$L$22 -> 2141.8361 | M32: =SUM($K32:$L32) -> 9990.8804 | N32: 1412.9641
B33: 11 | C33: 8412.8512 | D33: =$D$22 -> 2158.5856 | E33: =SUM($C33:$D33) -> 10571.437 | F33: 1494.242 | J33: 11 | K33: 7916.2097 | L33: =$L$22 -> 2141.8361 | M33: =SUM($K33:$L33) -> 10058.046 | N33: 1422.3672
B34: 12 | C34: 8480.0165 | D34: =$D$22 -> 2158.5856 | E34: =SUM($C34:$D34) -> 10638.602 | F34: 1503.6451 | J34: 12 | K34: 7983.4943 | L34: =$L$22 -> 2141.8361 | M34: =SUM($K34:$L34) -> 10125.33 | N34: 1431.7871
... B47: 25 | C47: 9354.5971 | D47: =$D$22 -> 2158.5856 | E47: =SUM($C47:$D47) -> 11513.183 | F47: 1626.0864 | J47: 25 | K47: 8858.0749 | L47: =$L$22 -> 2141.8361 | M47: =SUM($K47:$L47) -> 10999.911 | N47: 1554.2283
B50: אסיסטנט ב' | F50: =$F$20 -> מעודכן לינואר 2021 | J50: אסיסטנט א' | N50: =$F$20 -> מעודכן לינואר 2021
B51: שנות ותק | C51: שכר משולב כולל ותק | D51: תוספת אקדמית (ניידות, ביגוד, טלפון) | E51: סך הכול שכר ללא תוספת שחיקה | F51: תוספת שחיקה | J51: שנות ותק | K51: שכר משולב כולל ותק | L51: תוספת אקדמית (ניידות, ביגוד, טלפון) | M51: סך הכול שכר ללא תוספת שחיקה | N51: תוספת שחיקה
B52: 0 | C52: 6794.7995 | D52: 2126.3272 | E52: =SUM($C52:$D52) -> 8921.1267 | F52: 1263.1986 | J52: 0 | K52: 6144.3817 | L52: 2110.3221 | M52: =SUM($K52:$L52) -> 8254.7037 | N52: 1169.8993
B53: 1 | C53: 6857.6701 | D53: =$D$52 -> 2126.3272 | E53: =SUM($C53:$D53) -> 8983.9973 | F53: 1272.0004 | J53: 1 | K53: 6200.3329 | L53: =$L$52 -> 2110.3221 | M53: =SUM($K53:$L53) -> 8310.6549 | N53: 1177.7325
B54: 2 | C54: 6920.6599 | D54: =$D$52 -> 2126.3272 | E54: =SUM($C54:$D54) -> 9046.9871 | F54: 1280.819 | J54: 2 | K54: 6256.1648 | L54: =$L$52 -> 2110.3221 | M54: =SUM($K54:$L54) -> 8366.4868 | N54: 1185.549
B55: 3 | C55: 6983.6498 | D55: =$D$52 -> 2126.3272 | E55: =SUM($C55:$D55) -> 9109.977 | F55: 1289.6376 | J55: 3 | K55: 6312.116 | L55: =$L$52 -> 2110.3221 | M55: =SUM($K55:$L55) -> 8422.438 | N55: 1193.3821
B56: 4 | C56: 7046.5203 | D56: =$D$52 -> 2126.3272 | E56: =SUM($C56:$D56) -> 9172.8475 | F56: 1298.4395 | J56: 4 | K56: 6368.0672 | L56: =$L$52 -> 2110.3221 | M56: =SUM($K56:$L56) -> 8478.3892 | N56: 1201.2153
B57: 5 | C57: 7109.5102 | D57: =$D$52 -> 2126.3272 | E57: =SUM($C57:$D57) -> 9235.8374 | F57: 1307.258 | J57: 5 | K57: 6423.8991 | L57: =$L$52 -> 2110.3221 | M57: =SUM($K57:$L57) -> 8534.2212 | N57: 1209.0318
B58: 6 | C58: 7172.5 | D58: =$D$52 -> 2126.3272 | E58: =SUM($C58:$D58) -> 9298.8272 | F58: 1316.0766 | J58: 6 | K58: 6479.8503 | L58: =$L$52 -> 2110.3221 | M58: =SUM($K58:$L58) -> 8590.1724 | N58: 1216.8649
...

Sheet ספטמבר 2021
A1: לוחות שכר באוניברסיטאות - סגל אקדמי זוטר, עמיתי הוראה ומורים מן החוץ
A2: פעימה חמישית בגין הסכם השכר עם הסגל האקדמי הזוטר באוניברסיטאות, החל מ-1.9.2021
B5: מורה משנה ב' | F5: מעודכן לספטמבר 2021 | J5: מורה משנה א' | N5: =$F$5 -> מעודכן לספטמבר 2021
B6: שנות ותק | C6: שכר משולב כולל ותק | D6: תוספת אקדמית (ניידות, ביגוד, טלפון) | E6: סך הכול שכר ללא תוספת שחיקה | F6: תוספת שחיקה | J6: שנות ותק | K6: שכר משולב כולל ותק | L6: תוספת אקדמית (ניידות, ביגוד, טלפון) | M6: סך הכול שכר ללא תוספת שחיקה | N6: תוספת שחיקה
B7: 0 | C7: 7260.8526 | D7: 2291.7646 | E7: 9552.6172 | F7: 1337.3664 | J7: 0 | K7: 6156.6812 | L7: 2258.0446 | M7: 8414.7258 | N7: 1178.0616
B8: 1 | C8: 7332.8471 | D8: 2291.7646 | E8: 9624.6117 | F8: 1347.4456 | J8: 1 | K8: 6216.5489 | L8: 2258.0446 | M8: 8474.5935 | N8: 1186.4431
B9: 2 | C9: 7404.714 | D9: 2291.7646 | E9: 9696.4786 | F9: 1357.507 | J9: 2 | K9: 6276.2891 | L9: 2258.0446 | M9: 8534.3337 | N9: 1194.8067
B10: 3 | C10: 7476.7085 | D10: 2291.7646 | E10: 9768.4731 | F10: 1367.5862 | J10: 3 | K10: 6336.1569 | L10: 2258.0446 | M10: 8594.2015 | N10: 1203.1882
B11: 4 | C11: 7548.703 | D11: 2291.7646 | E11: 9840.4676 | F11: 1377.6655 | J11: 4 | K11: 6396.0247 | L11: 2258.0446 | M11: 8654.0693 | N11: 1211.5697
B12: 5 | C12: 7620.6976 | D12: 2291.7646 | E12: 9912.4622 | F12: 1387.7447 | J12: 5 | K12: 6455.7648 | L12: 2258.0446 | M12: 8713.8094 | N12: 1219.9333
B13: 6 | C13: 7692.6921 | D13: 2291.7646 | E13: 9984.4567 | F13: 1397.8239 | J13: 6 | K13: 6515.6326 | L13: 2258.0446 | M13: 8773.6772 | N13: 1228.3148
B14: 7 | C14: 7764.6866 | D14: 2291.7646 | E14: 10056.451 | F14: 1407.9032 | J14: 7 | K14: 6575.3727 | L14: 2258.0446 | M14: 8833.4173 | N14: 1236.6784
B15: 8 | C15: 7836.6812 | D15: 2291.7646 | E15: 10128.446 | F15: 1417.9824 | J15: 8 | K15: 6635.2405 | L15: 2258.0446 | M15: 8893.2851 | N15: 1245.0599
B16: 9 | C16: 7908.6757 | D16: 2291.7646 | E16: 10200.44 | F16: 1428.0616 | J16: 9 | K16: 6695.1083 | L16: 2258.0446 | M16: 8953.1529 | N16: 1253.4414
B17: 10 | C17: 7980.6702 | D17: 2291.7646 | E17: 10272.435 | F17: 1438.1409 | J17: 10 | K17: 6754.8485 | L17: 2258.0446 | M17: 9012.8931 | N17: 1261.805
B20: מדריך ד"ר | F20: =$F$5 -> מעודכן לספטמבר 2021 | J20: מדריך | N20: =$F$20 -> מעודכן לספטמבר 2021
B21: שנות ותק | C21: שכר משולב כולל ותק | D21: תוספת אקדמית (ניידות, ביגוד, טלפון) | E21: סך הכול שכר ללא תוספת שחיקה | F21: תוספת שחיקה | J21: שנות ותק | K21: שכר משולב כולל ותק | L21: תוספת אקדמית (ניידות, ביגוד, טלפון) | M21: סך הכול שכר ללא תוספת שחיקה | N21: תוספת שחיקה
B22: 0 | C22: 7738.8103 | D22: 2158.5856 | E22: =SUM($C22:$D22) -> 9897.3959 | F22: 1402.2822 | J22: 0 | K22: 7242.2881 | L22: 2141.8361 | M22: =SUM($K22:$L22) -> 9384.1241 | N22: 1330.4242
B23: 1 | C23: 7806.0949 | D23: =$D$22 -> 2158.5856 | E23: =SUM($C23:$D23) -> 9964.6805 | F23: 1411.7021 | J23: 1 | K23: 7309.5727 | L23: =$L$22 -> 2141.8361 | M23: =SUM($K23:$L23) -> 9451.4087 | N23: 1339.844
B24: 2 | C24: 7873.3795 | D24: =$D$22 -> 2158.5856 | E24: =SUM($C24:$D24) -> 10031.965 | F24: 1421.1219 | J24: 2 | K24: 7376.738 | L24: =$L$22 -> 2141.8361 | M24: =SUM($K24:$L24) -> 9518.5741 | N24: 1349.2472
B25: 3 | C25: 7940.5448 | D25: =$D$22 -> 2158.5856 | E25: =SUM($C25:$D25) -> 10099.13 | F25: 1430.5251 | J25: 3 | K25: 7444.0226 | L25: =$L$22 -> 2141.8361 | M25: =SUM($K25:$L25) -> 9585.8587 | N25: 1358.667
B26: 4 | C26: 8007.8294 | D26: =$D$22 -> 2158.5856 | E26: =SUM($C26:$D26) -> 10166.415 | F26: 1439.9449 | J26: 4 | K26: 7511.3072 | L26: =$L$22 -> 2141.8361 | M26: =SUM($K26:$L26) -> 9653.1433 | N26: 1368.0869
B27: 5 | C27: 8075.114 | D27: =$D$22 -> 2158.5856 | E27: =SUM($C27:$D27) -> 10233.7 | F27: 1449.3648 | J27: 5 | K27: 7578.5918 | L27: =$L$22 -> 2141.8361 | M27: =SUM($K27:$L27) -> 9720.4279 | N27: 1377.5067
B28: 6 | C28: 8142.3986 | D28: =$D$22 -> 2158.5856 | E28: =SUM($C28:$D28) -> 10300.984 | F28: 1458.7846 | J28: 6 | K28: 7645.8764 | L28: =$L$22 -> 2141.8361 | M28: =SUM($K28:$L28) -> 9787.7125 | N28: 1386.9265
B29: 7 | C29: 8209.6832 | D29: =$D$22 -> 2158.5856 | E29: =SUM($C29:$D29) -> 10368.269 | F29: 1468.2044 | J29: 7 | K29: 7713.161 | L29: =$L$22 -> 2141.8361 | M29: =SUM($K29:$L29) -> 9854.9971 | N29: 1396.3464
B30: 8 | C30: 8276.9679 | D30: =$D$22 -> 2158.5856 | E30: =SUM($C30:$D30) -> 10435.553 | F30: 1477.6243 | J30: 8 | K30: 7780.4456 | L30: =$L$22 -> 2141.8361 | M30: =SUM($K30:$L30) -> 9922.2817 | N30: 1405.7662
B31: 9 | C31: 8344.2525 | D31: =$D$22 -> 2158.5856 | E31: =SUM($C31:$D31) -> 10502.838 | F31: 1487.0441 | J31: 9 | K31: 7847.7302 | L31: =$L$22 -> 2141.8361 | M31: =SUM($K31:$L31) -> 9989.5663 | N31: 1415.1861
B32: 10 | C32: 8411.5371 | D32: =$D$22 -> 2158.5856 | E32: =SUM($C32:$D32) -> 10570.123 | F32: 1496.464 | J32: 10 | K32: 7915.0148 | L32: =$L$22 -> 2141.8361 | M32: =SUM($K32:$L32) -> 10056.851 | N32: 1424.6059
B33: 11 | C33: 8478.8217 | D33: =$D$22 -> 2158.5856 | E33: =SUM($C33:$D33) -> 10637.407 | F33: 1505.8838 | J33: 11 | K33: 7982.1801 | L33: =$L$22 -> 2141.8361 | M33: =SUM($K33:$L33) -> 10124.016 | N33: 1434.0091
B34: 12 | C34: 8545.987 | D34: =$D$22 -> 2158.5856 | E34: =SUM($C34:$D34) -> 10704.573 | F34: 1515.287 | J34: 12 | K34: 8049.4648 | L34: =$L$22 -> 2141.8361 | M34: =SUM($K34:$L34) -> 10191.301 | N34: 1443.4289
... B47: 25 | C47: 9420.5676 | D47: =$D$22 -> 2158.5856 | E47: =SUM($C47:$D47) -> 11579.153 | F47: 1637.7283 | J47: 25 | K47: 8924.0454 | L47: =$L$22 -> 2141.8361 | M47: =SUM($K47:$L47) -> 11065.881 | N47: 1565.8702
B50: אסיסטנט ב' | F50: =$F$20 -> מעודכן לספטמבר 2021 | J50: אסיסטנט א' | N50: =$F$20 -> מעודכן לספטמבר 2021
B51: שנות ותק | C51: שכר משולב כולל ותק | D51: תוספת אקדמית (ניידות, ביגוד, טלפון) | E51: סך הכול שכר ללא תוספת שחיקה | F51: תוספת שחיקה | J51: שנות ותק | K51: שכר משולב כולל ותק | L51: תוספת אקדמית (ניידות, ביגוד, טלפון) | M51: סך הכול שכר ללא תוספת שחיקה | N51: תוספת שחיקה
B52: 0 | C52: 6860.77 | D52: 2126.3272 | E52: =SUM($C52:$D52) -> 8987.0972 | F52: 1274.8404 | J52: 0 | K52: 6210.3522 | L52: 2110.3221 | M52: =SUM($K52:$L52) -> 8320.6742 | N52: 1181.5412
B53: 1 | C53: 6923.6406 | D53: =$D$52 -> 2126.3272 | E53: =SUM($C53:$D53) -> 9049.9678 | F53: 1283.6423 | J53: 1 | K53: 6266.3034 | L53: =$L$52 -> 2110.3221 | M53: =SUM($K53:$L53) -> 8376.6254 | N53: 1189.3744
B54: 2 | C54: 6986.6304 | D54: =$D$52 -> 2126.3272 | E54: =SUM($C54:$D54) -> 9112.9576 | F54: 1292.4609 | J54: 2 | K54: 6322.1353 | L54: =$L$52 -> 2110.3221 | M54: =SUM($K54:$L54) -> 8432.4573 | N54: 1197.1908
B55: 3 | C55: 7049.6203 | D55: =$D$52 -> 2126.3272 | E55: =SUM($C55:$D55) -> 9175.9475 | F55: 1301.2794 | J55: 3 | K55: 6378.0865 | L55: =$L$52 -> 2110.3221 | M55: =SUM($K55:$L55) -> 8488.4085 | N55: 1205.024
B56: 4 | C56: 7112.4908 | D56: =$D$52 -> 2126.3272 | E56: =SUM($C56:$D56) -> 9238.818 | F56: 1310.0813 | J56: 4 | K56: 6434.0377 | L56: =$L$52 -> 2110.3221 | M56: =SUM($K56:$L56) -> 8544.3597 | N56: 1212.8572
B57: 5 | C57: 7175.4807 | D57: =$D$52 -> 2126.3272 | E57: =SUM($C57:$D57) -> 9301.8079 | F57: 1318.8999 | J57: 5 | K57: 6489.8696 | L57: =$L$52 -> 2110.3221 | M57: =SUM($K57:$L57) -> 8600.1917 | N57: 1220.6736
B58: 6 | C58: 7238.4705 | D58: =$D$52 -> 2126.3272 | E58: =SUM($C58:$D58) -> 9364.7977 | F58: 1327.7185 | J58: 6 | K58: 6545.8208 | L58: =$L$52 -> 2110.3221 | M58: =SUM($K58:$L58) -> 8656.1429 | N58: 1228.5068
...

Sheet ינואר 2022
A1: לוחות שכר באוניברסיטאות - סגל אקדמי זוטר, עמיתי הוראה ומורים מן החוץ
A2: פעימה שישית בגין הסכם השכר עם הסגל האקדמי הזוטר באוניברסיטאות, החל מ-1.1.2022
B5: מורה משנה ב' | F5: מעודכן לינואר 2022 | J5: מורה משנה א' | N5: =$F$5 -> מעודכן לינואר 2022
B6: שנות ותק | C6: שכר משולב כולל ותק | D6: תוספת אקדמית (ניידות, ביגוד, טלפון) | E6: סך הכול שכר ללא תוספת שחיקה | F6: תוספת שחיקה | J6: שנות ותק | K6: שכר משולב כולל ותק | L6: תוספת אקדמית (ניידות, ביגוד, טלפון) | M6: סך הכול שכר ללא תוספת שחיקה | N6: תוספת שחיקה
B7: 0 | C7: 7362.6402 | D7: 2323.8921 | E7: 9686.5324 | F7: 1356.1145 | J7: 0 | K7: 6242.9898 | L7: 2289.6994 | M7: 8532.6892 | N7: 1194.5765
B8: 1 | C8: 7435.644 | D8: 2323.8921 | E8: 9759.5362 | F8: 1366.3351 | J8: 1 | K8: 6303.6968 | L8: 2289.6994 | M8: 8593.3963 | N8: 1203.0755
B9: 2 | C9: 7508.5184 | D9: 2323.8921 | E9: 9832.4105 | F9: 1376.5375 | J9: 2 | K9: 6364.2744 | L9: 2289.6994 | M9: 8653.9739 | N9: 1211.5563
B10: 3 | C10: 7581.5222 | D10: 2323.8921 | E10: 9905.4143 | F10: 1386.758 | J10: 3 | K10: 6424.9815 | L10: 2289.6994 | M10: 8714.6809 | N10: 1220.0553
B11: 4 | C11: 7654.526 | D11: 2323.8921 | E11: 9978.4181 | F11: 1396.9785 | J11: 4 | K11: 6485.6886 | L11: 2289.6994 | M11: 8775.388 | N11: 1228.5543
B12: 5 | C12: 7727.5298 | D12: 2323.8921 | E12: 10051.422 | F12: 1407.1991 | J12: 5 | K12: 6546.2662 | L12: 2289.6994 | M12: 8835.9656 | N12: 1237.0352
B13: 6 | C13: 7800.5336 | D13: 2323.8921 | E13: 10124.426 | F13: 1417.4196 | J13: 6 | K13: 6606.9732 | L13: 2289.6994 | M13: 8896.6727 | N13: 1245.5342
B14: 7 | C14: 7873.5374 | D14: 2323.8921 | E14: 10197.43 | F14: 1427.6401 | J14: 7 | K14: 6667.5509 | L14: 2289.6994 | M14: 8957.2503 | N14: 1254.015
B15: 8 | C15: 7946.5412 | D15: 2323.8921 | E15: 10270.433 | F15: 1437.8607 | J15: 8 | K15: 6728.2579 | L15: 2289.6994 | M15: 9017.9574 | N15: 1262.514
B16: 9 | C16: 8019.545 | D16: 2323.8921 | E16: 10343.437 | F16: 1448.0812 | J16: 9 | K16: 6788.965 | L16: 2289.6994 | M16: 9078.6644 | N16: 1271.013
B17: 10 | C17: 8092.5488 | D17: 2323.8921 | E17: 10416.441 | F17: 1458.3017 | J17: 10 | K17: 6849.5426 | L17: 2289.6994 | M17: 9139.242 | N17: 1279.4939
B20: מדריך ד"ר | F20: =$F$5 -> מעודכן לינואר 2022 | J20: מדריך | N20: =$F$20 -> מעודכן לינואר 2022
B21: שנות ותק | C21: שכר משולב כולל ותק | D21: תוספת אקדמית (ניידות, ביגוד, טלפון) | E21: סך הכול שכר ללא תוספת שחיקה | F21: תוספת שחיקה | J21: שנות ותק | K21: שכר משולב כולל ותק | L21: תוספת אקדמית (ניידות, ביגוד, טלפון) | M21: סך הכול שכר ללא תוספת שחיקה | N21: תוספת שחיקה
B22: 0 | C22: 7836.8745 | D22: 2158.5856 | E22: =SUM($C22:$D22) -> 9995.4602 | F22: 1419.5877 | J22: 0 | K22: 7340.3523 | L22: 2141.8361 | M22: =SUM($K22:$L22) -> 9482.1884 | N22: 1347.7296
B23: 1 | C23: 7904.1592 | D23: =$D$22 -> 2158.5856 | E23: =SUM($C23:$D23) -> 10062.745 | F23: 1429.0075 | J23: 1 | K23: 7407.6369 | L23: =$L$22 -> 2141.8361 | M23: =SUM($K23:$L23) -> 9549.473 | N23: 1357.1495
B24: 2 | C24: 7971.4438 | D24: =$D$22 -> 2158.5856 | E24: =SUM($C24:$D24) -> 10130.029 | F24: 1438.4274 | J24: 2 | K24: 7474.8022 | L24: =$L$22 -> 2141.8361 | M24: =SUM($K24:$L24) -> 9616.6383 | N24: 1366.5526
B25: 3 | C25: 8038.6091 | D25: =$D$22 -> 2158.5856 | E25: =SUM($C25:$D25) -> 10197.195 | F25: 1447.8305 | J25: 3 | K25: 7542.0868 | L25: =$L$22 -> 2141.8361 | M25: =SUM($K25:$L25) -> 9683.9229 | N25: 1375.9725
B26: 4 | C26: 8105.8937 | D26: =$D$22 -> 2158.5856 | E26: =SUM($C26:$D26) -> 10264.479 | F26: 1457.2504 | J26: 4 | K26: 7609.3715 | L26: =$L$22 -> 2141.8361 | M26: =SUM($K26:$L26) -> 9751.2075 | N26: 1385.3923
B27: 5 | C27: 8173.1783 | D27: =$D$22 -> 2158.5856 | E27: =SUM($C27:$D27) -> 10331.764 | F27: 1466.6702 | J27: 5 | K27: 7676.6561 | L27: =$L$22 -> 2141.8361 | M27: =SUM($K27:$L27) -> 9818.4921 | N27: 1394.8122
B28: 6 | C28: 8240.4629 | D28: =$D$22 -> 2158.5856 | E28: =SUM($C28:$D28) -> 10399.049 | F28: 1476.0901 | J28: 6 | K28: 7743.9407 | L28: =$L$22 -> 2141.8361 | M28: =SUM($K28:$L28) -> 9885.7767 | N28: 1404.232
B29: 7 | C29: 8307.7475 | D29: =$D$22 -> 2158.5856 | E29: =SUM($C29:$D29) -> 10466.333 | F29: 1485.5099 | J29: 7 | K29: 7811.2253 | L29: =$L$22 -> 2141.8361 | M29: =SUM($K29:$L29) -> 9953.0613 | N29: 1413.6519
B30: 8 | C30: 8375.0321 | D30: =$D$22 -> 2158.5856 | E30: =SUM($C30:$D30) -> 10533.618 | F30: 1494.9297 | J30: 8 | K30: 7878.5099 | L30: =$L$22 -> 2141.8361 | M30: =SUM($K30:$L30) -> 10020.346 | N30: 1423.0717
B31: 9 | C31: 8442.3167 | D31: =$D$22 -> 2158.5856 | E31: =SUM($C31:$D31) -> 10600.902 | F31: 1504.3496 | J31: 9 | K31: 7945.7945 | L31: =$L$22 -> 2141.8361 | M31: =SUM($K31:$L31) -> 10087.631 | N31: 1432.4915
B32: 10 | C32: 8509.6013 | D32: =$D$22 -> 2158.5856 | E32: =SUM($C32:$D32) -> 10668.187 | F32: 1513.7694 | J32: 10 | K32: 8013.0791 | L32: =$L$22 -> 2141.8361 | M32: =SUM($K32:$L32) -> 10154.915 | N32: 1441.9114
B33: 11 | C33: 8576.8859 | D33: =$D$22 -> 2158.5856 | E33: =SUM($C33:$D33) -> 10735.472 | F33: 1523.1893 | J33: 11 | K33: 8080.2444 | L33: =$L$22 -> 2141.8361 | M33: =SUM($K33:$L33) -> 10222.08 | N33: 1451.3145
B34: 12 | C34: 8644.0512 | D34: =$D$22 -> 2158.5856 | E34: =SUM($C34:$D34) -> 10802.637 | F34: 1532.5924 | J34: 12 | K34: 8147.529 | L34: =$L$22 -> 2141.8361 | M34: =SUM($K34:$L34) -> 10289.365 | N34: 1460.7344
... B47: 25 | C47: 9518.6318 | D47: =$D$22 -> 2158.5856 | E47: =SUM($C47:$D47) -> 11677.217 | F47: 1655.0337 | J47: 25 | K47: 9022.1096 | L47: =$L$22 -> 2141.8361 | M47: =SUM($K47:$L47) -> 11163.946 | N47: 1583.1757
B50: אסיסטנט ב' | F50: =$F$5 -> מעודכן לינואר 2022 | J50: אסיסטנט א' | N50: =$F$5 -> מעודכן לינואר 2022
B51: שנות ותק | C51: שכר משולב כולל ותק | D51: תוספת אקדמית (ניידות, ביגוד, טלפון) | E51: סך הכול שכר ללא תוספת שחיקה | F51: תוספת שחיקה | J51: שנות ותק | K51: שכר משולב כולל ותק | L51: תוספת אקדמית (ניידות, ביגוד, טלפון) | M51: סך הכול שכר ללא תוספת שחיקה | N51: תוספת שחיקה
B52: 0 | C52: 6958.8343 | D52: 2126.3272 | E52: =SUM($C52:$D52) -> 9085.1615 | F52: 1292.1459 | J52: 0 | K52: 6308.4164 | L52: 2110.3221 | M52: =SUM($K52:$L52) -> 8418.7385 | N52: 1198.8466
B53: 1 | C53: 7021.7048 | D53: =$D$52 -> 2126.3272 | E53: =SUM($C53:$D53) -> 9148.032 | F53: 1300.9477 | J53: 1 | K53: 6364.3676 | L53: =$L$52 -> 2110.3221 | M53: =SUM($K53:$L53) -> 8474.6897 | N53: 1206.6798
B54: 2 | C54: 7084.6947 | D54: =$D$52 -> 2126.3272 | E54: =SUM($C54:$D54) -> 9211.0219 | F54: 1309.7663 | J54: 2 | K54: 6420.1995 | L54: =$L$52 -> 2110.3221 | M54: =SUM($K54:$L54) -> 8530.5216 | N54: 1214.4963
B55: 3 | C55: 7147.6845 | D55: =$D$52 -> 2126.3272 | E55: =SUM($C55:$D55) -> 9274.0117 | F55: 1318.5849 | J55: 3 | K55: 6476.1507 | L55: =$L$52 -> 2110.3221 | M55: =SUM($K55:$L55) -> 8586.4728 | N55: 1222.3295
B56: 4 | C56: 7210.5551 | D56: =$D$52 -> 2126.3272 | E56: =SUM($C56:$D56) -> 9336.8823 | F56: 1327.3868 | J56: 4 | K56: 6532.1019 | L56: =$L$52 -> 2110.3221 | M56: =SUM($K56:$L56) -> 8642.424 | N56: 1230.1626
B57: 5 | C57: 7273.5449 | D57: =$D$52 -> 2126.3272 | E57: =SUM($C57:$D57) -> 9399.8721 | F57: 1336.2054 | J57: 5 | K57: 6587.9339 | L57: =$L$52 -> 2110.3221 | M57: =SUM($K57:$L57) -> 8698.2559 | N57: 1237.9791
B58: 6 | C58: 7336.5348 | D58: =$D$52 -> 2126.3272 | E58: =SUM($C58:$D58) -> 9462.862 | F58: 1345.0239 | J58: 6 | K58: 6643.8851 | L58: =$L$52 -> 2110.3221 | M58: =SUM($K58:$L58) -> 8754.2071 | N58: 1245.8123
...

Sheet ספטמבר 2022
A1: לוחות שכר באוניברסיטאות - סגל אקדמי זוטר, עמיתי הוראה ומורים מן החוץ
A2: פעימה שביעית בגין הסכם השכר עם הסגל האקדמי הזוטר באוניברסיטאות, החל מ-1.9.2022
B5: מורה משנה ב' | F5: מעודכן לספטמבר 2022 | J5: מורה משנה א' | N5: =$F$5 -> מעודכן לספטמבר 2022
B6: שנות ותק | C6: שכר משולב כולל ותק | D6: תוספת אקדמית (ניידות, ביגוד, טלפון) | E6: סך הכול שכר ללא תוספת שחיקה | F6: תוספת שחיקה | J6: שנות ותק | K6: שכר משולב כולל ותק | L6: תוספת אקדמית (ניידות, ביגוד, טלפון) | M6: סך הכול שכר ללא תוספת שחיקה | N6: תוספת שחיקה
B7: 0 | C7: 7430.4987 | D7: 2345.3105 | E7: 9775.8092 | F7: 1368.6133 | J7: 0 | K7: 6300.5288 | L7: 2310.8027 | M7: 8611.3315 | N7: 1205.5864
B8: 1 | C8: 7504.1753 | D8: 2345.3105 | E8: 9849.4858 | F8: 1378.928 | J8: 1 | K8: 6361.7954 | L8: 2310.8027 | M8: 8672.5981 | N8: 1214.1637
B9: 2 | C9: 7577.7213 | D9: 2345.3105 | E9: 9923.0318 | F9: 1389.2245 | J9: 2 | K9: 6422.9314 | L9: 2310.8027 | M9: 8733.734 | N9: 1222.7228
B10: 3 | C10: 7651.398 | D10: 2345.3105 | E10: 9996.7085 | F10: 1399.5392 | J10: 3 | K10: 6484.1979 | L10: 2310.8027 | M10: 8795.0006 | N10: 1231.3001
B11: 4 | C11: 7725.0746 | D11: 2345.3105 | E11: 10070.385 | F11: 1409.8539 | J11: 4 | K11: 6545.4645 | L11: 2310.8027 | M11: 8856.2672 | N11: 1239.8774
B12: 5 | C12: 7798.7513 | D12: 2345.3105 | E12: 10144.062 | F12: 1420.1686 | J12: 5 | K12: 6606.6004 | L12: 2310.8027 | M12: 8917.4031 | N12: 1248.4364
B13: 6 | C13: 7872.4279 | D13: 2345.3105 | E13: 10217.738 | F13: 1430.4834 | J13: 6 | K13: 6667.867 | L13: 2310.8027 | M13: 8978.6697 | N13: 1257.0138
B14: 7 | C14: 7946.1045 | D14: 2345.3105 | E14: 10291.415 | F14: 1440.7981 | J14: 7 | K14: 6729.0029 | L14: 2310.8027 | M14: 9039.8056 | N14: 1265.5728
B15: 8 | C15: 8019.7812 | D15: 2345.3105 | E15: 10365.092 | F15: 1451.1128 | J15: 8 | K15: 6790.2695 | L15: 2310.8027 | M15: 9101.0722 | N15: 1274.1501
B16: 9 | C16: 8093.4578 | D16: 2345.3105 | E16: 10438.768 | F16: 1461.4276 | J16: 9 | K16: 6851.5361 | L16: 2310.8027 | M16: 9162.3387 | N16: 1282.7274
B17: 10 | C17: 8167.1345 | D17: 2345.3105 | E17: 10512.445 | F17: 1471.7423 | J17: 10 | K17: 6912.672 | L17: 2310.8027 | M17: 9223.4747 | N17: 1291.2865
B20: מדריך ד"ר | F20: =$F$5 -> מעודכן לספטמבר 2022 | J20: מדריך | N20: =$F$5 -> מעודכן לספטמבר 2022
B21: שנות ותק | C21: שכר משולב כולל ותק | D21: תוספת אקדמית (ניידות, ביגוד, טלפון) | E21: סך הכול שכר ללא תוספת שחיקה | F21: תוספת שחיקה | J21: שנות ותק | K21: שכר משולב כולל ותק | L21: תוספת אקדמית (ניידות, ביגוד, טלפון) | M21: סך הכול שכר ללא תוספת שחיקה | N21: תוספת שחיקה
B22: 0 | C22: 7902.845 | D22: 2158.5856 | E22: =SUM($C22:$D22) -> 10061.431 | F22: 1431.2295 | J22: 0 | K22: 7406.3228 | L22: 2141.8361 | M22: =SUM($K22:$L22) -> 9548.1589 | N22: 1359.3715
B23: 1 | C23: 7970.1297 | D23: =$D$22 -> 2158.5856 | E23: =SUM($C23:$D23) -> 10128.715 | F23: 1440.6494 | J23: 1 | K23: 7473.6074 | L23: =$L$22 -> 2141.8361 | M23: =SUM($K23:$L23) -> 9615.4435 | N23: 1368.7913
B24: 2 | C24: 8037.4143 | D24: =$D$22 -> 2158.5856 | E24: =SUM($C24:$D24) -> 10196 | F24: 1450.0692 | J24: 2 | K24: 7540.7727 | L24: =$L$22 -> 2141.8361 | M24: =SUM($K24:$L24) -> 9682.6088 | N24: 1378.1945
B25: 3 | C25: 8104.5796 | D25: =$D$22 -> 2158.5856 | E25: =SUM($C25:$D25) -> 10263.165 | F25: 1459.4724 | J25: 3 | K25: 7608.0573 | L25: =$L$22 -> 2141.8361 | M25: =SUM($K25:$L25) -> 9749.8934 | N25: 1387.6143
B26: 4 | C26: 8171.8642 | D26: =$D$22 -> 2158.5856 | E26: =SUM($C26:$D26) -> 10330.45 | F26: 1468.8922 | J26: 4 | K26: 7675.342 | L26: =$L$22 -> 2141.8361 | M26: =SUM($K26:$L26) -> 9817.178 | N26: 1397.0342
B27: 5 | C27: 8239.1488 | D27: =$D$22 -> 2158.5856 | E27: =SUM($C27:$D27) -> 10397.734 | F27: 1478.3121 | J27: 5 | K27: 7742.6266 | L27: =$L$22 -> 2141.8361 | M27: =SUM($K27:$L27) -> 9884.4626 | N27: 1406.454
B28: 6 | C28: 8306.4334 | D28: =$D$22 -> 2158.5856 | E28: =SUM($C28:$D28) -> 10465.019 | F28: 1487.7319 | J28: 6 | K28: 7809.9112 | L28: =$L$22 -> 2141.8361 | M28: =SUM($K28:$L28) -> 9951.7472 | N28: 1415.8739
B29: 7 | C29: 8373.718 | D29: =$D$22 -> 2158.5856 | E29: =SUM($C29:$D29) -> 10532.304 | F29: 1497.1518 | J29: 7 | K29: 7877.1958 | L29: =$L$22 -> 2141.8361 | M29: =SUM($K29:$L29) -> 10019.032 | N29: 1425.2937
B30: 8 | C30: 8441.0026 | D30: =$D$22 -> 2158.5856 | E30: =SUM($C30:$D30) -> 10599.588 | F30: 1506.5716 | J30: 8 | K30: 7944.4804 | L30: =$L$22 -> 2141.8361 | M30: =SUM($K30:$L30) -> 10086.316 | N30: 1434.7135
B31: 9 | C31: 8508.2872 | D31: =$D$22 -> 2158.5856 | E31: =SUM($C31:$D31) -> 10666.873 | F31: 1515.9914 | J31: 9 | K31: 8011.765 | L31: =$L$22 -> 2141.8361 | M31: =SUM($K31:$L31) -> 10153.601 | N31: 1444.1334
B32: 10 | C32: 8575.5718 | D32: =$D$22 -> 2158.5856 | E32: =SUM($C32:$D32) -> 10734.157 | F32: 1525.4113 | J32: 10 | K32: 8079.0496 | L32: =$L$22 -> 2141.8361 | M32: =SUM($K32:$L32) -> 10220.886 | N32: 1453.5532
B33: 11 | C33: 8642.8564 | D33: =$D$22 -> 2158.5856 | E33: =SUM($C33:$D33) -> 10801.442 | F33: 1534.8311 | J33: 11 | K33: 8146.2149 | L33: =$L$22 -> 2141.8361 | M33: =SUM($K33:$L33) -> 10288.051 | N33: 1462.9564
B34: 12 | C34: 8710.0217 | D34: =$D$22 -> 2158.5856 | E34: =SUM($C34:$D34) -> 10868.607 | F34: 1544.2343 | J34: 12 | K34: 8213.4995 | L34: =$L$22 -> 2141.8361 | M34: =SUM($K34:$L34) -> 10355.336 | N34: 1472.3762
... B47: 25 | C47: 9584.6023 | D47: =$D$22 -> 2158.5856 | E47: =SUM($C47:$D47) -> 11743.188 | F47: 1666.6756 | J47: 25 | K47: 9088.0801 | L47: =$L$22 -> 2141.8361 | M47: =SUM($K47:$L47) -> 11229.916 | N47: 1594.8175
B50: אסיסטנט ב' | F50: =$F$5 -> מעודכן לספטמבר 2022 | J50: אסיסטנט א' | N50: =$F$5 -> מעודכן לספטמבר 2022
B51: שנות ותק | C51: שכר משולב כולל ותק | D51: תוספת אקדמית (ניידות, ביגוד, טלפון) | E51: סך הכול שכר ללא תוספת שחיקה | F51: תוספת שחיקה | J51: שנות ותק | K51: שכר משולב כולל ותק | L51: תוספת אקדמית (ניידות, ביגוד, טלפון) | M51: סך הכול שכר ללא תוספת שחיקה | N51: תוספת שחיקה
B52: 0 | C52: 7024.8048 | D52: 2126.3272 | E52: =SUM($C52:$D52) -> 9151.132 | F52: 1303.7877 | J52: 0 | K52: 6374.3869 | L52: 2110.3221 | M52: =SUM($K52:$L52) -> 8484.709 | N52: 1210.4885
B53: 1 | C53: 7087.6753 | D53: =$D$52 -> 2126.3272 | E53: =SUM($C53:$D53) -> 9214.0025 | F53: 1312.5896 | J53: 1 | K53: 6430.3381 | L53: =$L$52 -> 2110.3221 | M53: =SUM($K53:$L53) -> 8540.6602 | N53: 1218.3217
B54: 2 | C54: 7150.6652 | D54: =$D$52 -> 2126.3272 | E54: =SUM($C54:$D54) -> 9276.9924 | F54: 1321.4082 | J54: 2 | K54: 6486.17 | L54: =$L$52 -> 2110.3221 | M54: =SUM($K54:$L54) -> 8596.4921 | N54: 1226.1381
B55: 3 | C55: 7213.655 | D55: =$D$52 -> 2126.3272 | E55: =SUM($C55:$D55) -> 9339.9822 | F55: 1330.2268 | J55: 3 | K55: 6542.1212 | L55: =$L$52 -> 2110.3221 | M55: =SUM($K55:$L55) -> 8652.4433 | N55: 1233.9713
B56: 4 | C56: 7276.5256 | D56: =$D$52 -> 2126.3272 | E56: =SUM($C56:$D56) -> 9402.8528 | F56: 1339.0286 | J56: 4 | K56: 6598.0724 | L56: =$L$52 -> 2110.3221 | M56: =SUM($K56:$L56) -> 8708.3945 | N56: 1241.8045
B57: 5 | C57: 7339.5154 | D57: =$D$52 -> 2126.3272 | E57: =SUM($C57:$D57) -> 9465.8426 | F57: 1347.8472 | J57: 5 | K57: 6653.9044 | L57: =$L$52 -> 2110.3221 | M57: =SUM($K57:$L57) -> 8764.2264 | N57: 1249.6209
B58: 6 | C58: 7402.5053 | D58: =$D$52 -> 2126.3272 | E58: =SUM($C58:$D58) -> 9528.8325 | F58: 1356.6658 | J58: 6 | K58: 6709.8556 | L58: =$L$52 -> 2110.3221 | M58: =SUM($K58:$L58) -> 8820.1776 | N58: 1257.4541
...

Sheet ינואר 2023
A1: לוחות שכר באוניברסיטאות - סגל אקדמי זוטר, עמיתי הוראה ומורים מן החוץ
A2: פעימה שמינית בגין הסכם השכר עם הסגל האקדמי הזוטר באוניברסיטאות, החל מ-1.1.2023
B5: מורה משנה ב' | F5: מעודכן לינואר 2023 | J5: מורה משנה א' | N5: =$F$5 -> מעודכן לינואר 2023
B6: שנות ותק | C6: שכר משולב כולל ותק | D6: תוספת אקדמית (ניידות, ביגוד, טלפון) | E6: סך הכול שכר ללא תוספת שחיקה | F6: תוספת שחיקה | J6: שנות ותק | K6: שכר משולב כולל ותק | L6: תוספת אקדמית (ניידות, ביגוד, טלפון) | M6: סך הכול שכר ללא תוספת שחיקה | N6: תוספת שחיקה
B7: 0 | C7: 7464.4279 | D7: 2356.0197 | E7: 9820.4476 | F7: 1374.8627 | J7: 0 | K7: 6329.2984 | L7: 2321.3543 | M7: 8650.6526 | N7: 1211.0914
B8: 1 | C8: 7538.441 | D8: 2356.0197 | E8: 9894.4606 | F8: 1385.2245 | J8: 1 | K8: 6390.8447 | L8: 2321.3543 | M8: 8712.199 | N8: 1219.7079
B9: 2 | C9: 7612.3228 | D9: 2356.0197 | E9: 9968.3425 | F9: 1395.5679 | J9: 2 | K9: 6452.2598 | L9: 2321.3543 | M9: 8773.6141 | N9: 1228.306
B10: 3 | C10: 7686.3359 | D10: 2356.0197 | E10: 10042.356 | F10: 1405.9298 | J10: 3 | K10: 6513.8061 | L10: 2321.3543 | M10: 8835.1604 | N10: 1236.9225
B11: 4 | C11: 7760.3489 | D11: 2356.0197 | E11: 10116.369 | F11: 1416.2916 | J11: 4 | K11: 6575.3525 | L11: 2321.3543 | M11: 8896.7067 | N11: 1245.5389
B12: 5 | C12: 7834.362 | D12: 2356.0197 | E12: 10190.382 | F12: 1426.6534 | J12: 5 | K12: 6636.7676 | L12: 2321.3543 | M12: 8958.1218 | N12: 1254.1371
B13: 6 | C13: 7908.3751 | D13: 2356.0197 | E13: 10264.395 | F13: 1437.0153 | J13: 6 | K13: 6698.3139 | L13: 2321.3543 | M13: 9019.6682 | N13: 1262.7535
B14: 7 | C14: 7982.3881 | D14: 2356.0197 | E14: 10338.408 | F14: 1447.3771 | J14: 7 | K14: 6759.729 | L14: 2321.3543 | M14: 9081.0833 | N14: 1271.3517
B15: 8 | C15: 8056.4012 | D15: 2356.0197 | E15: 10412.421 | F15: 1457.7389 | J15: 8 | K15: 6821.2753 | L15: 2321.3543 | M15: 9142.6296 | N15: 1279.9681
B16: 9 | C16: 8130.4143 | D16: 2356.0197 | E16: 10486.434 | F16: 1468.1008 | J16: 9 | K16: 6882.8216 | L16: 2321.3543 | M16: 9204.1759 | N16: 1288.5846
B17: 10 | C17: 8204.4273 | D17: 2356.0197 | E17: 10560.447 | F17: 1478.4626 | J17: 10 | K17: 6944.2367 | L17: 2321.3543 | M17: 9265.591 | N17: 1297.1827
B20: מדריך ד"ר | F20: =$F$5 -> מעודכן לינואר 2023 | J20: מדריך | N20: =$F$5 -> מעודכן לינואר 2023
B21: שנות ותק | C21: שכר משולב כולל ותק | D21: תוספת אקדמית (ניידות, ביגוד, טלפון) | E21: סך הכול שכר ללא תוספת שחיקה | F21: תוספת שחיקה | J21: שנות ותק | K21: שכר משולב כולל ותק | L21: תוספת אקדמית (ניידות, ביגוד, טלפון) | M21: סך הכול שכר ללא תוספת שחיקה | N21: תוספת שחיקה
B22: 0 | C22: 7933.1558 | D22: 2158.5856 | E22: =SUM($C22:$D22) -> 10091.741 | F22: 1436.5785 | J22: 0 | K22: 7436.6336 | L22: 2141.8361 | M22: =SUM($K22:$L22) -> 9578.4697 | N22: 1364.7204
B23: 1 | C23: 8000.4404 | D23: =$D$22 -> 2158.5856 | E23: =SUM($C23:$D23) -> 10159.026 | F23: 1445.9983 | J23: 1 | K23: 7503.9182 | L23: =$L$22 -> 2141.8361 | M23: =SUM($K23:$L23) -> 9645.7543 | N23: 1374.1403
B24: 2 | C24: 8067.725 | D24: =$D$22 -> 2158.5856 | E24: =SUM($C24:$D24) -> 10226.311 | F24: 1455.4182 | J24: 2 | K24: 7571.0835 | L24: =$L$22 -> 2141.8361 | M24: =SUM($K24:$L24) -> 9712.9196 | N24: 1383.5434
B25: 3 | C25: 8134.8903 | D25: =$D$22 -> 2158.5856 | E25: =SUM($C25:$D25) -> 10293.476 | F25: 1464.8213 | J25: 3 | K25: 7638.3681 | L25: =$L$22 -> 2141.8361 | M25: =SUM($K25:$L25) -> 9780.2042 | N25: 1392.9633
B26: 4 | C26: 8202.1749 | D26: =$D$22 -> 2158.5856 | E26: =SUM($C26:$D26) -> 10360.761 | F26: 1474.2412 | J26: 4 | K26: 7705.6527 | L26: =$L$22 -> 2141.8361 | M26: =SUM($K26:$L26) -> 9847.4888 | N26: 1402.3831
B27: 5 | C27: 8269.4596 | D27: =$D$22 -> 2158.5856 | E27: =SUM($C27:$D27) -> 10428.045 | F27: 1483.661 | J27: 5 | K27: 7772.9373 | L27: =$L$22 -> 2141.8361 | M27: =SUM($K27:$L27) -> 9914.7734 | N27: 1411.803
B28: 6 | C28: 8336.7442 | D28: =$D$22 -> 2158.5856 | E28: =SUM($C28:$D28) -> 10495.33 | F28: 1493.0809 | J28: 6 | K28: 7840.2219 | L28: =$L$22 -> 2141.8361 | M28: =SUM($K28:$L28) -> 9982.058 | N28: 1421.2228
B29: 7 | C29: 8404.0288 | D29: =$D$22 -> 2158.5856 | E29: =SUM($C29:$D29) -> 10562.614 | F29: 1502.5007 | J29: 7 | K29: 7907.5065 | L29: =$L$22 -> 2141.8361 | M29: =SUM($K29:$L29) -> 10049.343 | N29: 1430.6427
B30: 8 | C30: 8471.3134 | D30: =$D$22 -> 2158.5856 | E30: =SUM($C30:$D30) -> 10629.899 | F30: 1511.9206 | J30: 8 | K30: 7974.7912 | L30: =$L$22 -> 2141.8361 | M30: =SUM($K30:$L30) -> 10116.627 | N30: 1440.0625
B31: 9 | C31: 8538.598 | D31: =$D$22 -> 2158.5856 | E31: =SUM($C31:$D31) -> 10697.184 | F31: 1521.3404 | J31: 9 | K31: 8042.0758 | L31: =$L$22 -> 2141.8361 | M31: =SUM($K31:$L31) -> 10183.912 | N31: 1449.4824
B32: 10 | C32: 8605.8826 | D32: =$D$22 -> 2158.5856 | E32: =SUM($C32:$D32) -> 10764.468 | F32: 1530.7602 | J32: 10 | K32: 8109.3604 | L32: =$L$22 -> 2141.8361 | M32: =SUM($K32:$L32) -> 10251.196 | N32: 1458.9022
B33: 11 | C33: 8673.1672 | D33: =$D$22 -> 2158.5856 | E33: =SUM($C33:$D33) -> 10831.753 | F33: 1540.1801 | J33: 11 | K33: 8176.5257 | L33: =$L$22 -> 2141.8361 | M33: =SUM($K33:$L33) -> 10318.362 | N33: 1468.3053
B34: 12 | C34: 8740.3325 | D34: =$D$22 -> 2158.5856 | E34: =SUM($C34:$D34) -> 10898.918 | F34: 1549.5832 | J34: 12 | K34: 8243.8103 | L34: =$L$22 -> 2141.8361 | M34: =SUM($K34:$L34) -> 10385.646 | N34: 1477.7252
... B47: 25 | C47: 9614.9131 | D47: =$D$22 -> 2158.5856 | E47: =SUM($C47:$D47) -> 11773.499 | F47: 1672.0245 | J47: 25 | K47: 9118.3909 | L47: =$L$22 -> 2141.8361 | M47: =SUM($K47:$L47) -> 11260.227 | N47: 1600.1665
B50: אסיסטנט ב' | F50: =$F$5 -> מעודכן לינואר 2023 | J50: אסיסטנט א' | N50: =$F$5 -> מעודכן לינואר 2023
B51: שנות ותק | C51: שכר משולב כולל ותק | D51: תוספת אקדמית (ניידות, ביגוד, טלפון) | E51: סך הכול שכר ללא תוספת שחיקה | F51: תוספת שחיקה | J51: שנות ותק | K51: שכר משולב כולל ותק | L51: תוספת אקדמית (ניידות, ביגוד, טלפון) | M51: סך הכול שכר ללא תוספת שחיקה | N51: תוספת שחיקה
B52: 0 | C52: 7055.1156 | D52: 2126.3272 | E52: =SUM($C52:$D52) -> 9181.4428 | F52: 1309.1367 | J52: 0 | K52: 6404.6977 | L52: 2110.3221 | M52: =SUM($K52:$L52) -> 8515.0197 | N52: 1215.8375
B53: 1 | C53: 7117.9861 | D53: =$D$52 -> 2126.3272 | E53: =SUM($C53:$D53) -> 9244.3133 | F53: 1317.9386 | J53: 1 | K53: 6460.6489 | L53: =$L$52 -> 2110.3221 | M53: =SUM($K53:$L53) -> 8570.9709 | N53: 1223.6706
B54: 2 | C54: 7180.9759 | D54: =$D$52 -> 2126.3272 | E54: =SUM($C54:$D54) -> 9307.3032 | F54: 1326.7571 | J54: 2 | K54: 6516.4808 | L54: =$L$52 -> 2110.3221 | M54: =SUM($K54:$L54) -> 8626.8029 | N54: 1231.4871
B55: 3 | C55: 7243.9658 | D55: =$D$52 -> 2126.3272 | E55: =SUM($C55:$D55) -> 9370.293 | F55: 1335.5757 | J55: 3 | K55: 6572.432 | L55: =$L$52 -> 2110.3221 | M55: =SUM($K55:$L55) -> 8682.7541 | N55: 1239.3203
B56: 4 | C56: 7306.8363 | D56: =$D$52 -> 2126.3272 | E56: =SUM($C56:$D56) -> 9433.1635 | F56: 1344.3776 | J56: 4 | K56: 6628.3832 | L56: =$L$52 -> 2110.3221 | M56: =SUM($K56:$L56) -> 8738.7053 | N56: 1247.1534
B57: 5 | C57: 7369.8262 | D57: =$D$52 -> 2126.3272 | E57: =SUM($C57:$D57) -> 9496.1534 | F57: 1353.1962 | J57: 5 | K57: 6684.2151 | L57: =$L$52 -> 2110.3221 | M57: =SUM($K57:$L57) -> 8794.5372 | N57: 1254.9699
B58: 6 | C58: 7432.816 | D58: =$D$52 -> 2126.3272 | E58: =SUM($C58:$D58) -> 9559.1432 | F58: 1362.0147 | J58: 6 | K58: 6740.1663 | L58: =$L$52 -> 2110.3221 | M58: =SUM($K58:$L58) -> 8850.4884 | N58: 1262.8031
...

Sheet ספטמבר 2023
A1: לוחות שכר באוניברסיטאות - סגל אקדמי זוטר, עמיתי הוראה ומורים מן החוץ
A2: פעימה תשיעית בגין הסכם השכר עם הסגל האקדמי הזוטר באוניברסיטאות, החל מ-1.9.2023
B5: מורה משנה ב' | F5: מעודכן לספטמבר 2023 | J5: מורה משנה א' | N5: =$F$5 -> מעודכן לספטמבר 2023
B6: שנות ותק | C6: שכר משולב כולל ותק | D6: תוספת אקדמית (ניידות, ביגוד, טלפון) | E6: סך הכול שכר ללא תוספת שחיקה | F6: תוספת שחיקה | J6: שנות ותק | K6: שכר משולב כולל ותק | L6: תוספת אקדמית (ניידות, ביגוד, טלפון) | M6: סך הכול שכר ללא תוספת שחיקה | N6: תוספת שחיקה
B7: 0 | C7: 7498.3571 | D7: 2366.7289 | E7: 9865.086 | F7: 1381.112 | J7: 0 | K7: 6358.0679 | L7: 2331.9059 | M7: 8689.9738 | N7: 1216.5963
B8: 1 | C8: 7572.7066 | D8: 2366.7289 | E8: 9939.4354 | F8: 1391.521 | J8: 1 | K8: 6419.894 | L8: 2331.9059 | M8: 8751.7999 | N8: 1225.252
B9: 2 | C9: 7646.9243 | D9: 2366.7289 | E9: 10013.653 | F9: 1401.9114 | J9: 2 | K9: 6481.5883 | L9: 2331.9059 | M9: 8813.4941 | N9: 1233.8892
B10: 3 | C10: 7721.2737 | D10: 2366.7289 | E10: 10088.003 | F10: 1412.3204 | J10: 3 | K10: 6543.4143 | L10: 2331.9059 | M10: 8875.3202 | N10: 1242.5448
B11: 4 | C11: 7795.6232 | D11: 2366.7289 | E11: 10162.352 | F11: 1422.7293 | J11: 4 | K11: 6605.2404 | L11: 2331.9059 | M11: 8937.1463 | N11: 1251.2005
B12: 5 | C12: 7869.9727 | D12: 2366.7289 | E12: 10236.702 | F12: 1433.1382 | J12: 5 | K12: 6666.9347 | L12: 2331.9059 | M12: 8998.8406 | N12: 1259.8377
