Workbook

Sheet ינואר 2018
A1: לוחות שכר באוניברסיטאות - סגל אקדמי זוטר, עמיתי הוראה ומורים מן החוץ
A2: פעימה ראשונה בגין הסכם השכר עם הסגל האקדמי הזוטר באוניברסיטאות, החל מ-1.1.2018
B5: מורה משנה ב' | F5: מעודכן לינואר 2018 | J5: מורה משנה א' | N5: =$F$5 -> מעודכן לינואר 2018
B6: שנות ותק | C6: שכר משולב כולל ותק | D6: תוספת אקדמית (ניידות, ביגוד, טלפון) | E6: סך הכול שכר ללא תוספת שחיקה | F6: תוספת שחיקה | J6: שנות ותק | K6: שכר משולב כולל ותק | L6: תוספת אקדמית (ניידות, ביגוד, טלפון) | M6: סך הכול שכר ללא תוספת שחיקה | N6: תוספת שחיקה
B7: 0 | C7: ₪ 6,887.63 | D7: ₪ 2,173.96 | E7: 9061.5948 | F7: ₪ 1,268.62 | J7: 0 | K7: ₪ 5,840.22 | L7: ₪ 2,141.98 | M7: ₪ 7,982.19 | N7: ₪ 1,117.51
B8: 1 | C8: ₪ 6,955.93 | D8: ₪ 2,173.96 | E8: ₪ 9,129.89 | F8: ₪ 1,278.18 | J8: 1 | K8: ₪ 5,897.01 | L8: ₪ 2,141.98 | M8: ₪ 8,038.98 | N8: ₪ 1,125.46
B9: 2 | C9: ₪ 7,024.10 | D9: ₪ 2,173.96 | E9: ₪ 9,198.06 | F9: ₪ 1,287.73 | J9: 2 | K9: ₪ 5,953.68 | L9: ₪ 2,141.98 | M9: ₪ 8,095.65 | N9: ₪ 1,133.39
B10: 3 | C10: ₪ 7,092.39 | D10: ₪ 2,173.96 | E10: ₪ 9,266.36 | F10: ₪ 1,297.29 | J10: 3 | K10: ₪ 6,010.47 | L10: ₪ 2,141.98 | M10: ₪ 8,152.44 | N10: ₪ 1,141.34
B11: 4 | C11: ₪ 7,160.69 | D11: ₪ 2,173.96 | E11: ₪ 9,334.65 | F11: ₪ 1,306.85 | J11: 4 | K11: ₪ 6,067.26 | L11: ₪ 2,141.98 | M11: ₪ 8,209.23 | N11: ₪ 1,149.29
B12: 5 | C12: ₪ 7,228.98 | D12: ₪ 2,173.96 | E12: ₪ 9,402.94 | F12: ₪ 1,316.41 | J12: 5 | K12: ₪ 6,123.93 | L12: ₪ 2,141.98 | M12: ₪ 8,265.90 | N12: ₪ 1,157.23
B13: 6 | C13: ₪ 7,297.27 | D13: ₪ 2,173.96 | E13: ₪ 9,471.24 | F13: ₪ 1,325.97 | J13: 6 | K13: ₪ 6,180.72 | L13: ₪ 2,141.98 | M13: ₪ 8,322.69 | N13: ₪ 1,165.18
B14: 7 | C14: ₪ 7,365.57 | D14: ₪ 2,173.96 | E14: ₪ 9,539.53 | F14: ₪ 1,335.53 | J14: 7 | K14: ₪ 6,237.39 | L14: ₪ 2,141.98 | M14: ₪ 8,379.36 | N14: ₪ 1,173.11
B15: 8 | C15: ₪ 7,433.86 | D15: ₪ 2,173.96 | E15: ₪ 9,607.82 | F15: ₪ 1,345.10 | J15: 8 | K15: ₪ 6,294.18 | L15: ₪ 2,141.98 | M15: ₪ 8,436.15 | N15: ₪ 1,181.06
B16: 9 | C16: ₪ 7,502.15 | D16: ₪ 2,173.96 | E16: ₪ 9,676.12 | F16: ₪ 1,354.66 | J16: 9 | K16: ₪ 6,350.97 | L16: ₪ 2,141.98 | M16: ₪ 8,492.94 | N16: ₪ 1,189.01
B17: 10 | C17: ₪ 7,570.45 | D17: ₪ 2,173.96 | E17: ₪ 9,744.41 | F17: ₪ 1,364.22 | J17: 10 | K17: ₪ 6,407.64 | L17: ₪ 2,141.98 | M17: ₪ 8,549.61 | N17: ₪ 1,196.95
B20: מדריך ד"ר | F20: =$F$5 -> מעודכן לינואר 2018 | J20: מדריך | N20: =$F$20 -> מעודכן לינואר 2018
B21: שנות ותק | C21: שכר משולב כולל ותק | D21: תוספת אקדמית (ניידות, ביגוד, טלפון) | E21: סך הכול שכר ללא תוספת שחיקה | F21: תוספת שחיקה | J21: שנות ותק | K21: שכר משולב כולל ותק | L21: תוספת אקדמית (ניידות, ביגוד, טלפון) | M21: סך הכול שכר ללא תוספת שחיקה | N21: תוספת שחיקה
B22: 0 | C22: 7380.43 | D22: 2158.5856 | E22: =SUM($C22:$D22) -> 9539.0157 | F22: 1339.0387 | J22: 0 | K22: 6883.9078 | L22: 2141.8361 | M22: =SUM($K22:$L22) -> 9025.7439 | N22: 1267.1806
B23: 1 | C23: 7447.7146 | D23: =$D$22 -> 2158.5856 | E23: =SUM($C23:$D23) -> 9606.3003 | F23: 1348.4585 | J23: 1 | K23: 6951.1924 | L23: =$L$22 -> 2141.8361 | M23: =SUM($K23:$L23) -> 9093.0285 | N23: 1276.6004
B24: 2 | C24: 7514.9992 | D24: =$D$22 -> 2158.5856 | E24: =SUM($C24:$D24) -> 9673.5849 | F24: 1357.8783 | J24: 2 | K24: 7018.3577 | L24: =$L$22 -> 2141.8361 | M24: =SUM($K24:$L24) -> 9160.1938 | N24: 1286.0036
B25: 3 | C25: 7582.1645 | D25: =$D$22 -> 2158.5856 | E25: =SUM($C25:$D25) -> 9740.7502 | F25: 1367.2815 | J25: 3 | K25: 7085.6423 | L25: =$L$22 -> 2141.8361 | M25: =SUM($K25:$L25) -> 9227.4784 | N25: 1295.4234
B26: 4 | C26: 7649.4491 | D26: =$D$22 -> 2158.5856 | E26: =SUM($C26:$D26) -> 9808.0348 | F26: 1376.7013 | J26: 4 | K26: 7152.9269 | L26: =$L$22 -> 2141.8361 | M26: =SUM($K26:$L26) -> 9294.763 | N26: 1304.8433
B27: 5 | C27: 7716.7337 | D27: =$D$22 -> 2158.5856 | E27: =SUM($C27:$D27) -> 9875.3194 | F27: 1386.1212 | J27: 5 | K27: 7220.2115 | L27: =$L$22 -> 2141.8361 | M27: =SUM($K27:$L27) -> 9362.0476 | N27: 1314.2631
B28: 6 | C28: 7784.0184 | D28: =$D$22 -> 2158.5856 | E28: =SUM($C28:$D28) -> 9942.604 | F28: 1395.541 | J28: 6 | K28: 7287.4961 | L28: =$L$22 -> 2141.8361 | M28: =SUM($K28:$L28) -> 9429.3322 | N28: 1323.683
B29: 7 | C29: 7851.303 | D29: =$D$22 -> 2158.5856 | E29: =SUM($C29:$D29) -> 10009.889 | F29: 1404.9609 | J29: 7 | K29: 7354.7807 | L29: =$L$22 -> 2141.8361 | M29: =SUM($K29:$L29) -> 9496.6168 | N29: 1333.1028
B30: 8 | C30: 7918.5876 | D30: =$D$22 -> 2158.5856 | E30: =SUM($C30:$D30) -> 10077.173 | F30: 1414.3807 | J30: 8 | K30: 7422.0653 | L30: =$L$22 -> 2141.8361 | M30: =SUM($K30:$L30) -> 9563.9014 | N30: 1342.5227
B31: 9 | C31: 7985.8722 | D31: =$D$22 -> 2158.5856 | E31: =SUM($C31:$D31) -> 10144.458 | F31: 1423.8006 | J31: 9 | K31: 7489.35 | L31: =$L$22 -> 2141.8361 | M31: =SUM($K31:$L31) -> 9631.186 | N31: 1351.9425
B32: 10 | C32: 8053.1568 | D32: =$D$22 -> 2158.5856 | E32: =SUM($C32:$D32) -> 10211.742 | F32: 1433.2204 | J32: 10 | K32: 7556.6346 | L32: =$L$22 -> 2141.8361 | M32: =SUM($K32:$L32) -> 9698.4706 | N32: 1361.3623
B33: 11 | C33: 8120.4414 | D33: =$D$22 -> 2158.5856 | E33: =SUM($C33:$D33) -> 10279.027 | F33: 1442.6402 | J33: 11 | K33: 7623.7999 | L33: =$L$22 -> 2141.8361 | M33: =SUM($K33:$L33) -> 9765.6359 | N33: 1370.7655
B34: 12 | C34: 8187.6067 | D34: =$D$22 -> 2158.5856 | E34: =SUM($C34:$D34) -> 10346.192 | F34: 1452.0434 | J34: 12 | K34: 7691.0845 | L34: =$L$22 -> 2141.8361 | M34: =SUM($K34:$L34) -> 9832.9205 | N34: 1380.1853
... B47: 25 | C47: 9062.1873 | D47: =$D$22 -> 2158.5856 | E47: =SUM($C47:$D47) -> 11220.773 | F47: 1574.4847 | J47: 25 | K47: 8565.6651 | L47: =$L$22 -> 2141.8361 | M47: =SUM($K47:$L47) -> 10707.501 | N47: 1502.6266
B50: אסיסטנט ב' | F50: =$F$20 -> מעודכן לינואר 2018 | J50: אסיסטנט א' | N50: =$F$20 -> מעודכן לינואר 2018
B51: שנות ותק | C51: שכר משולב כולל ותק | D51: תוספת אקדמית (ניידות, ביגוד, טלפון) | E51: סך הכול שכר ללא תוספת שחיקה | F51: תוספת שחיקה | J51: שנות ותק | K51: שכר משולב כולל ותק | L51: תוספת אקדמית (ניידות, ביגוד, טלפון) | M51: סך הכול שכר ללא תוספת שחיקה | N51: תוספת שחיקה
B52: 0 | C52: 6502.3897 | D52: 2126.3272 | E52: =SUM($C52:$D52) -> 8628.717 | F52: 1211.5968 | J52: 0 | K52: 5851.9719 | L52: 2110.3221 | M52: =SUM($K52:$L52) -> 7962.2939 | N52: 1118.2976
B53: 1 | C53: 6565.2603 | D53: =$D$52 -> 2126.3272 | E53: =SUM($C53:$D53) -> 8691.5875 | F53: 1220.3987 | J53: 1 | K53: 5907.9231 | L53: =$L$52 -> 2110.3221 | M53: =SUM($K53:$L53) -> 8018.2451 | N53: 1126.1308
B54: 2 | C54: 6628.2501 | D54: =$D$52 -> 2126.3272 | E54: =SUM($C54:$D54) -> 8754.5773 | F54: 1229.2173 | J54: 2 | K54: 5963.755 | L54: =$L$52 -> 2110.3221 | M54: =SUM($K54:$L54) -> 8074.0771 | N54: 1133.9472
B55: 3 | C55: 6691.24 | D55: =$D$52 -> 2126.3272 | E55: =SUM($C55:$D55) -> 8817.5672 | F55: 1238.0359 | J55: 3 | K55: 6019.7062 | L55: =$L$52 -> 2110.3221 | M55: =SUM($K55:$L55) -> 8130.0283 | N55: 1141.7804
B56: 4 | C56: 6754.1105 | D56: =$D$52 -> 2126.3272 | E56: =SUM($C56:$D56) -> 8880.4377 | F56: 1246.8377 | J56: 4 | K56: 6075.6574 | L56: =$L$52 -> 2110.3221 | M56: =SUM($K56:$L56) -> 8185.9795 | N56: 1149.6136
B57: 5 | C57: 6817.1004 | D57: =$D$52 -> 2126.3272 | E57: =SUM($C57:$D57) -> 8943.4276 | F57: 1255.6563 | J57: 5 | K57: 6131.4893 | L57: =$L$52 -> 2110.3221 | M57: =SUM($K57:$L57) -> 8241.8114 | N57: 1157.4301
B58: 6 | C58: 6880.0902 | D58: =$D$52 -> 2126.3272 | E58: =SUM($C58:$D58) -> 9006.4174 | F58: 1264.4749 | J58: 6 | K58: 6187.4405 | L58: =$L$52 -> 2110.3221 | M58: =SUM($K58:$L58) -> 8297.7626 | N58: 1165.2632
B59: 7 | C59: 6942.9608 | D59: =$D$52 -> 2126.3272 | E59: =SUM($C59:$D59) -> 9069.288 | F59: 1273.2768 | J59: 7 | K59: 6243.2724 | L59: =$L$52 -> 2110.3221 | M59: =SUM($K59:$L59) -> 8353.5945 | N59: 1173.0797
B60: 8 | C60: 7005.9506 | D60: =$D$52 -> 2126.3272 | E60: =SUM($C60:$D60) -> 9132.2778 | F60: 1282.0954 | J60: 8 | K60: 6299.2236 | L60: =$L$52 -> 2110.3221 | M60: =SUM($K60:$L60) -> 8409.5457 | N60: 1180.9129
B61: 9 | C61: 7068.9405 | D61: =$D$52 -> 2126.3272 | E61: =SUM($C61:$D61) -> 9195.2677 | F61: 1290.9139 | J61: 9 | K61: 6355.1748 | L61: =$L$52 -> 2110.3221 | M61: =SUM($K61:$L61) -> 8465.4969 | N61: 1188.746
B62: 10 | C62: 7131.811 | D62: =$D$52 -> 2126.3272 | E62: =SUM($C62:$D62) -> 9258.1382 | F62: 1299.7158 | J62: 10 | K62: 6411.0068 | L62: =$L$52 -> 2110.3221 | M62: =SUM($K62:$L62) -> 8521.3288 | N62: 1196.5625
B63: 11 | C63: 7194.8008 | D63: =$D$52 -> 2126.3272 | E63: =SUM($C63:$D63) -> 9321.1281 | F63: 1308.5344 | J63: 11 | K63: 6466.958 | L63: =$L$52 -> 2110.3221 | M63: =SUM($K63:$L63) -> 8577.28 | N63: 1204.3957
B64: 12 | C64: 7257.6714 | D64: =$D$52 -> 2126.3272 | E64: =SUM($C64:$D64) -> 9383.9986 | F64: 1317.3363 | J64: 12 | K64: 6522.9092 | L64: =$L$52 -> 2110.3221 | M64: =SUM($K64:$L64) -> 8633.2312 | N64: 1212.2288
... B67: 15 | C67: 7446.5216 | D67: =$D$52 -> 2126.3272 | E67: =SUM($C67:$D67) -> 9572.8488 | F67: 1343.7753 | J67: 15 | K67: 6690.5242 | L67: =$L$52 -> 2110.3221 | M67: =SUM($K67:$L67) -> 8800.8462 | N67: 1235.6949
B68: 16 | C68: 7509.5115 | D68: =$D$52 -> 2126.3272 | E68: =SUM($C68:$D68) -> 9635.8387 | F68: 1352.5939
B69: 17 | C69: 7572.5013 | D69: =$D$52 -> 2126.3272 | E69: =SUM($C69:$D69) -> 9698.8285 | F69: 1361.4125
B70: 18 | C70: 7635.3719 | D70: =$D$52 -> 2126.3272 | E70: =SUM($C70:$D70) -> 9761.6991 | F70: 1370.2143
B71: 19 | C71: 7698.3617 | D71: =$D$52 -> 2126.3272 | E71: =SUM($C71:$D71) -> 9824.6889 | F71: 1379.0329
B72: 20 | C72: 7761.3516 | D72: =$D$52 -> 2126.3272 | E72: =SUM($C72:$D72) -> 9887.6788 | F72: 1387.8515
A75: עודכנו שקלית - מדריך ד"ר, מדריך, אסיסטנט א', אסיסטנט ב', עוזרי הוראה 22 ש"ש, עוזרי הוראה 32 ש"ש, עמית הוראה 1, עמית הוראה א', עמית הוראה ב'
A76: עודכנו אחוזית - מורה מן החוץ 1, מורה מן החוץ א', מורה מן החוץ ב', מורה משנה א', מורה משנה ב', מורה עוזר א',ב',ג' וד'
A78: לוחות שכר באוניברסיטאות - סגל אקדמי זוטר, עמיתי הוראה ומורים מן החוץ
A79: =$A$2 -> פעימה ראשונה בגין הסכם השכר עם הסגל האקדמי הזוטר באוניברסיטאות, החל מ-1.1.2018
B82: מורה עוזר | L82: מעודכן לינואר 2018
B83: רמה א' | J83: רמה ב'
B84: שנות ותק | C84: שכר משולב כולל ותק | D84: תוספת שחיקה | J84: שנות ותק | K84: שכר משולב כולל ותק | L84: תוספת שחיקה
B85: 0 | C85: 5336.1251 | D85: 747.05751 | J85: 0 | K85: 5636.1822 | L85: 789.06551
B86: 1 | C86: 5389.5251 | D86: 754.53351 | J86: 1 | K86: 5692.4883 | L86: 796.94837
B87: 2 | C87: 5443.4094 | D87: 762.07732 | J87: 2 | K87: 5749.3999 | L87: 804.91599
B88: 3 | C88: 5497.8992 | D88: 769.70589 | J88: 3 | K88: 5806.9169 | L88: 812.96837
B89: 4 | C89: 5552.8734 | D89: 777.40227 | J89: 4 | K89: 5865.0394 | L89: 821.10551
B90: 5 | C90: 5608.453 | D90: 785.18342 | J90: 5 | K90: 5923.6462 | L90: 829.31046
B91: 6 | C91: 5664.5169 | D91: 793.03237 | J91: 6 | K91: 5982.8584 | L91: 837.60018
B92: 7 | C92: 5721.1863 | D92: 800.96608 | J92: 7 | K92: 6042.6761 | L92: 845.97465
B93: 8 | C93: 5778.34 | D93: 808.96761 | J93: 8 | K93: 6103.0992 | L93: 854.43389
B96: רמה ג' | J96: רמה ד'
B97: שנות ותק | C97: שכר משולב כולל ותק | D97: תוספת שחיקה | J97: שנות ותק | K97: שכר משולב כולל ותק | L97: תוספת שחיקה
B98: 0 | C98: 6151.8979 | D98: 861.2657 | J98: 0 | K98: 6575.3441 | L98: 920.54818
B99: 1 | C99: 6213.4108 | D99: 869.87751 | J99: 1 | K99: 6641.0951 | L99: 929.75332
B100: 2 | C100: 6275.5292 | D100: 878.57408 | J100: 2 | K100: 6707.4516 | L100: 939.04322
B101: 3 | C101: 6338.253 | D101: 887.35541 | J101: 3 | K101: 6774.5346 | L101: 948.43484
B102: 4 | C102: 6401.5822 | D102: 896.22151 | J102: 4 | K102: 6842.223 | L102: 957.91122
B103: 5 | C103: 6465.638 | D103: 905.18932 | J103: 5 | K103: 6910.638 | L103: 967.48932
B104: 6 | C104: 6530.2992 | D104: 914.24189 | J104: 6 | K104: 6979.7795 | L104: 977.16913
B105: 7 | C105: 6595.5659 | D105: 923.37922 | J105: 7 | K105: 7049.5264 | L105: 986.9337
B106: 8 | C106: 6661.5591 | D106: 932.61827 | J106: 8 | K106: 7119.9999 | L106: 996.79998
B109: עוזרי הוראה | F109: =$F$20 -> מעודכן לינואר 2018 | J109: עוזרי הוראה | N109: =$F$20 -> מעודכן לינואר 2018
B110: על-פי משרה מלאה של 22 ש"ש | J110: על-פי משרה מלאה של 32 ש"ש
B111: שנות ותק | C111: שכר משולב כולל ותק | D111: תוספת אקדמית (ניידות, ביגוד, טלפון) | E111: סך הכול שכר ללא תוספת שחיקה | F111: תוספת שחיקה | J111: שנות ותק | L111: תוספת אקדמית (ניידות, ביגוד, טלפון) | M111: סך הכול שכר ללא תוספת שחיקה | N111: תוספת שחיקה
B112: 0 | C112: 3486.643 | D112: 1217.2907 | E112: 4703.9337 | F112: 664.66646 | J112: 0 | K112: 3557.2591 | L112: 1243.1905 | M112: 4800.4496 | N112: 678.17868
B113: 1 | C113: 3518.8836 | D113: 1217.2907 | E113: 4736.1743 | F113: 669.18014 | J113: 1 | K113: 3590.1856 | L113: 1243.1905 | M113: 4833.3761 | N113: 682.78839
B114: 2 | C114: 3551.1241 | D114: 1217.2907 | E114: 4768.4148 | F114: 673.69381 | J114: 2 | K114: 3623.1121 | L114: 1243.1905 | M114: 4866.3026 | N114: 687.3981
B115: 3 | C115: 3583.3647 | D115: 1217.2907 | E115: 4800.6553 | F115: 678.20749 | J115: 3 | K115: 3656.0386 | L115: 1243.1905 | M115: 4899.2291 | N115: 692.00781
B116: 4 | C116: 3615.6052 | D116: 1217.2907 | E116: 4832.8959 | F116: 682.72116 | J116: 4 | K116: 3688.9651 | L116: 1243.1905 | M116: 4932.1556 | N116: 696.61752
B117: 5 | C117: 3647.8457 | D117: 1217.2907 | E117: 4865.1364 | F117: 687.23484 | J117: 5 | K117: 3721.8916 | L117: 1243.1905 | M117: 4965.0821 | N117: 701.22723
B118: 6 | C118: 3680.0863 | D118: 1217.2907 | E118: 4897.377 | F118: 691.74851 | J118: 6 | K118: 3754.8181 | L118: 1243.1905 | M118: 4998.0086 | N118: 705.83694
B119: 7 | C119: 3712.3268 | D119: 1217.2907 | E119: 4929.6175 | F119: 696.26219 | J119: 7 | K119: 3787.7446 | L119: 1243.1905 | M119: 5030.9351 | N119: 710.44666
B120: 8 | C120: 3744.5674 | D120: 1217.2907 | E120: 4961.8581 | F120: 700.77587 | J120: 8 | K120: 3820.6711 | L120: 1243.1905 | M120: 5063.8616 | N120: 715.05637
B121: 9 | C121: 3776.8079 | D121: 1217.2907 | E121: 4994.0986 | F121: 705.28954 | J121: 9 | K121: 3853.5977 | L121: 1243.1905 | M121: 5096.7881 | N121: 719.66608
B122: 10 | C122: 3809.0484 | D122: 1217.2907 | E122: 5026.3391 | F122: 709.80322 | J122: 10 | K122: 3886.5242 | L122: 1243.1905 | M122: 5129.7147 | N122: 724.27579
B123: 11 | C123: 3841.289 | D123: 1217.2907 | E123: 5058.5797 | F123: 714.31689 | J123: 11 | K123: 3919.4507 | L123: 1243.1905 | M123: 5162.6412 | N123: 728.8855
... B127: 15 | C127: 3970.2512 | D127: 1217.2907 | E127: 5187.5418 | F127: 732.3716 | J127: 15 | K127: 4051.1567 | L127: 1243.1905 | M127: 5294.3472 | N127: 747.32435
B130: עמית הוראה ב' | F130: =$F$20 -> מעודכן לינואר 2018 | J130: עמית הוראה א' | N130: =$F$20 -> מעודכן לינואר 2018
B131: שנות ותק | C131: שכר משולב כולל ותק | D131: תוספת אקדמית (ניידות, ביגוד, טלפון) | E131: סך הכול שכר ללא תוספת שחיקה | F131: תוספת שחיקה | J131: שנות ותק | K131: שכר משולב כולל ותק | L131: תוספת אקדמית (ניידות, ביגוד, טלפון) | M131: סך הכול שכר ללא תוספת שחיקה | N131: תוספת שחיקה
B132: 0 | C132: 7424.899 | D132: 2158.5856 | E132: =SUM($C132:$D132) -> 9583.4847 | F132: 1346.8861 | J132: 0 | K132: 5896.4409 | L132: 2110.3221 | M132: =SUM($K132:$L132) -> 8006.763 | N132: 1126.1451
B133: 1 | C133: 7492.1837 | D133: =$D$132 -> 2158.5856 | E133: =SUM($C133:$D133) -> 9650.7693 | F133: 1356.306 | J133: 1 | K133: 5952.3921 | L133: =$L$132 -> 2110.3221 | M133: =SUM($K133:$L133) -> 8062.7142 | N133: 1133.9783
B134: 2 | C134: 7559.4683 | D134: =$D$132 -> 2158.5856 | E134: =SUM($C134:$D134) -> 9718.0539 | F134: 1365.7258 | J134: 2 | K134: 6008.224 | L134: =$L$132 -> 2110.3221 | M134: =SUM($K134:$L134) -> 8118.5461 | N134: 1141.7947
...

Sheet יולי 2019
A1: לוחות שכר באוניברסיטאות - סגל אקדמי זוטר, עמיתי הוראה ומורים מן החוץ
A2: פעימה שנייה בגין הסכם השכר עם הסגל האקדמי הזוטר באוניברסיטאות, החל מ-1.7.2019
B5: מורה משנה ב' | F5: מעודכן ליולי 2019 | J5: מורה משנה א' | N5: =$F$5 -> מעודכן ליולי 2019
B6: שנות ותק | C6: שכר משולב כולל ותק | D6: תוספת אקדמית (ניידות, ביגוד, טלפון) | E6: סך הכול שכר ללא תוספת שחיקה | F6: תוספת שחיקה | J6: שנות ותק | K6: שכר משולב כולל ותק | L6: תוספת אקדמית (ניידות, ביגוד, טלפון) | M6: סך הכול שכר ללא תוספת שחיקה | N6: תוספת שחיקה
B7: 0 | C7: 6955.4896 | D7: 2195.382 | E7: 9150.8716 | F7: 1281.122 | J7: 0 | K7: 5897.7553 | L7: 2163.0801 | M7: 8060.8354 | N7: 1128.517
B8: 1 | C8: 7024.4563 | D8: 2195.382 | E8: 9219.8383 | F8: 1290.7774 | J8: 1 | K8: 5955.1053 | L8: 2163.0801 | M8: 8118.1854 | N8: 1136.546
B9: 2 | C9: 7093.3008 | D9: 2195.382 | E9: 9288.6828 | F9: 1300.4156 | J9: 2 | K9: 6012.333 | L9: 2163.0801 | M9: 8175.4131 | N9: 1144.5578
B10: 3 | C10: 7162.2675 | D10: 2195.382 | E10: 9357.6495 | F10: 1310.0709 | J10: 3 | K10: 6069.683 | L10: 2163.0801 | M10: 8232.7631 | N10: 1152.5868
B11: 4 | C11: 7231.2342 | D11: 2195.382 | E11: 9426.6162 | F11: 1319.7263 | J11: 4 | K11: 6127.033 | L11: 2163.0801 | M11: 8290.1131 | N11: 1160.6158
B12: 5 | C12: 7300.2009 | D12: 2195.382 | E12: 9495.5829 | F12: 1329.3816 | J12: 5 | K12: 6184.2607 | L12: 2163.0801 | M12: 8347.3408 | N12: 1168.6277
B13: 6 | C13: 7369.1677 | D13: 2195.382 | E13: 9564.5496 | F13: 1339.037 | J13: 6 | K13: 6241.6107 | L13: 2163.0801 | M13: 8404.6908 | N13: 1176.6567
B14: 7 | C14: 7438.1344 | D14: 2195.382 | E14: 9633.5164 | F14: 1348.6923 | J14: 7 | K14: 6298.8384 | L14: 2163.0801 | M14: 8461.9185 | N14: 1184.6686
B15: 8 | C15: 7507.1011 | D15: 2195.382 | E15: 9702.4831 | F15: 1358.3476 | J15: 8 | K15: 6356.1884 | L15: 2163.0801 | M15: 8519.2685 | N15: 1192.6976
B16: 9 | C16: 7576.0678 | D16: 2195.382 | E16: 9771.4498 | F16: 1368.003 | J16: 9 | K16: 6413.5384 | L16: 2163.0801 | M16: 8576.6185 | N16: 1200.7266
B17: 10 | C17: 7645.0346 | D17: 2195.382 | E17: 9840.4165 | F17: 1377.6583 | J17: 10 | K17: 6470.7661 | L17: 2163.0801 | M17: 8633.8462 | N17: 1208.7385
B20: מדריך ד"ר | F20: =$F$5 -> מעודכן ליולי 2019 | J20: מדריך | N20: =$F$5 -> מעודכן ליולי 2019
B21: שנות ותק | C21: שכר משולב כולל ותק | D21: תוספת אקדמית (ניידות, ביגוד, טלפון) | E21: סך הכול שכר ללא תוספת שחיקה | F21: תוספת שחיקה | J21: שנות ותק | K21: שכר משולב כולל ותק | L21: תוספת אקדמית (ניידות, ביגוד, טלפון) | M21: סך הכול שכר ללא תוספת שחיקה | N21: תוספת שחיקה
B22: 0 | C22: 7446.4005 | D22: 2158.5856 | E22: =SUM($C22:$D22) -> 9604.9862 | F22: 1350.6805 | J22: 0 | K22: 6949.8783 | L22: 2141.8361 | M22: =SUM($K22:$L22) -> 9091.7144 | N22: 1278.8225
B23: 1 | C23: 7513.6851 | D23: =$D$22 -> 2158.5856 | E23: =SUM($C23:$D23) -> 9672.2708 | F23: 1360.1004 | J23: 1 | K23: 7017.1629 | L23: =$L$22 -> 2141.8361 | M23: =SUM($K23:$L23) -> 9158.999 | N23: 1288.2423
B24: 2 | C24: 7580.9697 | D24: =$D$22 -> 2158.5856 | E24: =SUM($C24:$D24) -> 9739.5554 | F24: 1369.5202 | J24: 2 | K24: 7084.3282 | L24: =$L$22 -> 2141.8361 | M24: =SUM($K24:$L24) -> 9226.1643 | N24: 1297.6454
B25: 3 | C25: 7648.135 | D25: =$D$22 -> 2158.5856 | E25: =SUM($C25:$D25) -> 9806.7207 | F25: 1378.9233 | J25: 3 | K25: 7151.6128 | L25: =$L$22 -> 2141.8361 | M25: =SUM($K25:$L25) -> 9293.4489 | N25: 1307.0653
B26: 4 | C26: 7715.4196 | D26: =$D$22 -> 2158.5856 | E26: =SUM($C26:$D26) -> 9874.0053 | F26: 1388.3432 | J26: 4 | K26: 7218.8974 | L26: =$L$22 -> 2141.8361 | M26: =SUM($K26:$L26) -> 9360.7335 | N26: 1316.4851
B27: 5 | C27: 7782.7042 | D27: =$D$22 -> 2158.5856 | E27: =SUM($C27:$D27) -> 9941.2899 | F27: 1397.763 | J27: 5 | K27: 7286.182 | L27: =$L$22 -> 2141.8361 | M27: =SUM($K27:$L27) -> 9428.0181 | N27: 1325.905
B28: 6 | C28: 7849.9889 | D28: =$D$22 -> 2158.5856 | E28: =SUM($C28:$D28) -> 10008.574 | F28: 1407.1829 | J28: 6 | K28: 7353.4666 | L28: =$L$22 -> 2141.8361 | M28: =SUM($K28:$L28) -> 9495.3027 | N28: 1335.3248
B29: 7 | C29: 7917.2735 | D29: =$D$22 -> 2158.5856 | E29: =SUM($C29:$D29) -> 10075.859 | F29: 1416.6027 | J29: 7 | K29: 7420.7512 | L29: =$L$22 -> 2141.8361 | M29: =SUM($K29:$L29) -> 9562.5873 | N29: 1344.7447
B30: 8 | C30: 7984.5581 | D30: =$D$22 -> 2158.5856 | E30: =SUM($C30:$D30) -> 10143.144 | F30: 1426.0226 | J30: 8 | K30: 7488.0358 | L30: =$L$22 -> 2141.8361 | M30: =SUM($K30:$L30) -> 9629.8719 | N30: 1354.1645
B31: 9 | C31: 8051.8427 | D31: =$D$22 -> 2158.5856 | E31: =SUM($C31:$D31) -> 10210.428 | F31: 1435.4424 | J31: 9 | K31: 7555.3205 | L31: =$L$22 -> 2141.8361 | M31: =SUM($K31:$L31) -> 9697.1565 | N31: 1363.5844
B32: 10 | C32: 8119.1273 | D32: =$D$22 -> 2158.5856 | E32: =SUM($C32:$D32) -> 10277.713 | F32: 1444.8623 | J32: 10 | K32: 7622.6051 | L32: =$L$22 -> 2141.8361 | M32: =SUM($K32:$L32) -> 9764.4411 | N32: 1373.0042
B33: 11 | C33: 8186.4119 | D33: =$D$22 -> 2158.5856 | E33: =SUM($C33:$D33) -> 10344.998 | F33: 1454.2821 | J33: 11 | K33: 7689.7704 | L33: =$L$22 -> 2141.8361 | M33: =SUM($K33:$L33) -> 9831.6064 | N33: 1382.4073
B34: 12 | C34: 8253.5772 | D34: =$D$22 -> 2158.5856 | E34: =SUM($C34:$D34) -> 10412.163 | F34: 1463.6852 | J34: 12 | K34: 7757.055 | L34: =$L$22 -> 2141.8361 | M34: =SUM($K34:$L34) -> 9898.891 | N34: 1391.8272
... B47: 25 | C47: 9128.1578 | D47: =$D$22 -> 2158.5856 | E47: =SUM($C47:$D47) -> 11286.743 | F47: 1586.1265 | J47: 25 | K47: 8631.6356 | L47: =$L$22 -> 2141.8361 | M47: =SUM($K47:$L47) -> 10773.472 | N47: 1514.2685
B50: אסיסטנט ב' | F50: =$F$5 -> מעודכן ליולי 2019 | J50: אסיסטנט א' | N50: =$F$5 -> מעודכן ליולי 2019
B51: שנות ותק | C51: שכר משולב כולל ותק | D51: תוספת אקדמית (ניידות, ביגוד, טלפון) | E51: סך הכול שכר ללא תוספת שחיקה | F51: תוספת שחיקה | J51: שנות ותק | K51: שכר משולב כולל ותק | L51: תוספת אקדמית (ניידות, ביגוד, טלפון) | M51: סך הכול שכר ללא תוספת שחיקה | N51: תוספת שחיקה
B52: 0 | C52: 6568.3602 | D52: 2126.3272 | E52: =SUM($C52:$D52) -> 8694.6875 | F52: 1223.2387 | J52: 0 | K52: 5917.9424 | L52: 2110.3221 | M52: =SUM($K52:$L52) -> 8028.2644 | N52: 1129.9395
B53: 1 | C53: 6631.2308 | D53: =$D$52 -> 2126.3272 | E53: =SUM($C53:$D53) -> 8757.558 | F53: 1232.0406 | J53: 1 | K53: 5973.8936 | L53: =$L$52 -> 2110.3221 | M53: =SUM($K53:$L53) -> 8084.2156 | N53: 1137.7726
B54: 2 | C54: 6694.2206 | D54: =$D$52 -> 2126.3272 | E54: =SUM($C54:$D54) -> 8820.5478 | F54: 1240.8591 | J54: 2 | K54: 6029.7255 | L54: =$L$52 -> 2110.3221 | M54: =SUM($K54:$L54) -> 8140.0475 | N54: 1145.5891
B55: 3 | C55: 6757.2105 | D55: =$D$52 -> 2126.3272 | E55: =SUM($C55:$D55) -> 8883.5377 | F55: 1249.6777 | J55: 3 | K55: 6085.6767 | L55: =$L$52 -> 2110.3221 | M55: =SUM($K55:$L55) -> 8195.9988 | N55: 1153.4223
B56: 4 | C56: 6820.081 | D56: =$D$52 -> 2126.3272 | E56: =SUM($C56:$D56) -> 8946.4082 | F56: 1258.4796 | J56: 4 | K56: 6141.6279 | L56: =$L$52 -> 2110.3221 | M56: =SUM($K56:$L56) -> 8251.95 | N56: 1161.2554
B57: 5 | C57: 6883.0709 | D57: =$D$52 -> 2126.3272 | E57: =SUM($C57:$D57) -> 9009.3981 | F57: 1267.2982 | J57: 5 | K57: 6197.4598 | L57: =$L$52 -> 2110.3221 | M57: =SUM($K57:$L57) -> 8307.7819 | N57: 1169.0719
B58: 6 | C58: 6946.0607 | D58: =$D$52 -> 2126.3272 | E58: =SUM($C58:$D58) -> 9072.3879 | F58: 1276.1168 | J58: 6 | K58: 6253.411 | L58: =$L$52 -> 2110.3221 | M58: =SUM($K58:$L58) -> 8363.7331 | N58: 1176.9051
B59: 7 | C59: 7008.9313 | D59: =$D$52 -> 2126.3272 | E59: =SUM($C59:$D59) -> 9135.2585 | F59: 1284.9186 | J59: 7 | K59: 6309.2429 | L59: =$L$52 -> 2110.3221 | M59: =SUM($K59:$L59) -> 8419.565 | N59: 1184.7215
B60: 8 | C60: 7071.9211 | D60: =$D$52 -> 2126.3272 | E60: =SUM($C60:$D60) -> 9198.2483 | F60: 1293.7372 | J60: 8 | K60: 6365.1941 | L60: =$L$52 -> 2110.3221 | M60: =SUM($K60:$L60) -> 8475.5162 | N60: 1192.5547
B61: 9 | C61: 7134.911 | D61: =$D$52 -> 2126.3272 | E61: =SUM($C61:$D61) -> 9261.2382 | F61: 1302.5558 | J61: 9 | K61: 6421.1453 | L61: =$L$52 -> 2110.3221 | M61: =SUM($K61:$L61) -> 8531.4674 | N61: 1200.3879
B62: 10 | C62: 7197.7815 | D62: =$D$52 -> 2126.3272 | E62: =SUM($C62:$D62) -> 9324.1087 | F62: 1311.3577 | J62: 10 | K62: 6476.9773 | L62: =$L$52 -> 2110.3221 | M62: =SUM($K62:$L62) -> 8587.2993 | N62: 1208.2043
B63: 11 | C63: 7260.7713 | D63: =$D$52 -> 2126.3272 | E63: =SUM($C63:$D63) -> 9387.0986 | F63: 1320.1762 | J63: 11 | K63: 6532.9285 | L63: =$L$52 -> 2110.3221 | M63: =SUM($K63:$L63) -> 8643.2505 | N63: 1216.0375
B64: 12 | C64: 7323.6419 | D64: =$D$52 -> 2126.3272 | E64: =SUM($C64:$D64) -> 9449.9691 | F64: 1328.9781 | J64: 12 | K64: 6588.8797 | L64: =$L$52 -> 2110.3221 | M64: =SUM($K64:$L64) -> 8699.2017 | N64: 1223.8707
... B67: 15 | C67: 7512.4921 | D67: =$D$52 -> 2126.3272 | E67: =SUM($C67:$D67) -> 9638.8193 | F67: 1355.4172 | J67: 15 | K67: 6756.4947 | L67: =$L$52 -> 2110.3221 | M67: =SUM($K67:$L67) -> 8866.8167 | N67: 1247.3368
B68: 16 | C68: 7575.482 | D68: =$D$52 -> 2126.3272 | E68: =SUM($C68:$D68) -> 9701.8092 | F68: 1364.2357
B69: 17 | C69: 7638.4718 | D69: =$D$52 -> 2126.3272 | E69: =SUM($C69:$D69) -> 9764.799 | F69: 1373.0543
B70: 18 | C70: 7701.3424 | D70: =$D$52 -> 2126.3272 | E70: =SUM($C70:$D70) -> 9827.6696 | F70: 1381.8562
B71: 19 | C71: 7764.3322 | D71: =$D$52 -> 2126.3272 | E71: =SUM($C71:$D71) -> 9890.6594 | F71: 1390.6748
B72: 20 | C72: 7827.3221 | D72: =$D$52 -> 2126.3272 | E72: =SUM($C72:$D72) -> 9953.6493 | F72: 1399.4933
A75: עודכנו שקלית - מדריך ד"ר, מדריך, אסיסטנט א', אסיסטנט ב', עוזרי הוראה 22 ש"ש, עוזרי הוראה 32 ש"ש, עמית הוראה 1, עמית הוראה א', עמית הוראה ב'
A76: ='ינואר 2018'!$A$76 -> עודכנו אחוזית - מורה מן החוץ 1, מורה מן החוץ א', מורה מן החוץ ב', מורה משנה א', מורה משנה ב', מורה עוזר א',ב',ג' וד'
A77: לוחות שכר באוניברסיטאות - סגל אקדמי זוטר, עמיתי הוראה ומורים מן החוץ
A78: =$A$2 -> פעימה שנייה בגין הסכם השכר עם הסגל האקדמי הזוטר באוניברסיטאות, החל מ-1.7.2019
B81: מורה עוזר | L81: =$F$5 -> מעודכן ליולי 2019
B82: רמה א' | J82: רמה ב'
B83: שנות ותק | C83: שכר משולב כולל ותק | D83: תוספת שחיקה | J83: שנות ותק | K83: שכר משולב כולל ותק | L83: תוספת שחיקה
B84: 0 | C84: 5388.6977 | D84: 754.41768 | J84: 0 | K84: 5691.7111 | L84: 796.83956
B85: 1 | C85: 5442.6239 | D85: 761.96734 | J85: 1 | K85: 5748.572 | L85: 804.80008
B86: 2 | C86: 5497.0391 | D86: 769.58547 | J86: 2 | K86: 5806.0442 | L86: 812.84619
B87: 3 | C87: 5552.0657 | D87: 777.2892 | J87: 3 | K87: 5864.1279 | L87: 820.97791
B88: 4 | C88: 5607.5815 | D88: 785.06141 | J88: 4 | K88: 5922.823 | L88: 829.19522
B89: 5 | C89: 5663.7087 | D89: 792.91921 | J89: 5 | K89: 5982.0072 | L89: 837.48101
B90: 6 | C90: 5720.325 | D90: 800.8455 | J90: 6 | K90: 6041.8028 | L90: 845.8524
B91: 7 | C91: 5777.5527 | D91: 808.85737 | J91: 7 | K91: 6102.2098 | L91: 854.30938
B92: 8 | C92: 5835.2695 | D92: 816.93773 | J92: 8 | K92: 6163.2283 | L92: 862.85196
B95: רמה ג' | J95: רמה ד'
B96: שנות ותק | C96: שכר משולב כולל ותק | D96: תוספת שחיקה | J96: שנות ותק | K96: שכר משולב כולל ותק | L96: תוספת שחיקה
B97: 0 | C97: 6212.5077 | D97: 869.75108 | J97: 0 | K97: 6640.1258 | L97: 929.61762
B98: 1 | C98: 6274.6267 | D98: 878.44773 | J98: 1 | K98: 6706.5246 | L98: 938.91345
B99: 2 | C99: 6337.357 | D99: 887.22998 | J99: 2 | K99: 6773.5349 | L99: 948.29488
B100: 3 | C100: 6400.6988 | D100: 896.09783 | J100: 3 | K100: 6841.2788 | L100: 957.77903
B101: 4 | C101: 6464.652 | D101: 905.05128 | J101: 4 | K101: 6909.6341 | L101: 967.34877
B102: 5 | C102: 6529.3389 | D102: 914.10744 | J102: 5 | K102: 6978.7231 | L102: 977.02123
B103: 6 | C103: 6594.6371 | D103: 923.2492 | J103: 6 | K103: 7048.5458 | L103: 986.79641
B104: 7 | C104: 6660.5468 | D104: 932.47656 | J104: 7 | K104: 7118.9799 | L104: 996.65718
B105: 8 | C105: 6727.1902 | D105: 941.80663 | J105: 8 | K105: 7190.1477 | L105: 1006.6207
B108: עוזרי הוראה | F108: =$F$5 -> מעודכן ליולי 2019 | J108: עוזרי הוראה | N108: =$F$5 -> מעודכן ליולי 2019
B109: על-פי משרה מלאה של 22 ש"ש | J109: על-פי משרה מלאה של 32 ש"ש
B110: שנות ותק | C110: שכר משולב כולל ותק | D110: תוספת אקדמית (ניידות, ביגוד, טלפון) | E110: סך הכול שכר ללא תוספת שחיקה | F110: תוספת שחיקה | J110: שנות ותק | L110: תוספת אקדמית (ניידות, ביגוד, טלפון) | M110: סך הכול שכר ללא תוספת שחיקה | N110: תוספת שחיקה
B111: 0 | C111: 3559.4473 | D111: 1217.2907 | E111: 4776.738 | F111: 677.51427 | J111: 0 | K111: 3630.0633 | L111: 1243.1905 | M111: 4873.2538 | N111: 691.02649
B112: 1 | C112: 3591.6878 | D112: 1217.2907 | E112: 4808.9785 | F112: 682.02795 | J112: 1 | K112: 3662.9898 | L112: 1243.1905 | M112: 4906.1803 | N112: 695.6362
B113: 2 | C113: 3623.9284 | D113: 1217.2907 | E113: 4841.2191 | F113: 686.54162 | J113: 2 | K113: 3695.9164 | L113: 1243.1905 | M113: 4939.1068 | N113: 700.24591
B114: 3 | C114: 3656.1689 | D114: 1217.2907 | E114: 4873.4596 | F114: 691.0553 | J114: 3 | K114: 3728.8429 | L114: 1243.1905 | M114: 4972.0334 | N114: 704.85562
B115: 4 | C115: 3688.4095 | D115: 1217.2907 | E115: 4905.7002 | F115: 695.56897 | J115: 4 | K115: 3761.7694 | L115: 1243.1905 | M115: 5004.9599 | N115: 709.46533
B116: 5 | C116: 3720.65 | D116: 1217.2907 | E116: 4937.9407 | F116: 700.08265 | J116: 5 | K116: 3794.6959 | L116: 1243.1905 | M116: 5037.8864 | N116: 714.07505
B117: 6 | C117: 3752.8906 | D117: 1217.2907 | E117: 4970.1812 | F117: 704.59633 | J117: 6 | K117: 3827.6224 | L117: 1243.1905 | M117: 5070.8129 | N117: 718.68476
B118: 7 | C118: 3785.1311 | D118: 1217.2907 | E118: 5002.4218 | F118: 709.11 | J118: 7 | K118: 3860.5489 | L118: 1243.1905 | M118: 5103.7394 | N118: 723.29447
B119: 8 | C119: 3817.3716 | D119: 1217.2907 | E119: 5034.6623 | F119: 713.62368 | J119: 8 | K119: 3893.4754 | L119: 1243.1905 | M119: 5136.6659 | N119: 727.90418
B120: 9 | C120: 3849.6122 | D120: 1217.2907 | E120: 5066.9029 | F120: 718.13735 | J120: 9 | K120: 3926.4019 | L120: 1243.1905 | M120: 5169.5924 | N120: 732.51389
B121: 10 | C121: 3881.8527 | D121: 1217.2907 | E121: 5099.1434 | F121: 722.65103 | J121: 10 | K121: 3959.3284 | L121: 1243.1905 | M121: 5202.5189 | N121: 737.1236
B122: 11 | C122: 3914.0933 | D122: 1217.2907 | E122: 5131.3839 | F122: 727.16471 | J122: 11 | K122: 3992.2549 | L122: 1243.1905 | M122: 5235.4454 | N122: 741.73331
... B126: 15 | C126: 4043.0554 | D126: 1217.2907 | E126: 5260.3461 | F126: 745.21941 | J126: 15 | K126: 4123.961 | L126: 1243.1905 | M126: 5367.1515 | N126: 760.17216
B129: עמית הוראה ב' | F129: =$F$5 -> מעודכן ליולי 2019 | J129: עמית הוראה א' | N129: =$F$5 -> מעודכן ליולי 2019
B130: שנות ותק | C130: שכר משולב כולל ותק | D130: תוספת אקדמית (ניידות, ביגוד, טלפון) | E130: סך הכול שכר ללא תוספת שחיקה | F130: תוספת שחיקה | J130: שנות ותק | K130: שכר משולב כולל ותק | L130: תוספת אקדמית (ניידות, ביגוד, טלפון) | M130: סך הכול שכר ללא תוספת שחיקה | N130: תוספת שחיקה
B131: 0 | C131: 7519.9212 | D131: 2158.5856 | E131: =SUM($C131:$D131) -> 9678.5069 | F131: 1363.6548 | J131: 0 | K131: 5991.4631 | L131: 2110.3221 | M131: =SUM($K131:$L131) -> 8101.7852 | N131: 1142.9137
B132: 1 | C132: 7587.2058 | D132: =$D$131 -> 2158.5856 | E132: =SUM($C132:$D132) -> 9745.7915 | F132: 1373.0746 | J132: 1 | K132: 6047.4143 | L132: =$L$131 -> 2110.3221 | M132: =SUM($K132:$L132) -> 8157.7364 | N132: 1150.7469
B133: 2 | C133: 7654.4905 | D133: =$D$131 -> 2158.5856 | E133: =SUM($C133:$D133) -> 9813.0761 | F133: 1382.4944 | J133: 2 | K133: 6103.2462 | L133: =$L$131 -> 2110.3221 | M133: =SUM($K133:$L133) -> 8213.5683 | N133: 1158.5633
...

Sheet ינואר 2020
A1: לוחות שכר באוניברסיטאות - סגל אקדמי זוטר, עמיתי הוראה ומורים מן החוץ
A2: פעימה שלישית בגין הסכם השכר עם הסגל האקדמי הזוטר באוניברסיטאות, החל מ-1.1.2020
B5: מורה משנה ב' | F5: מעודכן לינואר 2020 | J5: מורה משנה א' | N5: =$F$5 -> מעודכן לינואר 2020
B6: שנות ותק | C6: שכר משולב כולל ותק | D6: תוספת אקדמית (ניידות, ביגוד, טלפון) | E6: סך הכול שכר ללא תוספת שחיקה | F6: תוספת שחיקה | J6: שנות ותק | K6: שכר משולב כולל ותק | L6: תוספת אקדמית (ניידות, ביגוד, טלפון) | M6: סך הכול שכר ללא תוספת שחיקה | N6: תוספת שחיקה
B7: 0 | C7: 7057.2773 | D7: 2227.5095 | E7: 9284.7868 | F7: 1299.8701 | J7: 0 | K7: 5984.0639 | L7: 2194.7349 | M7: 8178.7989 | N7: 1145.0318
B8: 1 | C8: 7127.2533 | D8: 2227.5095 | E8: 9354.7628 | F8: 1309.6668 | J8: 1 | K8: 6042.2532 | L8: 2194.7349 | M8: 8236.9881 | N8: 1153.1783
B9: 2 | C9: 7197.1052 | D9: 2227.5095 | E9: 9424.6147 | F9: 1319.4461 | J9: 2 | K9: 6100.3184 | L9: 2194.7349 | M9: 8295.0533 | N9: 1161.3075
B10: 3 | C10: 7267.0812 | D10: 2227.5095 | E10: 9494.5907 | F10: 1329.2427 | J10: 3 | K10: 6158.5076 | L10: 2194.7349 | M10: 8353.2426 | N10: 1169.454
B11: 4 | C11: 7337.0572 | D11: 2227.5095 | E11: 9564.5667 | F11: 1339.0393 | J11: 4 | K11: 6216.6969 | L11: 2194.7349 | M11: 8411.4318 | N11: 1177.6005
B12: 5 | C12: 7407.0332 | D12: 2227.5095 | E12: 9634.5427 | F12: 1348.836 | J12: 5 | K12: 6274.7621 | L12: 2194.7349 | M12: 8469.497 | N12: 1185.7296
B13: 6 | C13: 7477.0091 | D13: 2227.5095 | E13: 9704.5187 | F13: 1358.6326 | J13: 6 | K13: 6332.9513 | L13: 2194.7349 | M13: 8527.6863 | N13: 1193.8761
B14: 7 | C14: 7546.9851 | D14: 2227.5095 | E14: 9774.4947 | F14: 1368.4293 | J14: 7 | K14: 6391.0165 | L14: 2194.7349 | M14: 8585.7514 | N14: 1202.0052
B15: 8 | C15: 7616.9611 | D15: 2227.5095 | E15: 9844.4706 | F15: 1378.2259 | J15: 8 | K15: 6449.2058 | L15: 2194.7349 | M15: 8643.9407 | N15: 1210.1517
B16: 9 | C16: 7686.9371 | D16: 2227.5095 | E16: 9914.4466 | F16: 1388.0225 | J16: 9 | K16: 6507.395 | L16: 2194.7349 | M16: 8702.13 | N16: 1218.2982
B17: 10 | C17: 7756.9131 | D17: 2227.5095 | E17: 9984.4226 | F17: 1397.8192 | J17: 10 | K17: 6565.4602 | L17: 2194.7349 | M17: 8760.1951 | N17: 1226.4273
B20: מדריך ד"ר | F20: =$F$5 -> מעודכן לינואר 2020 | J20: מדריך | N20: =$F$20 -> מעודכן לינואר 2020
B21: שנות ותק | C21: שכר משולב כולל ותק | D21: תוספת אקדמית (ניידות, ביגוד, טלפון) | E21: סך הכול שכר ללא תוספת שחיקה | F21: תוספת שחיקה | J21: שנות ותק | K21: שכר משולב כולל ותק | L21: תוספת אקדמית (ניידות, ביגוד, טלפון) | M21: סך הכול שכר ללא תוספת שחיקה | N21: תוספת שחיקה
B22: 0 | C22: 7544.4648 | D22: 2158.5856 | E22: =SUM($C22:$D22) -> 9703.0504 | F22: 1367.986 | J22: 0 | K22: 7047.9425 | L22: 2141.8361 | M22: =SUM($K22:$L22) -> 9189.7786 | N22: 1296.1279
B23: 1 | C23: 7611.7494 | D23: =$D$22 -> 2158.5856 | E23: =SUM($C23:$D23) -> 9770.335 | F23: 1377.4058 | J23: 1 | K23: 7115.2271 | L23: =$L$22 -> 2141.8361 | M23: =SUM($K23:$L23) -> 9257.0632 | N23: 1305.5478
B24: 2 | C24: 7679.034 | D24: =$D$22 -> 2158.5856 | E24: =SUM($C24:$D24) -> 9837.6196 | F24: 1386.8257 | J24: 2 | K24: 7182.3925 | L24: =$L$22 -> 2141.8361 | M24: =SUM($K24:$L24) -> 9324.2285 | N24: 1314.9509
B25: 3 | C25: 7746.1993 | D25: =$D$22 -> 2158.5856 | E25: =SUM($C25:$D25) -> 9904.7849 | F25: 1396.2288 | J25: 3 | K25: 7249.6771 | L25: =$L$22 -> 2141.8361 | M25: =SUM($K25:$L25) -> 9391.5131 | N25: 1324.3707
B26: 4 | C26: 7813.4839 | D26: =$D$22 -> 2158.5856 | E26: =SUM($C26:$D26) -> 9972.0695 | F26: 1405.6486 | J26: 4 | K26: 7316.9617 | L26: =$L$22 -> 2141.8361 | M26: =SUM($K26:$L26) -> 9458.7977 | N26: 1333.7906
B27: 5 | C27: 7880.7685 | D27: =$D$22 -> 2158.5856 | E27: =SUM($C27:$D27) -> 10039.354 | F27: 1415.0685 | J27: 5 | K27: 7384.2463 | L27: =$L$22 -> 2141.8361 | M27: =SUM($K27:$L27) -> 9526.0823 | N27: 1343.2104
B28: 6 | C28: 7948.0531 | D28: =$D$22 -> 2158.5856 | E28: =SUM($C28:$D28) -> 10106.639 | F28: 1424.4883 | J28: 6 | K28: 7451.5309 | L28: =$L$22 -> 2141.8361 | M28: =SUM($K28:$L28) -> 9593.367 | N28: 1352.6303
B29: 7 | C29: 8015.3377 | D29: =$D$22 -> 2158.5856 | E29: =SUM($C29:$D29) -> 10173.923 | F29: 1433.9082 | J29: 7 | K29: 7518.8155 | L29: =$L$22 -> 2141.8361 | M29: =SUM($K29:$L29) -> 9660.6516 | N29: 1362.0501
B30: 8 | C30: 8082.6223 | D30: =$D$22 -> 2158.5856 | E30: =SUM($C30:$D30) -> 10241.208 | F30: 1443.328 | J30: 8 | K30: 7586.1001 | L30: =$L$22 -> 2141.8361 | M30: =SUM($K30:$L30) -> 9727.9362 | N30: 1371.47
B31: 9 | C31: 8149.9069 | D31: =$D$22 -> 2158.5856 | E31: =SUM($C31:$D31) -> 10308.493 | F31: 1452.7479 | J31: 9 | K31: 7653.3847 | L31: =$L$22 -> 2141.8361 | M31: =SUM($K31:$L31) -> 9795.2208 | N31: 1380.8898
B32: 10 | C32: 8217.1915 | D32: =$D$22 -> 2158.5856 | E32: =SUM($C32:$D32) -> 10375.777 | F32: 1462.1677 | J32: 10 | K32: 7720.6693 | L32: =$L$22 -> 2141.8361 | M32: =SUM($K32:$L32) -> 9862.5054 | N32: 1390.3097
B33: 11 | C33: 8284.4761 | D33: =$D$22 -> 2158.5856 | E33: =SUM($C33:$D33) -> 10443.062 | F33: 1471.5876 | J33: 11 | K33: 7787.8346 | L33: =$L$22 -> 2141.8361 | M33: =SUM($K33:$L33) -> 9929.6707 | N33: 1399.7128
B34: 12 | C34: 8351.6415 | D34: =$D$22 -> 2158.5856 | E34: =SUM($C34:$D34) -> 10510.227 | F34: 1480.9907 | J34: 12 | K34: 7855.1192 | L34: =$L$22 -> 2141.8361 | M34: =SUM($K34:$L34) -> 9996.9553 | N34: 1409.1326
... B47: 25 | C47: 9226.2221 | D47: =$D$22 -> 2158.5856 | E47: =SUM($C47:$D47) -> 11384.808 | F47: 1603.432 | J47: 25 | K47: 8729.6998 | L47: =$L$22 -> 2141.8361 | M47: =SUM($K47:$L47) -> 10871.536 | N47: 1531.5739
B50: אסיסטנט ב' | F50: =$F$20 -> מעודכן לינואר 2020 | J50: אסיסטנט א' | N50: =$F$20 -> מעודכן לינואר 2020
B51: שנות ותק | C51: שכר משולב כולל ותק | D51: תוספת אקדמית (ניידות, ביגוד, טלפון) | E51: סך הכול שכר ללא תוספת שחיקה | F51: תוספת שחיקה | J51: שנות ותק | K51: שכר משולב כולל ותק | L51: תוספת אקדמית (ניידות, ביגוד, טלפון) | M51: סך הכול שכר ללא תוספת שחיקה | N51: תוספת שחיקה
B52: 0 | C52: 6666.4245 | D52: 2126.3272 | E52: =SUM($C52:$D52) -> 8792.7517 | F52: 1240.5441 | J52: 0 | K52: 6016.0066 | L52: 2110.3221 | M52: =SUM($K52:$L52) -> 8126.3287 | N52: 1147.2449
B53: 1 | C53: 6729.295 | D53: =$D$52 -> 2126.3272 | E53: =SUM($C53:$D53) -> 8855.6223 | F53: 1249.346 | J53: 1 | K53: 6071.9578 | L53: =$L$52 -> 2110.3221 | M53: =SUM($K53:$L53) -> 8182.2799 | N53: 1155.0781
B54: 2 | C54: 6792.2849 | D54: =$D$52 -> 2126.3272 | E54: =SUM($C54:$D54) -> 8918.6121 | F54: 1258.1646 | J54: 2 | K54: 6127.7897 | L54: =$L$52 -> 2110.3221 | M54: =SUM($K54:$L54) -> 8238.1118 | N54: 1162.8946
B55: 3 | C55: 6855.2747 | D55: =$D$52 -> 2126.3272 | E55: =SUM($C55:$D55) -> 8981.6019 | F55: 1266.9832 | J55: 3 | K55: 6183.741 | L55: =$L$52 -> 2110.3221 | M55: =SUM($K55:$L55) -> 8294.063 | N55: 1170.7277
B56: 4 | C56: 6918.1453 | D56: =$D$52 -> 2126.3272 | E56: =SUM($C56:$D56) -> 9044.4725 | F56: 1275.7851 | J56: 4 | K56: 6239.6922 | L56: =$L$52 -> 2110.3221 | M56: =SUM($K56:$L56) -> 8350.0142 | N56: 1178.5609
B57: 5 | C57: 6981.1351 | D57: =$D$52 -> 2126.3272 | E57: =SUM($C57:$D57) -> 9107.4623 | F57: 1284.6036 | J57: 5 | K57: 6295.5241 | L57: =$L$52 -> 2110.3221 | M57: =SUM($K57:$L57) -> 8405.8461 | N57: 1186.3774
B58: 6 | C58: 7044.125 | D58: =$D$52 -> 2126.3272 | E58: =SUM($C58:$D58) -> 9170.4522 | F58: 1293.4222 | J58: 6 | K58: 6351.4753 | L58: =$L$52 -> 2110.3221 | M58: =SUM($K58:$L58) -> 8461.7973 | N58: 1194.2105
B59: 7 | C59: 7106.9955 | D59: =$D$52 -> 2126.3272 | E59: =SUM($C59:$D59) -> 9233.3227 | F59: 1302.2241 | J59: 7 | K59: 6407.3072 | L59: =$L$52 -> 2110.3221 | M59: =SUM($K59:$L59) -> 8517.6292 | N59: 1202.027
B60: 8 | C60: 7169.9854 | D60: =$D$52 -> 2126.3272 | E60: =SUM($C60:$D60) -> 9296.3126 | F60: 1311.0427 | J60: 8 | K60: 6463.2584 | L60: =$L$52 -> 2110.3221 | M60: =SUM($K60:$L60) -> 8573.5805 | N60: 1209.8602
B61: 9 | C61: 7232.9752 | D61: =$D$52 -> 2126.3272 | E61: =SUM($C61:$D61) -> 9359.3024 | F61: 1319.8612 | J61: 9 | K61: 6519.2096 | L61: =$L$52 -> 2110.3221 | M61: =SUM($K61:$L61) -> 8629.5317 | N61: 1217.6933
B62: 10 | C62: 7295.8458 | D62: =$D$52 -> 2126.3272 | E62: =SUM($C62:$D62) -> 9422.173 | F62: 1328.6631 | J62: 10 | K62: 6575.0415 | L62: =$L$52 -> 2110.3221 | M62: =SUM($K62:$L62) -> 8685.3636 | N62: 1225.5098
B63: 11 | C63: 7358.8356 | D63: =$D$52 -> 2126.3272 | E63: =SUM($C63:$D63) -> 9485.1628 | F63: 1337.4817 | J63: 11 | K63: 6630.9927 | L63: =$L$52 -> 2110.3221 | M63: =SUM($K63:$L63) -> 8741.3148 | N63: 1233.343
B64: 12 | C64: 7421.7061 | D64: =$D$52 -> 2126.3272 | E64: =SUM($C64:$D64) -> 9548.0334 | F64: 1346.2836 | J64: 12 | K64: 6686.9439 | L64: =$L$52 -> 2110.3221 | M64: =SUM($K64:$L64) -> 8797.266 | N64: 1241.1761
... B67: 15 | C67: 7610.5564 | D67: =$D$52 -> 2126.3272 | E67: =SUM($C67:$D67) -> 9736.8836 | F67: 1372.7226 | J67: 15 | K67: 6854.5589 | L67: =$L$52 -> 2110.3221 | M67: =SUM($K67:$L67) -> 8964.881 | N67: 1264.6422
B68: 16 | C68: 7673.5462 | D68: =$D$52 -> 2126.3272 | E68: =SUM($C68:$D68) -> 9799.8734 | F68: 1381.5412
B69: 17 | C69: 7736.5361 | D69: =$D$52 -> 2126.3272 | E69: =SUM($C69:$D69) -> 9862.8633 | F69: 1390.3598
B70: 18 | C70: 7799.4066 | D70: =$D$52 -> 2126.3272 | E70: =SUM($C70:$D70) -> 9925.7338 | F70: 1399.1616
B71: 19 | C71: 7862.3965 | D71: =$D$52 -> 2126.3272 | E71: =SUM($C71:$D71) -> 9988.7237 | F71: 1407.9802
B72: 20 | C72: 7925.3863 | D72: =$D$52 -> 2126.3272 | E72: =SUM($C72:$D72) -> 10051.714 | F72: 1416.7988
A75: עודכנו שקלית - מדריך ד"ר, מדריך, אסיסטנט א', אסיסטנט ב', עוזרי הוראה 22 ש"ש, עוזרי הוראה 32 ש"ש, עמית הוראה 1, עמית הוראה א', עמית הוראה ב'
A76: ='ינואר 2018'!$A$76 -> עודכנו אחוזית - מורה מן החוץ 1, מורה מן החוץ א', מורה מן החוץ ב', מורה משנה א', מורה משנה ב', מורה עוזר א',ב',ג' וד'
A77: לוחות שכר באוניברסיטאות - סגל אקדמי זוטר, עמיתי הוראה ומורים מן החוץ
A78: =$A$2 -> פעימה שלישית בגין הסכם השכר עם הסגל האקדמי הזוטר באוניברסיטאות, החל מ-1.1.2020
B81: מורה עוזר | L81: =$F$5 -> מעודכן לינואר 2020
B82: רמה א' | J82: רמה ב'
B83: שנות ותק | C83: שכר משולב כולל ותק | D83: תוספת שחיקה | J83: שנות ותק | K83: שכר משולב כולל ותק | L83: תוספת שחיקה
B84: 0 | C84: 5467.5567 | D84: 765.45794 | J84: 0 | K84: 5775.0044 | L84: 808.50062
B85: 1 | C85: 5522.272 | D85: 773.11808 | J85: 1 | K85: 5832.6974 | L85: 816.57764
B86: 2 | C86: 5577.4836 | D86: 780.8477 | J86: 2 | K86: 5891.0107 | L86: 824.7415
B87: 3 | C87: 5633.3155 | D87: 788.66417 | J87: 3 | K87: 5949.9444 | L87: 832.99222
B88: 4 | C88: 5689.6437 | D88: 796.55011 | J88: 4 | K88: 6009.4985 | L88: 841.32978
B89: 5 | C89: 5746.5922 | D89: 804.52291 | J89: 5 | K89: 6069.5488 | L89: 849.73683
B90: 6 | C90: 5804.037 | D90: 812.56519 | J90: 6 | K90: 6130.2195 | L90: 858.23072
B91: 7 | C91: 5862.1022 | D91: 820.69431 | J91: 7 | K91: 6191.5105 | L91: 866.81147
B92: 8 | C92: 5920.6637 | D92: 828.89292 | J92: 8 | K92: 6253.4219 | L92: 875.47906
B95: רמה ג' | J95: רמה ד'
B96: שנות ותק | C96: שכר משולב כולל ותק | D96: תוספת שחיקה | J96: שנות ותק | K96: שכר משולב כולל ותק | L96: תוספת שחיקה
B97: 0 | C97: 6303.4224 | D97: 882.47914 | J97: 0 | K97: 6737.2984 | L97: 943.22178
B98: 1 | C98: 6366.4505 | D98: 891.30306 | J98: 1 | K98: 6804.6689 | L98: 952.65365
B99: 2 | C99: 6430.0988 | D99: 900.21384 | J99: 2 | K99: 6872.6598 | L99: 962.17237
B100: 3 | C100: 6494.3676 | D100: 909.21146 | J100: 3 | K100: 6941.395 | L100: 971.79531
B101: 4 | C101: 6559.2566 | D101: 918.29593 | J101: 4 | K101: 7010.7507 | L101: 981.5051
B102: 5 | C102: 6624.8902 | D102: 927.48462 | J102: 5 | K102: 7080.8507 | L102: 991.3191
B103: 6 | C103: 6691.144 | D103: 936.76016 | J103: 6 | K103: 7151.6952 | L103: 1001.2373
B104: 7 | C104: 6758.0182 | D104: 946.12255 | J104: 7 | K104: 7223.1601 | L104: 1011.2424
B105: 8 | C105: 6825.6369 | D105: 955.58916 | J105: 8 | K105: 7295.3693 | L105: 1021.3517
B109: עוזרי הוראה | F109: מעודכן לינואר 2020 | J109: עוזרי הוראה | N109: מעודכן לינואר 2020
B110: על-פי משרה מלאה של 22 ש"ש | J110: על-פי משרה מלאה של 32 ש"ש
B111: שנות ותק | C111: שכר משולב כולל ותק | D111: תוספת אקדמית (ניידות, ביגוד, טלפון) | E111: סך הכול שכר ללא תוספת שחיקה | F111: תוספת שחיקה | J111: שנות ותק | L111: תוספת אקדמית (ניידות, ביגוד, טלפון) | M111: סך הכול שכר ללא תוספת שחיקה | N111: תוספת שחיקה
B112: 0 | C112: 3669.6166 | D112: 1217.2907 | E112: 4886.9073 | F112: 696.95592 | J112: 0 | K112: 3740.2327 | L112: 1243.1905 | M112: 4983.4232 | N112: 710.46814
B113: 1 | C113: 3701.8572 | D113: 1217.2907 | E113: 4919.1479 | F113: 701.4696 | J113: 1 | K113: 3773.1592 | L113: 1243.1905 | M113: 5016.3497 | N113: 715.07785
B114: 2 | C114: 3734.0977 | D114: 1217.2907 | E114: 4951.3884 | F114: 705.98327 | J114: 2 | K114: 3806.0857 | L114: 1243.1905 | M114: 5049.2762 | N114: 719.68756
B115: 3 | C115: 3766.3383 | D115: 1217.2907 | E115: 4983.629 | F115: 710.49695 | J115: 3 | K115: 3839.0122 | L115: 1243.1905 | M115: 5082.2027 | N115: 724.29727
B116: 4 | C116: 3798.5788 | D116: 1217.2907 | E116: 5015.8695 | F116: 715.01062 | J116: 4 | K116: 3871.9387 | L116: 1243.1905 | M116: 5115.1292 | N116: 728.90698
B117: 5 | C117: 3830.8194 | D117: 1217.2907 | E117: 5048.11 | F117: 719.5243 | J117: 5 | K117: 3904.8652 | L117: 1243.1905 | M117: 5148.0557 | N117: 733.51669
B118: 6 | C118: 3863.0599 | D118: 1217.2907 | E118: 5080.3506 | F118: 724.03797 | J118: 6 | K118: 3937.7917 | L118: 1243.1905 | M118: 5180.9822 | N118: 738.12641
B119: 7 | C119: 3895.3004 | D119: 1217.2907 | E119: 5112.5911 | F119: 728.55165 | J119: 7 | K119: 3970.7182 | L119: 1243.1905 | M119: 5213.9087 | N119: 742.73612
B120: 8 | C120: 3927.541 | D120: 1217.2907 | E120: 5144.8317 | F120: 733.06533 | J120: 8 | K120: 4003.6448 | L120: 1243.1905 | M120: 5246.8352 | N120: 747.34583
B121: 9 | C121: 3959.7815 | D121: 1217.2907 | E121: 5177.0722 | F121: 737.579 | J121: 9 | K121: 4036.5713 | L121: 1243.1905 | M121: 5279.7618 | N121: 751.95554
B122: 10 | C122: 3992.0221 | D122: 1217.2907 | E122: 5209.3127 | F122: 742.09268 | J122: 10 | K122: 4069.4978 | L122: 1243.1905 | M122: 5312.6883 | N122: 756.56525
B123: 11 | C123: 4024.2626 | D123: 1217.2907 | E123: 5241.5533 | F123: 746.60635 | J123: 11 | K123: 4102.4243 | L123: 1243.1905 | M123: 5345.6148 | N123: 761.17496
... B127: 15 | C127: 4153.2248 | D127: 1217.2907 | E127: 5370.5154 | F127: 764.66106 | J127: 15 | K127: 4234.1303 | L127: 1243.1905 | M127: 5477.3208 | N127: 779.61381
B130: עמית הוראה ב' | F130: =$F$20 -> מעודכן לינואר 2020 | J130: עמית הוראה א' | N130: =$F$20 -> מעודכן לינואר 2020
B131: שנות ותק | C131: שכר משולב כולל ותק | D131: תוספת אקדמית (ניידות, ביגוד, טלפון) | E131: סך הכול שכר ללא תוספת שחיקה | F131: תוספת שחיקה | J131: שנות ותק | K131: שכר משולב כולל ותק | L131: תוספת אקדמית (ניידות, ביגוד, טלפון) | M131: סך הכול שכר ללא תוספת שחיקה | N131: תוספת שחיקה
B132: 0 | C132: 7662.4545 | D132: 2158.5856 | E132: =SUM($C132:$D132) -> 9821.0402 | F132: 1388.8077 | J132: 0 | K132: 6133.9964 | L132: 2110.3221 | M132: =SUM($K132:$L132) -> 8244.3185 | N132: 1168.0666
B133: 1 | C133: 7729.7391 | D133: =$D$132 -> 2158.5856 | E133: =SUM($C133:$D133) -> 9888.3248 | F133: 1398.2275 | J133: 1 | K133: 6189.9476 | L133: =$L$132 -> 2110.3221 | M133: =SUM($K133:$L133) -> 8300.2697 | N133: 1175.8998
B134: 2 | C134: 7797.0237 | D134: =$D$132 -> 2158.5856 | E134: =SUM($C134:$D134) -> 9955.6094 | F134: 1407.6474 | J134: 2 | K134: 6245.7795 | L134: =$L$132 -> 2110.3221 | M134: =SUM($K134:$L134) -> 8356.1016 | N134: 1183.7163
...

Sheet ינואר 2021
A1: לוחות שכר באוניברסיטאות - סגל אקדמי זוטר, עמיתי הוראה ומורים מן החוץ
A2: פעימה רביעית בגין הסכם השכר עם הסגל האקדמי הזוטר באוניברסיטאות, החל מ-1.1.2021
B5: מורה משנה ב' | F5: מעודכן לינואר 2021 | J5: מורה משנה א' | N5: =$F$5 -> מעודכן לינואר 2021
B6: שנות ותק | C6: שכר משולב כולל ותק | D6: תוספת אקדמית (ניידות, ביגוד, טלפון) | E6: סך הכול שכר ללא תוספת שחיקה | F6: תוספת שחיקה | J6: שנות ותק | K6: שכר משולב כולל ותק | L6: תוספת אקדמית (ניידות, ביגוד, טלפון) | M6: סך הכול שכר ללא תוספת שחיקה | N6: תוספת שחיקה
B7: 0 | C7: 7192.9941 | D7: 2270.3462 | E7: 9463.3404 | F7: 1324.8677 | J7: 0 | K7: 6099.1421 | L7: 2236.9414 | M7: 8336.0835 | N7: 1167.0517
B8: 1 | C8: 7264.3158 | D8: 2270.3462 | E8: 9534.6621 | F8: 1334.8527 | J8: 1 | K8: 6158.4504 | L8: 2236.9414 | M8: 8395.3917 | N8: 1175.3548
B9: 2 | C9: 7335.5111 | D9: 2270.3462 | E9: 9605.8573 | F9: 1344.82 | J9: 2 | K9: 6217.6322 | L9: 2236.9414 | M9: 8454.5736 | N9: 1183.6403
B10: 3 | C10: 7406.8327 | D10: 2270.3462 | E10: 9677.179 | F10: 1354.8051 | J10: 3 | K10: 6276.9405 | L10: 2236.9414 | M10: 8513.8818 | N10: 1191.9435
B11: 4 | C11: 7478.1544 | D11: 2270.3462 | E11: 9748.5007 | F11: 1364.7901 | J11: 4 | K11: 6336.2487 | L11: 2236.9414 | M11: 8573.1901 | N11: 1200.2466
B12: 5 | C12: 7549.4761 | D12: 2270.3462 | E12: 9819.8223 | F12: 1374.7751 | J12: 5 | K12: 6395.4306 | L12: 2236.9414 | M12: 8632.3719 | N12: 1208.5321
B13: 6 | C13: 7620.7978 | D13: 2270.3462 | E13: 9891.144 | F13: 1384.7602 | J13: 6 | K13: 6454.7388 | L13: 2236.9414 | M13: 8691.6802 | N13: 1216.8352
B14: 7 | C14: 7692.1195 | D14: 2270.3462 | E14: 9962.4657 | F14: 1394.7452 | J14: 7 | K14: 6513.9207 | L14: 2236.9414 | M14: 8750.862 | N14: 1225.1207
B15: 8 | C15: 7763.4412 | D15: 2270.3462 | E15: 10033.787 | F15: 1404.7302 | J15: 8 | K15: 6573.2289 | L15: 2236.9414 | M15: 8810.1703 | N15: 1233.4238
B16: 9 | C16: 7834.7628 | D16: 2270.3462 | E16: 10105.109 | F16: 1414.7153 | J16: 9 | K16: 6632.5372 | L16: 2236.9414 | M16: 8869.4786 | N16: 1241.727
B17: 10 | C17: 7906.0845 | D17: 2270.3462 | E17: 10176.431 | F17: 1424.7003 | J17: 10 | K17: 6691.719 | L17: 2236.9414 | M17: 8928.6604 | N17: 1250.0125
B20: מדריך ד"ר | F20: =$F$5 -> מעודכן לינואר 2021 | J20: מדריך | N20: =$F$20 -> מעודכן לינואר 2021
B21: שנות ותק | C21: שכר משולב כולל ותק | D21: תוספת אקדמית (ניידות, ביגוד, טלפון) | E21: סך הכול שכר ללא תוספת שחיקה | F21: תוספת שחיקה | J21: שנות ותק | K21: שכר משולב כולל ותק | L21: תוספת אקדמית (ניידות, ביגוד, טלפון) | M21: סך הכול שכר ללא תוספת שחיקה | N21: תוספת שחיקה
B22: 0 | C22: 7672.8398 | D22: 2158.5856 | E22: =SUM($C22:$D22) -> 9831.4254 | F22: 1390.6404 | J22: 0 | K22: 7176.3176 | L22: 2141.8361 | M22: =SUM($K22:$L22) -> 9318.1536 | N22: 1318.7823
B23: 1 | C23: 7740.1244 | D23: =$D$22 -> 2158.5856 | E23: =SUM($C23:$D23) -> 9898.71 | F23: 1400.0602 | J23: 1 | K23: 7243.6022 | L23: =$L$22 -> 2141.8361 | M23: =SUM($K23:$L23) -> 9385.4382 | N23: 1328.2022
B24: 2 | C24: 7807.409 | D24: =$D$22 -> 2158.5856 | E24: =SUM($C24:$D24) -> 9965.9947 | F24: 1409.4801 | J24: 2 | K24: 7310.7675 | L24: =$L$22 -> 2141.8361 | M24: =SUM($K24:$L24) -> 9452.6036 | N24: 1337.6053
B25: 3 | C25: 7874.5743 | D25: =$D$22 -> 2158.5856 | E25: =SUM($C25:$D25) -> 10033.16 | F25: 1418.8832 | J25: 3 | K25: 7378.0521 | L25: =$L$22 -> 2141.8361 | M25: =SUM($K25:$L25) -> 9519.8882 | N25: 1347.0252
B26: 4 | C26: 7941.8589 | D26: =$D$22 -> 2158.5856 | E26: =SUM($C26:$D26) -> 10100.445 | F26: 1428.3031 | J26: 4 | K26: 7445.3367 | L26: =$L$22 -> 2141.8361 | M26: =SUM($K26:$L26) -> 9587.1728 | N26: 1356.445
B27: 5 | C27: 8009.1435 | D27: =$D$22 -> 2158.5856 | E27: =SUM($C27:$D27) -> 10167.729 | F27: 1437.7229 | J27: 5 | K27: 7512.6213 | L27: =$L$22 -> 2141.8361 | M27: =SUM($K27:$L27) -> 9654.4574 | N27: 1365.8649
B28: 6 | C28: 8076.4281 | D28: =$D$22 -> 2158.5856 | E28: =SUM($C28:$D28) -> 10235.014 | F28: 1447.1427 | J28: 6 | K28: 7579.9059 | L28: =$L$22 -> 2141.8361 | M28: =SUM($K28:$L28) -> 9721.742 | N28: 1375.2847
B29: 7 | C29: 8143.7127 | D29: =$D$22 -> 2158.5856 | E29: =SUM($C29:$D29) -> 10302.298 | F29: 1456.5626 | J29: 7 | K29: 7647.1905 | L29: =$L$22 -> 2141.8361 | M29: =SUM($K29:$L29) -> 9789.0266 | N29: 1384.7045
B30: 8 | C30: 8210.9974 | D30: =$D$22 -> 2158.5856 | E30: =SUM($C30:$D30) -> 10369.583 | F30: 1465.9824 | J30: 8 | K30: 7714.4751 | L30: =$L$22 -> 2141.8361 | M30: =SUM($K30:$L30) -> 9856.3112 | N30: 1394.1244
B31: 9 | C31: 8278.282 | D31: =$D$22 -> 2158.5856 | E31: =SUM($C31:$D31) -> 10436.868 | F31: 1475.4023 | J31: 9 | K31: 7781.7597 | L31: =$L$22 -> 2141.8361 | M31: =SUM($K31:$L31) -> 9923.5958 | N31: 1403.5442
B32: 10 | C32: 8345.5666 | D32: =$D$22 -> 2158.5856 | E32: =SUM($C32:$D32) -> 10504.152 | F32: 1484.8221 | J32: 10 | K32: 7849.0443 | L32: =$L$22 -> 2141.8361 | M32: =SUM($K32:$L32) -> 9990.8804 | N32: 1412.9641
B33: 11 | C33: 8412.8512 | D33: =$D$22 -> 2158.5856 | E33: =SUM($C33:$D33) -> 10571.437 | F33: 1494.242 | J33: 11 | K33: 7916.2097 | L33: =$L$22 -> 2141.8361 | M33: =SUM($K33:$L33) -> 10058.046 | N33: 1422.3672
B34: 12 | C34: 8480.0165 | D34: =$D$22 -> 2158.5856 | E34: =SUM($C34:$D34) -> 10638.602 | F34: 1503.6451 | J34: 12 | K34: 7983.4943 | L34: =$L$22 -> 2141.8361 | M34: =SUM($K34:$L34) -> 10125.33 | N34: 1431.7871
... B47: 25 | C47: 9354.5971 | D47: =$D$22 -> 2158.5856 | E47: =SUM($C47:$D47) -> 11513.183 | F47: 1626.0864 | J47: 25 | K47: 8858.0749 | L47: =$L$22 -> 2141.8361 | M47: =SUM($K47:$L47) -> 10999.911 | N47: 1554.2283
B50: אסיסטנט ב' | F50: =$F$20 -> מעודכן לינואר 2021 | J50: אסיסטנט א' | N50: =$F$20 -> מעודכן לינואר 2021
B51: שנות ותק | C51: שכר משולב כולל ותק | D51: תוספת אקדמית (ניידות, ביגוד, טלפון) | E51: סך הכול שכר ללא תוספת שחיקה | F51: תוספת שחיקה | J51: שנות ותק | K51: שכר משולב כולל ותק | L51: תוספת אקדמית (ניידות, ביגוד, טלפון) | M51: סך הכול שכר ללא תוספת שחיקה | N51: תוספת שחיקה
B52: 0 | C52: 6794.7995 | D52: 2126.3272 | E52: =SUM($C52:$D52) -> 8921.1267 | F52: 1263.1986 | J52: 0 | K52: 6144.3817 | L52: 2110.3221 | M52: =SUM($K52:$L52) -> 8254.7037 | N52: 1169.8993
B53: 1 | C53: 6857.6701 | D53: =$D$52 -> 2126.3272 | E53: =SUM($C53:$D53) -> 8983.9973 | F53: 1272.0004 | J53: 1 | K53: 6200.3329 | L53: =$L$52 -> 2110.3221 | M53: =SUM($K53:$L53) -> 8310.6549 | N53: 1177.7325
B54: 2 | C54: 6920.6599 | D54: =$D$52 -> 2126.3272 | E54: =SUM($C54:$D54) -> 9046.9871 | F54: 1280.819 | J54: 2 | K54: 6256.1648 | L54: =$L$52 -> 2110.3221 | M54: =SUM($K54:$L54) -> 8366.4868 | N54: 1185.549
B55: 3 | C55: 6983.6498 | D55: =$D$52 -> 2126.3272 | E55: =SUM($C55:$D55) -> 9109.977 | F55: 1289.6376 | J55: 3 | K55: 6312.116 | L55: =$L$52 -> 2110.3221 | M55: =SUM($K55:$L55) -> 8422.438 | N55: 1193.3821
B56: 4 | C56: 7046.5203 | D56: =$D$52 -> 2126.3272 | E56: =SUM($C56:$D56) -> 9172.8475 | F56: 1298.4395 | J56: 4 | K56: 6368.0672 | L56: =$L$52 -> 2110.3221 | M56: =SUM($K56:$L56) -> 8478.3892 | N56: 1201.2153
B57: 5 | C57: 7109.5102 | D57: =$D$52 -> 2126.3272 | E57: =SUM($C57:$D57) -> 9235.8374 | F57: 1307.258 | J57: 5 | K57: 6423.8991 | L57: =$L$52 -> 2110.3221 | M57: =SUM($K57:$L57) -> 8534.2212 | N57: 1209.0318
B58: 6 | C58: 7172.5 | D58: =$D$52 -> 2126.3272 | E58: =SUM($C58:$D58) -> 9298.8272 | F58: 1316.0766 | J58: 6 | K58: 6479.8503 | L58: =$L$52 -> 2110.3221 | M58: =SUM($K58:$L58) -> 8590.1724 | N58: 1216.8649
B59: 7 | C59: 7235.3705 | D59: =$D$52 -> 2126.3272 | E59: =SUM($C59:$D59) -> 9361.6978 | F59: 1324.8785 | J59: 7 | K59: 6535.6822 | L59: =$L$52 -> 2110.3221 | M59: =SUM($K59:$L59) -> 8646.0043 | N59: 1224.6814
B60: 8 | C60: 7298.3604 | D60: =$D$52 -> 2126.3272 | E60: =SUM($C60:$D60) -> 9424.6876 | F60: 1333.6971 | J60: 8 | K60: 6591.6334 | L60: =$L$52 -> 2110.3221 | M60: =SUM($K60:$L60) -> 8701.9555 | N60: 1232.5146
B61: 9 | C61: 7361.3502 | D61: =$D$52 -> 2126.3272 | E61: =SUM($C61:$D61) -> 9487.6774 | F61: 1342.5157 | J61: 9 | K61: 6647.5846 | L61: =$L$52 -> 2110.3221 | M61: =SUM($K61:$L61) -> 8757.9067 | N61: 1240.3478
B62: 10 | C62: 7424.2208 | D62: =$D$52 -> 2126.3272 | E62: =SUM($C62:$D62) -> 9550.548 | F62: 1351.3175 | J62: 10 | K62: 6703.4165 | L62: =$L$52 -> 2110.3221 | M62: =SUM($K62:$L62) -> 8813.7386 | N62: 1248.1642
B63: 11 | C63: 7487.2106 | D63: =$D$52 -> 2126.3272 | E63: =SUM($C63:$D63) -> 9613.5378 | F63: 1360.1361 | J63: 11 | K63: 6759.3677 | L63: =$L$52 -> 2110.3221 | M63: =SUM($K63:$L63) -> 8869.6898 | N63: 1255.9974
B64: 12 | C64: 7550.0812 | D64: =$D$52 -> 2126.3272 | E64: =SUM($C64:$D64) -> 9676.4084 | F64: 1368.938 | J64: 12 | K64: 6815.3189 | L64: =$L$52 -> 2110.3221 | M64: =SUM($K64:$L64) -> 8925.641 | N64: 1263.8306
... B67: 15 | C67: 7738.9314 | D67: =$D$52 -> 2126.3272 | E67: =SUM($C67:$D67) -> 9865.2586 | F67: 1395.377 | J67: 15 | K67: 6982.934 | L67: =$L$52 -> 2110.3221 | M67: =SUM($K67:$L67) -> 9093.256 | N67: 1287.2967
B68: 16 | C68: 7801.9213 | D68: =$D$52 -> 2126.3272 | E68: =SUM($C68:$D68) -> 9928.2485 | F68: 1404.1956
B69: 17 | C69: 7864.9111 | D69: =$D$52 -> 2126.3272 | E69: =SUM($C69:$D69) -> 9991.2383 | F69: 1413.0142
B70: 18 | C70: 7927.7816 | D70: =$D$52 -> 2126.3272 | E70: =SUM($C70:$D70) -> 10054.109 | F70: 1421.8161
B71: 19 | C71: 7990.7715 | D71: =$D$52 -> 2126.3272 | E71: =SUM($C71:$D71) -> 10117.099 | F71: 1430.6346
B72: 20 | C72: 8053.7613 | D72: =$D$52 -> 2126.3272 | E72: =SUM($C72:$D72) -> 10180.089 | F72: 1439.4532
A75: עודכנו שקלית - מדריך ד"ר, מדריך, אסיסטנט א', אסיסטנט ב', עוזרי הוראה 22 ש"ש, עוזרי הוראה 32 ש"ש, עמית הוראה 1, עמית הוראה א', עמית הוראה ב'
A76: ='ינואר 2018'!$A$76 -> עודכנו אחוזית - מורה מן החוץ 1, מורה מן החוץ א', מורה מן החוץ ב', מורה משנה א', מורה משנה ב', מורה עוזר א',ב',ג' וד'
A77: לוחות שכר באוניברסיטאות - סגל אקדמי זוטר, עמיתי הוראה ומורים מן החוץ
A78: =$A$2 -> פעימה רביעית בגין הסכם השכר עם הסגל האקדמי הזוטר באוניברסיטאות, החל מ-1.1.2021
B81: מורה עוזר | L81: =$F$5 -> מעודכן לינואר 2021
B82: רמה א' | J82: רמה ב'
B83: שנות ותק | C83: שכר משולב כולל ותק | D83: תוספת שחיקה | J83: שנות ותק | K83: שכר משולב כולל ותק | L83: תוספת שחיקה
B84: 0 | C84: 5572.7021 | D84: 780.17829 | J84: 0 | K84: 5886.0622 | L84: 824.04871
B85: 1 | C85: 5628.4695 | D85: 787.98574 | J85: 1 | K85: 5944.8647 | L85: 832.28105
B86: 2 | C86: 5684.7429 | D86: 795.864 | J86: 2 | K86: 6004.2994 | L86: 840.60192
B87: 3 | C87: 5741.6485 | D87: 803.83078 | J87: 3 | K87: 6064.3664 | L87: 849.0113
B88: 4 | C88: 5799.0599 | D88: 811.86838 | J88: 4 | K88: 6125.0657 | L88: 857.5092
B89: 5 | C89: 5857.1036 | D89: 819.9945 | J89: 5 | K89: 6186.2709 | L89: 866.07792
B90: 6 | C90: 5915.6531 | D90: 828.19144 | J90: 6 | K90: 6248.1083 | L90: 874.73516
B91: 7 | C91: 5974.835 | D91: 836.47689 | J91: 7 | K91: 6310.578 | L91: 883.48092
B92: 8 | C92: 6034.5226 | D92: 844.83317 | J92: 8 | K92: 6373.68 | L92: 892.3152
B95: רמה ג' | J95: רמה ד'
B96: שנות ותק | C96: שכר משולב כולל ותק | D96: תוספת שחיקה | J96: שנות ותק | K96: שכר משולב כולל ותק | L96: תוספת שחיקה
B97: 0 | C97: 6424.6421 | D97: 899.44989 | J97: 0 | K97: 6866.8618 | L97: 961.36066
B98: 1 | C98: 6488.8822 | D98: 908.44351 | J98: 1 | K98: 6935.5279 | L98: 970.97391
B99: 2 | C99: 6553.7546 | D99: 917.52564 | J99: 2 | K99: 7004.8263 | L99: 980.67568
B100: 3 | C100: 6619.2592 | D100: 926.69629 | J100: 3 | K100: 7074.8834 | L100: 990.48368
B101: 4 | C101: 6685.3962 | D101: 935.95547 | J101: 4 | K101: 7145.5728 | L101: 1000.3802
B102: 5 | C102: 6752.2919 | D102: 945.32087 | J102: 5 | K102: 7217.0209 | L102: 1010.3829
B103: 6 | C103: 6819.8199 | D103: 954.77478 | J103: 6 | K103: 7289.2278 | L103: 1020.4919
B104: 7 | C104: 6887.9801 | D104: 964.31722 | J104: 7 | K104: 7362.067 | L104: 1030.6894
B105: 8 | C105: 6956.8991 | D105: 973.96588 | J105: 8 | K105: 7435.6649 | L105: 1040.9931
B108: עוזרי הוראה | F108: =$F$5 -> מעודכן לינואר 2021 | J108: עוזרי הוראה | N108: =$F$5 -> מעודכן לינואר 2021
B109: על-פי משרה מלאה של 22 ש"ש | J109: על-פי משרה מלאה של 32 ש"ש
B110: שנות ותק | C110: שכר משולב כולל ותק | D110: תוספת אקדמית (ניידות, ביגוד, טלפון) | E110: סך הכול שכר ללא תוספת שחיקה | F110: תוספת שחיקה | J110: שנות ותק | L110: תוספת אקדמית (ניידות, ביגוד, טלפון) | M110: סך הכול שכר ללא תוספת שחיקה | N110: תוספת שחיקה
B111: 0 | C111: 3820.0399 | D111: 1217.2907 | E111: 5037.3306 | F111: 723.5012 | J111: 0 | K111: 3890.6559 | L111: 1243.1905 | M111: 5133.8464 | N111: 737.01341
B112: 1 | C112: 3852.2804 | D112: 1217.2907 | E112: 5069.5711 | F112: 728.01487 | J112: 1 | K112: 3923.5824 | L112: 1243.1905 | M112: 5166.7729 | N112: 741.62312
B113: 2 | C113: 3884.521 | D113: 1217.2907 | E113: 5101.8116 | F113: 732.52855 | J113: 2 | K113: 3956.5089 | L113: 1243.1905 | M113: 5199.6994 | N113: 746.23283
B114: 3 | C114: 3916.7615 | D114: 1217.2907 | E114: 5134.0522 | F114: 737.04222 | J114: 3 | K114: 3989.4354 | L114: 1243.1905 | M114: 5232.6259 | N114: 750.84255
B115: 4 | C115: 3949.002 | D115: 1217.2907 | E115: 5166.2927 | F115: 741.5559 | J115: 4 | K115: 4022.3619 | L115: 1243.1905 | M115: 5265.5524 | N115: 755.45226
B116: 5 | C116: 3981.2426 | D116: 1217.2907 | E116: 5198.5333 | F116: 746.06957 | J116: 5 | K116: 4055.2885 | L116: 1243.1905 | M116: 5298.4789 | N116: 760.06197
B117: 6 | C117: 4013.4831 | D117: 1217.2907 | E117: 5230.7738 | F117: 750.58325 | J117: 6 | K117: 4088.215 | L117: 1243.1905 | M117: 5331.4055 | N117: 764.67168
B118: 7 | C118: 4045.7237 | D118: 1217.2907 | E118: 5263.0143 | F118: 755.09693 | J118: 7 | K118: 4121.1415 | L118: 1243.1905 | M118: 5364.332 | N118: 769.28139
B119: 8 | C119: 4077.9642 | D119: 1217.2907 | E119: 5295.2549 | F119: 759.6106 | J119: 8 | K119: 4154.068 | L119: 1243.1905 | M119: 5397.2585 | N119: 773.8911
B120: 9 | C120: 4110.2047 | D120: 1217.2907 | E120: 5327.4954 | F120: 764.12428 | J120: 9 | K120: 4186.9945 | L120: 1243.1905 | M120: 5430.185 | N120: 778.50081
B121: 10 | C121: 4142.4453 | D121: 1217.2907 | E121: 5359.736 | F121: 768.63795 | J121: 10 | K121: 4219.921 | L121: 1243.1905 | M121: 5463.1115 | N121: 783.11053
B122: 11 | C122: 4174.6858 | D122: 1217.2907 | E122: 5391.9765 | F122: 773.15163 | J122: 11 | K122: 4252.8475 | L122: 1243.1905 | M122: 5496.038 | N122: 787.72024
... B126: 15 | C126: 4303.648 | D126: 1217.2907 | E126: 5520.9387 | F126: 791.20633 | J126: 15 | K126: 4384.5536 | L126: 1243.1905 | M126: 5627.744 | N126: 806.15908
B129: עמית הוראה ב' | F129: =$F$20 -> מעודכן לינואר 2021 | J129: עמית הוראה א' | N129: =$F$20 -> מעודכן לינואר 2021
B130: שנות ותק | C130: שכר משולב כולל ותק | D130: תוספת אקדמית (ניידות, ביגוד, טלפון) | E130: סך הכול שכר ללא תוספת שחיקה | F130: תוספת שחיקה | J130: שנות ותק | K130: שכר משולב כולל ותק | L130: תוספת אקדמית (ניידות, ביגוד, טלפון) | M130: סך הכול שכר ללא תוספת שחיקה | N130: תוספת שחיקה
B131: 0 | C131: 7852.4989 | D131: 2158.5856 | E131: =SUM($C131:$D131) -> 10011.085 | F131: 1422.3449 | J131: 0 | K131: 6324.0408 | L131: 2110.3221 | M131: =SUM($K131:$L131) -> 8434.3628 | N131: 1201.6039
B132: 1 | C132: 7919.7835 | D132: =$D$131 -> 2158.5856 | E132: =SUM($C132:$D132) -> 10078.369 | F132: 1431.7648 | J132: 1 | K132: 6379.992 | L132: =$L$131 -> 2110.3221 | M132: =SUM($K132:$L132) -> 8490.314 | N132: 1209.4371
B133: 2 | C133: 7987.0681 | D133: =$D$131 -> 2158.5856 | E133: =SUM($C133:$D133) -> 10145.654 | F133: 1441.1846 | J133: 2 | K133: 6435.8239 | L133: =$L$131 -> 2110.3221 | M133: =SUM($K133:$L133) -> 8546.146 | N133: 1217.2535
...

Sheet ספטמבר 2021
A1: לוחות שכר באוניברסיטאות - סגל אקדמי זוטר, עמיתי הוראה ומורים מן החוץ
A2: פעימה חמישית בגין הסכם השכר עם הסגל האקדמי הזוטר באוניברסיטאות, החל מ-1.9.2021
B5: מורה משנה ב' | F5: מעודכן לספטמבר 2021 | J5: מורה משנה א' | N5: =$F$5 -> מעודכן לספטמבר 2021
B6: שנות ותק | C6: שכר משולב כולל ותק | D6: תוספת אקדמית (ניידות, ביגוד, טלפון) | E6: סך הכול שכר ללא תוספת שחיקה | F6: תוספת שחיקה | J6: שנות ותק | K6: שכר משולב כולל ותק | L6: תוספת אקדמית (ניידות, ביגוד, טלפון) | M6: סך הכול שכר ללא תוספת שחיקה | N6: תוספת שחיקה
B7: 0 | C7: 7260.8526 | D7: 2291.7646 | E7: 9552.6172 | F7: 1337.3664 | J7: 0 | K7: 6156.6812 | L7: 2258.0446 | M7: 8414.7258 | N7: 1178.0616
B8: 1 | C8: 7332.8471 | D8: 2291.7646 | E8: 9624.6117 | F8: 1347.4456 | J8: 1 | K8: 6216.5489 | L8: 2258.0446 | M8: 8474.5935 | N8: 1186.4431
B9: 2 | C9: 7404.714 | D9: 2291.7646 | E9: 9696.4786 | F9: 1357.507 | J9: 2 | K9: 6276.2891 | L9: 2258.0446 | M9: 8534.3337 | N9: 1194.8067
B10: 3 | C10: 7476.7085 | D10: 2291.7646 | E10: 9768.4731 | F10: 1367.5862 | J10: 3 | K10: 6336.1569 | L10: 2258.0446 | M10: 8594.2015 | N10: 1203.1882
B11: 4 | C11: 7548.703 | D11: 2291.7646 | E11: 9840.4676 | F11: 1377.6655 | J11: 4 | K11: 6396.0247 | L11: 2258.0446 | M11: 8654.0693 | N11: 1211.5697
B12: 5 | C12: 7620.6976 | D12: 2291.7646 | E12: 9912.4622 | F12: 1387.7447 | J12: 5 | K12: 6455.7648 | L12: 2258.0446 | M12: 8713.8094 | N12: 1219.9333
B13: 6 | C13: 7692.6921 | D13: 2291.7646 | E13: 9984.4567 | F13: 1397.8239 | J13: 6 | K13: 6515.6326 | L13: 2258.0446 | M13: 8773.6772 | N13: 1228.3148
B14: 7 | C14: 7764.6866 | D14: 2291.7646 | E14: 10056.451 | F14: 1407.9032 | J14: 7 | K14: 6575.3727 | L14: 2258.0446 | M14: 8833.4173 | N14: 1236.6784
B15: 8 | C15: 7836.6812 | D15: 2291.7646 | E15: 10128.446 | F15: 1417.9824 | J15: 8 | K15: 6635.2405 | L15: 2258.0446 | M15: 8893.2851 | N15: 1245.0599
B16: 9 | C16: 7908.6757 | D16: 2291.7646 | E16: 10200.44 | F16: 1428.0616 | J16: 9 | K16: 6695.1083 | L16: 2258.0446 | M16: 8953.1529 | N16: 1253.4414
B17: 10 | C17: 7980.6702 | D17: 2291.7646 | E17: 10272.435 | F17: 1438.1409 | J17: 10 | K17: 6754.8485 | L17: 2258.0446 | M17: 9012.8931 | N17: 1261.805
B20: מדריך ד"ר | F20: =$F$5 -> מעודכן לספטמבר 2021 | J20: מדריך | N20: =$F$20 -> מעודכן לספטמבר 2021
B21: שנות ותק | C21: שכר משולב כולל ותק | D21: תוספת אקדמית (ניידות, ביגוד, טלפון) | E21: סך הכול שכר ללא תוספת שחיקה | F21: תוספת שחיקה | J21: שנות ותק | K21: שכר משולב כולל ותק | L21: תוספת אקדמית (ניידות, ביגוד, טלפון) | M21: סך הכול שכר ללא תוספת שחיקה | N21: תוספת שחיקה
B22: 0 | C22: 7738.8103 | D22: 2158.5856 | E22: =SUM($C22:$D22) -> 9897.3959 | F22: 1402.2822 | J22: 0 | K22: 7242.2881 | L22: 2141.8361 | M22: =SUM($K22:$L22) -> 9384.1241 | N22: 1330.4242
B23: 1 | C23: 7806.0949 | D23: =$D$22 -> 2158.5856 | E23: =SUM($C23:$D23) -> 9964.6805 | F23: 1411.7021 | J23: 1 | K23: 7309.5727 | L23: =$L$22 -> 2141.8361 | M23: =SUM($K23:$L23) -> 9451.4087 | N23: 1339.844
B24: 2 | C24: 7873.3795 | D24: =$D$22 -> 2158.5856 | E24: =SUM($C24:$D24) -> 10031.965 | F24: 1421.1219 | J24: 2 | K24: 7376.738 | L24: =$L$22 -> 2141.8361 | M24: =SUM($K24:$L24) -> 9518.5741 | N24: 1349.2472
B25: 3 | C25: 7940.5448 | D25: =$D$22 -> 2158.5856 | E25: =SUM($C25:$D25) -> 10099.13 | F25: 1430.5251 | J25: 3 | K25: 7444.0226 | L25: =$L$22 -> 2141.8361 | M25: =SUM($K25:$L25) -> 9585.8587 | N25: 1358.667
B26: 4 | C26: 8007.8294 | D26: =$D$22 -> 2158.5856 | E26: =SUM($C26:$D26) -> 10166.415 | F26: 1439.9449 | J26: 4 | K26: 7511.3072 | L26: =$L$22 -> 2141.8361 | M26: =SUM($K26:$L26) -> 9653.1433 | N26: 1368.0869
B27: 5 | C27: 8075.114 | D27: =$D$22 -> 2158.5856 | E27: =SUM($C27:$D27) -> 10233.7 | F27: 1449.3648 | J27: 5 | K27: 7578.5918 | L27: =$L$22 -> 2141.8361 | M27: =SUM($K27:$L27) -> 9720.4279 | N27: 1377.5067
B28: 6 | C28: 8142.3986 | D28: =$D$22 -> 2158.5856 | E28: =SUM($C28:$D28) -> 10300.984 | F28: 1458.7846 | J28: 6 | K28: 7645.8764 | L28: =$L$22 -> 2141.8361 | M28: =SUM($K28:$L28) -> 9787.7125 | N28: 1386.9265
B29: 7 | C29: 8209.6832 | D29: =$D$22 -> 2158.5856 | E29: =SUM($C29:$D29) -> 10368.269 | F29: 1468.2044 | J29: 7 | K29: 7713.161 | L29: =$L$22 -> 2141.8361 | M29: =SUM($K29:$L29) -> 9854.9971 | N29: 1396.3464
B30: 8 | C30: 8276.9679 | D30: =$D$22 -> 2158.5856 | E30: =SUM($C30:$D30) -> 10435.553 | F30: 1477.6243 | J30: 8 | K30: 7780.4456 | L30: =$L$22 -> 2141.8361 | M30: =SUM($K30:$L30) -> 9922.2817 | N30: 1405.7662
B31: 9 | C31: 8344.2525 | D31: =$D$22 -> 2158.5856 | E31: =SUM($C31:$D31) -> 10502.838 | F31: 1487.0441 | J31: 9 | K31: 7847.7302 | L31: =$L$22 -> 2141.8361 | M31: =SUM($K31:$L31) -> 9989.5663 | N31: 1415.1861
B32: 10 | C32: 8411.5371 | D32: =$D$22 -> 2158.5856 | E32: =SUM($C32:$D32) -> 10570.123 | F32: 1496.464 | J32: 10 | K32: 7915.0148 | L32: =$L$22 -> 2141.8361 | M32: =SUM($K32:$L32) -> 10056.851 | N32: 1424.6059
B33: 11 | C33: 8478.8217 | D33: =$D$22 -> 2158.5856 | E33: =SUM($C33:$D33) -> 10637.407 | F33: 1505.8838 | J33: 11 | K33: 7982.1801 | L33: =$L$22 -> 2141.8361 | M33: =SUM($K33:$L33) -> 10124.016 | N33: 1434.0091
B34: 12 | C34: 8545.987 | D34: =$D$22 -> 2158.5856 | E34: =SUM($C34:$D34) -> 10704.573 | F34: 1515.287 | J34: 12 | K34: 8049.4648 | L34: =$L$22 -> 2141.8361 | M34: =SUM($K34:$L34) -> 10191.301 | N34: 1443.4289
... B47: 25 | C47: 9420.5676 | D47: =$D$22 -> 2158.5856 | E47: =SUM($C47:$D47) -> 11579.153 | F47: 1637.7283 | J47: 25 | K47: 8924.0454 | L47: =$L$22 -> 2141.8361 | M47: =SUM($K47:$L47) -> 11065.881 | N47: 1565.8702
B50: אסיסטנט ב' | F50: =$F$20 -> מעודכן לספטמבר 2021 | J50: אסיסטנט א' | N50: =$F$20 -> מעודכן לספטמבר 2021
B51: שנות ותק | C51: שכר משולב כולל ותק | D51: תוספת אקדמית (ניידות, ביגוד, טלפון) | E51: סך הכול שכר ללא תוספת שחיקה | F51: תוספת שחיקה | J51: שנות ותק | K51: שכר משולב כולל ותק | L51: תוספת אקדמית (ניידות, ביגוד, טלפון) | M51: סך הכול שכר ללא תוספת שחיקה | N51: תוספת שחיקה
B52: 0 | C52: 6860.77 | D52: 2126.3272 | E52: =SUM($C52:$D52) -> 8987.0972 | F52: 1274.8404 | J52: 0 | K52: 6210.3522 | L52: 2110.3221 | M52: =SUM($K52:$L52) -> 8320.6742 | N52: 1181.5412
B53: 1 | C53: 6923.6406 | D53: =$D$52 -> 2126.3272 | E53: =SUM($C53:$D53) -> 9049.9678 | F53: 1283.6423 | J53: 1 | K53: 6266.3034 | L53: =$L$52 -> 2110.3221 | M53: =SUM($K53:$L53) -> 8376.6254 | N53: 1189.3744
B54: 2 | C54: 6986.6304 | D54: =$D$52 -> 2126.3272 | E54: =SUM($C54:$D54) -> 9112.9576 | F54: 1292.4609 | J54: 2 | K54: 6322.1353 | L54: =$L$52 -> 2110.3221 | M54: =SUM($K54:$L54) -> 8432.4573 | N54: 1197.1908
B55: 3 | C55: 7049.6203 | D55: =$D$52 -> 2126.3272 | E55: =SUM($C55:$D55) -> 9175.9475 | F55: 1301.2794 | J55: 3 | K55: 6378.0865 | L55: =$L$52 -> 2110.3221 | M55: =SUM($K55:$L55) -> 8488.4085 | N55: 1205.024
B56: 4 | C56: 7112.4908 | D56: =$D$52 -> 2126.3272 | E56: =SUM($C56:$D56) -> 9238.818 | F56: 1310.0813 | J56: 4 | K56: 6434.0377 | L56: =$L$52 -> 2110.3221 | M56: =SUM($K56:$L56) -> 8544.3597 | N56: 1212.8572
B57: 5 | C57: 7175.4807 | D57: =$D$52 -> 2126.3272 | E57: =SUM($C57:$D57) -> 9301.8079 | F57: 1318.8999 | J57: 5 | K57: 6489.8696 | L57: =$L$52 -> 2110.3221 | M57: =SUM($K57:$L57) -> 8600.1917 | N57: 1220.6736
B58: 6 | C58: 7238.4705 | D58: =$D$52 -> 2126.3272 | E58: =SUM($C58:$D58) -> 9364.7977 | F58: 1327.7185 | J58: 6 | K58: 6545.8208 | L58: =$L$52 -> 2110.3221 | M58: =SUM($K58:$L58) -> 8656.1429 | N58: 1228.5068
B59: 7 | C59: 7301.341 | D59: =$D$52 -> 2126.3272 | E59: =SUM($C59:$D59) -> 9427.6683 | F59: 1336.5204 | J59: 7 | K59: 6601.6527 | L59: =$L$52 -> 2110.3221 | M59: =SUM($K59:$L59) -> 8711.9748 | N59: 1236.3233
B60: 8 | C60: 7364.3309 | D60: =$D$52 -> 2126.3272 | E60: =SUM($C60:$D60) -> 9490.6581 | F60: 1345.3389 | J60: 8 | K60: 6657.6039 | L60: =$L$52 -> 2110.3221 | M60: =SUM($K60:$L60) -> 8767.926 | N60: 1244.1564
B61: 9 | C61: 7427.3207 | D61: =$D$52 -> 2126.3272 | E61: =SUM($C61:$D61) -> 9553.6479 | F61: 1354.1575 | J61: 9 | K61: 6713.5551 | L61: =$L$52 -> 2110.3221 | M61: =SUM($K61:$L61) -> 8823.8772 | N61: 1251.9896
B62: 10 | C62: 7490.1913 | D62: =$D$52 -> 2126.3272 | E62: =SUM($C62:$D62) -> 9616.5185 | F62: 1362.9594 | J62: 10 | K62: 6769.387 | L62: =$L$52 -> 2110.3221 | M62: =SUM($K62:$L62) -> 8879.7091 | N62: 1259.8061
B63: 11 | C63: 7553.1811 | D63: =$D$52 -> 2126.3272 | E63: =SUM($C63:$D63) -> 9679.5083 | F63: 1371.778 | J63: 11 | K63: 6825.3382 | L63: =$L$52 -> 2110.3221 | M63: =SUM($K63:$L63) -> 8935.6603 | N63: 1267.6392
B64: 12 | C64: 7616.0517 | D64: =$D$52 -> 2126.3272 | E64: =SUM($C64:$D64) -> 9742.3789 | F64: 1380.5798 | J64: 12 | K64: 6881.2894 | L64: =$L$52 -> 2110.3221 | M64: =SUM($K64:$L64) -> 8991.6115 | N64: 1275.4724
... B67: 15 | C67: 7804.9019 | D67: =$D$52 -> 2126.3272 | E67: =SUM($C67:$D67) -> 9931.2291 | F67: 1407.0189 | J67: 15 | K67: 7048.9045 | L67: =$L$52 -> 2110.3221 | M67: =SUM($K67:$L67) -> 9159.2265 | N67: 1298.9385
B68: 16 | C68: 7867.8918 | D68: =$D$52 -> 2126.3272 | E68: =SUM($C68:$D68) -> 9994.219 | F68: 1415.8375
B69: 17 | C69: 7930.8816 | D69: =$D$52 -> 2126.3272 | E69: =SUM($C69:$D69) -> 10057.209 | F69: 1424.656
B70: 18 | C70: 7993.7521 | D70: =$D$52 -> 2126.3272 | E70: =SUM($C70:$D70) -> 10120.079 | F70: 1433.4579
B71: 19 | C71: 8056.742 | D71: =$D$52 -> 2126.3272 | E71: =SUM($C71:$D71) -> 10183.069 | F71: 1442.2765
B72: 20 | C72: 8119.7318 | D72: =$D$52 -> 2126.3272 | E72: =SUM($C72:$D72) -> 10246.059 | F72: 1451.0951
A75: עודכנו שקלית - מדריך ד"ר, מדריך, אסיסטנט א', אסיסטנט ב', עוזרי הוראה 22 ש"ש, עוזרי הוראה 32 ש"ש, עמית הוראה 1, עמית הוראה א', עמית הוראה ב'
A76: ='ינואר 2018'!$A$76 -> עודכנו אחוזית - מורה מן החוץ 1, מורה מן החוץ א', מורה מן החוץ ב', מורה משנה א', מורה משנה ב', מורה עוזר א',ב',ג' וד'
A77: לוחות שכר באוניברסיטאות - סגל אקדמי זוטר, עמיתי הוראה ומורים מן החוץ
A78: =$A$2 -> פעימה חמישית בגין הסכם השכר עם הסגל האקדמי הזוטר באוניברסיטאות, החל מ-1.9.2021
B81: מורה עוזר | L81: =$F$5 -> מעודכן לספטמבר 2021
B82: רמה א' | J82: רמה ב'
B83: שנות ותק | C83: שכר משולב כולל ותק | D83: תוספת שחיקה | J83: שנות ותק | K83: שכר משולב כולל ותק | L83: תוספת שחיקה
B84: 0 | C84: 5625.2747 | D84: 787.53846 | J84: 0 | K84: 5941.5911 | L84: 831.82276
B85: 1 | C85: 5681.5683 | D85: 795.41956 | J85: 1 | K85: 6000.9483 | L85: 840.13276
B86: 2 | C86: 5738.3725 | D86: 803.37215 | J86: 2 | K86: 6060.9437 | L86: 848.53212
B87: 3 | C87: 5795.815 | D87: 811.41409 | J87: 3 | K87: 6121.5774 | L87: 857.02084
B88: 4 | C88: 5853.768 | D88: 819.52752 | J88: 4 | K88: 6182.8494 | L88: 865.59891
B89: 5 | C89: 5912.3593 | D89: 827.7303 | J89: 5 | K89: 6244.6319 | L89: 874.24847
B90: 6 | C90: 5971.4612 | D90: 836.00457 | J90: 6 | K90: 6307.0527 | L90: 882.98738
B91: 7 | C91: 6031.2013 | D91: 844.36819 | J91: 7 | K91: 6370.1117 | L91: 891.81564
B92: 8 | C92: 6091.4521 | D92: 852.80329 | J92: 8 | K92: 6433.809 | L92: 900.73326
B95: רמה ג' | J95: רמה ד'
B96: שנות ותק | C96: שכר משולב כולל ותק | D96: תוספת שחיקה | J96: שנות ותק | K96: שכר משולב כולל ותק | L96: תוספת שחיקה
B97: 0 | C97: 6485.2519 | D97: 907.93527 | J97: 0 | K97: 6931.6435 | L97: 970.4301
B98: 1 | C98: 6550.0981 | D98: 917.01373 | J98: 1 | K98: 7000.9574 | L98: 980.13404
B99: 2 | C99: 6615.5825 | D99: 926.18154 | J99: 2 | K99: 7070.9096 | L99: 989.92734
B100: 3 | C100: 6681.7051 | D100: 935.43871 | J100: 3 | K100: 7141.6276 | L100: 999.82786
B101: 4 | C101: 6748.466 | D101: 944.78524 | J101: 4 | K101: 7212.9839 | L101: 1009.8177
B102: 5 | C102: 6815.9928 | D102: 954.23899 | J102: 5 | K102: 7285.1061 | L102: 1019.9148
B103: 6 | C103: 6884.1578 | D103: 963.78209 | J103: 6 | K103: 7357.9941 | L103: 1030.1192
B104: 7 | C104: 6952.9611 | D104: 973.41455 | J104: 7 | K104: 7431.5205 | L104: 1040.4129
B105: 8 | C105: 7022.5303 | D105: 983.15424 | J105: 8 | K105: 7505.8127 | L105: 1050.8138
B108: עוזרי הוראה | F108: =$F$5 -> מעודכן לספטמבר 2021 | J108: עוזרי הוראה | N108: =$F$5 -> מעודכן לספטמבר 2021
B109: על-פי משרה מלאה של 22 ש"ש | J109: על-פי משרה מלאה של 32 ש"ש
B110: שנות ותק | C110: שכר משולב כולל ותק | D110: תוספת אקדמית (ניידות, ביגוד, טלפון) | E110: סך הכול שכר ללא תוספת שחיקה | F110: תוספת שחיקה | J110: שנות ותק | L110: תוספת אקדמית (ניידות, ביגוד, טלפון) | M110: סך הכול שכר ללא תוספת שחיקה | N110: תוספת שחיקה
B111: 0 | C111: 3892.8441 | D111: 1217.2907 | E111: 5110.1348 | F111: 736.34901 | J111: 0 | K111: 3963.4602 | L111: 1243.1905 | M111: 5206.6507 | N111: 749.86122
B112: 1 | C112: 3925.0847 | D112: 1217.2907 | E112: 5142.3754 | F112: 740.86268 | J112: 1 | K112: 3996.3867 | L112: 1243.1905 | M112: 5239.5772 | N112: 754.47094
B113: 2 | C113: 3957.3252 | D113: 1217.2907 | E113: 5174.6159 | F113: 745.37636 | J113: 2 | K113: 4029.3132 | L113: 1243.1905 | M113: 5272.5037 | N113: 759.08065
B114: 3 | C114: 3989.5658 | D114: 1217.2907 | E114: 5206.8565 | F114: 749.89003 | J114: 3 | K114: 4062.2397 | L114: 1243.1905 | M114: 5305.4302 | N114: 763.69036
B115: 4 | C115: 4021.8063 | D115: 1217.2907 | E115: 5239.097 | F115: 754.40371 | J115: 4 | K115: 4095.1662 | L115: 1243.1905 | M115: 5338.3567 | N115: 768.30007
B116: 5 | C116: 4054.0468 | D116: 1217.2907 | E116: 5271.3375 | F116: 758.91739 | J116: 5 | K116: 4128.0927 | L116: 1243.1905 | M116: 5371.2832 | N116: 772.90978
B117: 6 | C117: 4086.2874 | D117: 1217.2907 | E117: 5303.5781 | F117: 763.43106 | J117: 6 | K117: 4161.0192 | L117: 1243.1905 | M117: 5404.2097 | N117: 777.51949
B118: 7 | C118: 4118.5279 | D118: 1217.2907 | E118: 5335.8186 | F118: 767.94474 | J118: 7 | K118: 4193.9457 | L118: 1243.1905 | M118: 5437.1362 | N118: 782.1292
B119: 8 | C119: 4150.7685 | D119: 1217.2907 | E119: 5368.0592 | F119: 772.45841 | J119: 8 | K119: 4226.8722 | L119: 1243.1905 | M119: 5470.0627 | N119: 786.73892
B120: 9 | C120: 4183.009 | D120: 1217.2907 | E120: 5400.2997 | F120: 776.97209 | J120: 9 | K120: 4259.7988 | L120: 1243.1905 | M120: 5502.9892 | N120: 791.34863
B121: 10 | C121: 4215.2495 | D121: 1217.2907 | E121: 5432.5402 | F121: 781.48576 | J121: 10 | K121: 4292.7253 | L121: 1243.1905 | M121: 5535.9158 | N121: 795.95834
B122: 11 | C122: 4247.4901 | D122: 1217.2907 | E122: 5464.7808 | F122: 785.99944 | J122: 11 | K122: 4325.6518 | L122: 1243.1905 | M122: 5568.8423 | N122: 800.56805
... B126: 15 | C126: 4376.4523 | D126: 1217.2907 | E126: 5593.7429 | F126: 804.05414 | J126: 15 | K126: 4457.3578 | L126: 1243.1905 | M126: 5700.5483 | N126: 819.00689
B129: עמית הוראה ב' | F129: =$F$20 -> מעודכן לספטמבר 2021 | J129: עמית הוראה א' | N129: =$F$20 -> מעודכן לספטמבר 2021
B130: שנות ותק | C130: שכר משולב כולל ותק | D130: תוספת אקדמית (ניידות, ביגוד, טלפון) | E130: סך הכול שכר ללא תוספת שחיקה | F130: תוספת שחיקה | J130: שנות ותק | K130: שכר משולב כולל ותק | L130: תוספת אקדמית (ניידות, ביגוד, טלפון) | M130: סך הכול שכר ללא תוספת שחיקה | N130: תוספת שחיקה
B131: 0 | C131: 7947.5211 | D131: 2158.5856 | E131: =SUM($C131:$D131) -> 10106.107 | F131: 1439.1136 | J131: 0 | K131: 6419.063 | L131: 2110.3221 | M131: =SUM($K131:$L131) -> 8529.385 | N131: 1218.3725
B132: 1 | C132: 8014.8057 | D132: =$D$131 -> 2158.5856 | E132: =SUM($C132:$D132) -> 10173.391 | F132: 1448.5334 | J132: 1 | K132: 6475.0142 | L132: =$L$131 -> 2110.3221 | M132: =SUM($K132:$L132) -> 8585.3362 | N132: 1226.2057
B133: 2 | C133: 8082.0903 | D133: =$D$131 -> 2158.5856 | E133: =SUM($C133:$D133) -> 10240.676 | F133: 1457.9532 | J133: 2 | K133: 6530.8461 | L133: =$L$131 -> 2110.3221 | M133: =SUM($K133:$L133) -> 8641.1681 | N133: 1234.0221
...

Sheet ינואר 2022
A1: לוחות שכר באוניברסיטאות - סגל אקדמי זוטר, עמיתי הוראה ומורים מן החוץ
A2: פעימה שישית בגין הסכם השכר עם הסגל האקדמי הזוטר באוניברסיטאות, החל מ-1.1.2022
B5: מורה משנה ב' | F5: מעודכן לינואר 2022 | J5: מורה משנה א' | N5: =$F$5 -> מעודכן לינואר 2022
B6: שנות ותק | C6: שכר משולב כולל ותק | D6: תוספת אקדמית (ניידות, ביגוד, טלפון) | E6: סך הכול שכר ללא תוספת שחיקה | F6: תוספת שחיקה | J6: שנות ותק | K6: שכר משולב כולל ותק | L6: תוספת אקדמית (ניידות, ביגוד, טלפון) | M6: סך הכול שכר ללא תוספת שחיקה | N6: תוספת שחיקה
B7: 0 | C7: 7362.6402 | D7: 2323.8921 | E7: 9686.5324 | F7: 1356.1145 | J7: 0 | K7: 6242.9898 | L7: 2289.6994 | M7: 8532.6892 | N7: 1194.5765
B8: 1 | C8: 7435.644 | D8: 2323.8921 | E8: 9759.5362 | F8: 1366.3351 | J8: 1 | K8: 6303.6968 | L8: 2289.6994 | M8: 8593.3963 | N8: 1203.0755
B9: 2 | C9: 7508.5184 | D9: 2323.8921 | E9: 9832.4105 | F9: 1376.5375 | J9: 2 | K9: 6364.2744 | L9: 2289.6994 | M9: 8653.9739 | N9: 1211.5563
B10: 3 | C10: 7581.5222 | D10: 2323.8921 | E10: 9905.4143 | F10: 1386.758 | J10: 3 | K10: 6424.9815 | L10: 2289.6994 | M10: 8714.6809 | N10: 1220.0553
B11: 4 | C11: 7654.526 | D11: 2323.8921 | E11: 9978.4181 | F11: 1396.9785 | J11: 4 | K11: 6485.6886 | L11: 2289.6994 | M11: 8775.388 | N11: 1228.5543
B12: 5 | C12: 7727.5298 | D12: 2323.8921 | E12: 10051.422 | F12: 1407.1991 | J12: 5 | K12: 6546.2662 | L12: 2289.6994 | M12: 8835.9656 | N12: 1237.0352
B13: 6 | C13: 7800.5336 | D13: 2323.8921 | E13: 10124.426 | F13: 1417.4196 | J13: 6 | K13: 6606.9732 | L13: 2289.6994 | M13: 8896.6727 | N13: 1245.5342
B14: 7 | C14: 7873.5374 | D14: 2323.8921 | E14: 10197.43 | F14: 1427.6401 | J14: 7 | K14: 6667.5509 | L14: 2289.6994 | M14: 8957.2503 | N14: 1254.015
B15: 8 | C15: 7946.5412 | D15: 2323.8921 | E15: 10270.433 | F15: 1437.8607 | J15: 8 | K15: 6728.2579 | L15: 2289.6994 | M15: 9017.9574 | N15: 1262.514
B16: 9 | C16: 8019.545 | D16: 2323.8921 | E16: 10343.437 | F16: 1448.0812 | J16: 9 | K16: 6788.965 | L16: 2289.6994 | M16: 9078.6644 | N16: 1271.013
B17: 10 | C17: 8092.5488 | D17: 2323.8921 | E17: 10416.441 | F17: 1458.3017 | J17: 10 | K17: 6849.5426 | L17: 2289.6994 | M17: 9139.242 | N17: 1279.4939
B20: מדריך ד"ר | F20: =$F$5 -> מעודכן לינואר 2022 | J20: מדריך | N20: =$F$20 -> מעודכן לינואר 2022
B21: שנות ותק | C21: שכר משולב כולל ותק | D21: תוספת אקדמית (ניידות, ביגוד, טלפון) | E21: סך הכול שכר ללא תוספת שחיקה | F21: תוספת שחיקה | J21: שנות ותק | K21: שכר משולב כולל ותק | L21: תוספת אקדמית (ניידות, ביגוד, טלפון) | M21: סך הכול שכר ללא תוספת שחיקה | N21: תוספת שחיקה
B22: 0 | C22: 7836.8745 | D22: 2158.5856 | E22: =SUM($C22:$D22) -> 9995.4602 | F22: 1419.5877 | J22: 0 | K22: 7340.3523 | L22: 2141.8361 | M22: =SUM($K22:$L22) -> 9482.1884 | N22: 1347.7296
B23: 1 | C23: 7904.1592 | D23: =$D$22 -> 2158.5856 | E23: =SUM($C23:$D23) -> 10062.745 | F23: 1429.0075 | J23: 1 | K23: 7407.6369 | L23: =$L$22 -> 2141.8361 | M23: =SUM($K23:$L23) -> 9549.473 | N23: 1357.1495
B24: 2 | C24: 7971.4438 | D24: =$D$22 -> 2158.5856 | E24: =SUM($C24:$D24) -> 10130.029 | F24: 1438.4274 | J24: 2 | K24: 7474.8022 | L24: =$L$22 -> 2141.8361 | M24: =SUM($K24:$L24) -> 9616.6383 | N24: 1366.5526
B25: 3 | C25: 8038.6091 | D25: =$D$22 -> 2158.5856 | E25: =SUM($C25:$D25) -> 10197.195 | F25: 1447.8305 | J25: 3 | K25: 7542.0868 | L25: =$L$22 -> 2141.8361 | M25: =SUM($K25:$L25) -> 9683.9229 | N25: 1375.9725
B26: 4 | C26: 8105.8937 | D26: =$D$22 -> 2158.5856 | E26: =SUM($C26:$D26) -> 10264.479 | F26: 1457.2504 | J26: 4 | K26: 7609.3715 | L26: =$L$22 -> 2141.8361 | M26: =SUM($K26:$L26) -> 9751.2075 | N26: 1385.3923
B27: 5 | C27: 8173.1783 | D27: =$D$22 -> 2158.5856 | E27: =SUM($C27:$D27) -> 10331.764 | F27: 1466.6702 | J27: 5 | K27: 7676.6561 | L27: =$L$22 -> 2141.8361 | M27: =SUM($K27:$L27) -> 9818.4921 | N27: 1394.8122
B28: 6 | C28: 8240.4629 | D28: =$D$22 -> 2158.5856 | E28: =SUM($C28:$D28) -> 10399.049 | F28: 1476.0901 | J28: 6 | K28: 7743.9407 | L28: =$L$22 -> 2141.8361 | M28: =SUM($K28:$L28) -> 9885.7767 | N28: 1404.232
B29: 7 | C29: 8307.7475 | D29: =$D$22 -> 2158.5856 | E29: =SUM($C29:$D29) -> 10466.333 | F29: 1485.5099 | J29: 7 | K29: 7811.2253 | L29: =$L$22 -> 2141.8361 | M29: =SUM($K29:$L29) -> 9953.0613 | N29: 1413.6519
B30: 8 | C30: 8375.0321 | D30: =$D$22 -> 2158.5856 | E30: =SUM($C30:$D30) -> 10533.618 | F30: 1494.9297 | J30: 8 | K30: 7878.5099 | L30: =$L$22 -> 2141.8361 | M30: =SUM($K30:$L30) -> 10020.346 | N30: 1423.0717
B31: 9 | C31: 8442.3167 | D31: =$D$22 -> 2158.5856 | E31: =SUM($C31:$D31) -> 10600.902 | F31: 1504.3496 | J31: 9 | K31: 7945.7945 | L31: =$L$22 -> 2141.8361 | M31: =SUM($K31:$L31) -> 10087.631 | N31: 1432.4915
B32: 10 | C32: 8509.6013 | D32: =$D$22 -> 2158.5856 | E32: =SUM($C32:$D32) -> 10668.187 | F32: 1513.7694 | J32: 10 | K32: 8013.0791 | L32: =$L$22 -> 2141.8361 | M32: =SUM($K32:$L32) -> 10154.915 | N32: 1441.9114
B33: 11 | C33: 8576.8859 | D33: =$D$22 -> 2158.5856 | E33: =SUM($C33:$D33) -> 10735.472 | F33: 1523.1893 | J33: 11 | K33: 8080.2444 | L33: =$L$22 -> 2141.8361 | M33: =SUM($K33:$L33) -> 10222.08 | N33: 1451.3145
B34: 12 | C34: 8644.0512 | D34: =$D$22 -> 2158.5856 | E34: =SUM($C34:$D34) -> 10802.637 | F34: 1532.5924 | J34: 12 | K34: 8147.529 | L34: =$L$22 -> 2141.8361 | M34: =SUM($K34:$L34) -> 10289.365 | N34: 1460.7344
... B47: 25 | C47: 9518.6318 | D47: =$D$22 -> 2158.5856 | E47: =SUM($C47:$D47) -> 11677.217 | F47: 1655.0337 | J47: 25 | K47: 9022.1096 | L47: =$L$22 -> 2141.8361 | M47: =SUM($K47:$L47) -> 11163.946 | N47: 1583.1757
B50: אסיסטנט ב' | F50: =$F$5 -> מעודכן לינואר 2022 | J50: אסיסטנט א' | N50: =$F$5 -> מעודכן לינואר 2022
B51: שנות ותק | C51: שכר משולב כולל ותק | D51: תוספת אקדמית (ניידות, ביגוד, טלפון) | E51: סך הכול שכר ללא תוספת שחיקה | F51: תוספת שחיקה | J51: שנות ותק | K51: שכר משולב כולל ותק | L51: תוספת אקדמית (ניידות, ביגוד, טלפון) | M51: סך הכול שכר ללא תוספת שחיקה | N51: תוספת שחיקה
B52: 0 | C52: 6958.8343 | D52: 2126.3272 | E52: =SUM($C52:$D52) -> 9085.1615 | F52: 1292.1459 | J52: 0 | K52: 6308.4164 | L52: 2110.3221 | M52: =SUM($K52:$L52) -> 8418.7385 | N52: 1198.8466
B53: 1 | C53: 7021.7048 | D53: =$D$52 -> 2126.3272 | E53: =SUM($C53:$D53) -> 9148.032 | F53: 1300.9477 | J53: 1 | K53: 6364.3676 | L53: =$L$52 -> 2110.3221 | M53: =SUM($K53:$L53) -> 8474.6897 | N53: 1206.6798
B54: 2 | C54: 7084.6947 | D54: =$D$52 -> 2126.3272 | E54: =SUM($C54:$D54) -> 9211.0219 | F54: 1309.7663 | J54: 2 | K54: 6420.1995 | L54: =$L$52 -> 2110.3221 | M54: =SUM($K54:$L54) -> 8530.5216 | N54: 1214.4963
B55: 3 | C55: 7147.6845 | D55: =$D$52 -> 2126.3272 | E55: =SUM($C55:$D55) -> 9274.0117 | F55: 1318.5849 | J55: 3 | K55: 6476.1507 | L55: =$L$52 -> 2110.3221 | M55: =SUM($K55:$L55) -> 8586.4728 | N55: 1222.3295
B56: 4 | C56: 7210.5551 | D56: =$D$52 -> 2126.3272 | E56: =SUM($C56:$D56) -> 9336.8823 | F56: 1327.3868 | J56: 4 | K56: 6532.1019 | L56: =$L$52 -> 2110.3221 | M56: =SUM($K56:$L56) -> 8642.424 | N56: 1230.1626
B57: 5 | C57: 7273.5449 | D57: =$D$52 -> 2126.3272 | E57: =SUM($C57:$D57) -> 9399.8721 | F57: 1336.2054 | J57: 5 | K57: 6587.9339 | L57: =$L$52 -> 2110.3221 | M57: =SUM($K57:$L57) -> 8698.2559 | N57: 1237.9791
B58: 6 | C58: 7336.5348 | D58: =$D$52 -> 2126.3272 | E58: =SUM($C58:$D58) -> 9462.862 | F58: 1345.0239 | J58: 6 | K58: 6643.8851 | L58: =$L$52 -> 2110.3221 | M58: =SUM($K58:$L58) -> 8754.2071 | N58: 1245.8123
B59: 7 | C59: 7399.4053 | D59: =$D$52 -> 2126.3272 | E59: =SUM($C59:$D59) -> 9525.7325 | F59: 1353.8258 | J59: 7 | K59: 6699.717 | L59: =$L$52 -> 2110.3221 | M59: =SUM($K59:$L59) -> 8810.039 | N59: 1253.6287
B60: 8 | C60: 7462.3951 | D60: =$D$52 -> 2126.3272 | E60: =SUM($C60:$D60) -> 9588.7224 | F60: 1362.6444 | J60: 8 | K60: 6755.6682 | L60: =$L$52 -> 2110.3221 | M60: =SUM($K60:$L60) -> 8865.9902 | N60: 1261.4619
B61: 9 | C61: 7525.385 | D61: =$D$52 -> 2126.3272 | E61: =SUM($C61:$D61) -> 9651.7122 | F61: 1371.463 | J61: 9 | K61: 6811.6194 | L61: =$L$52 -> 2110.3221 | M61: =SUM($K61:$L61) -> 8921.9414 | N61: 1269.2951
B62: 10 | C62: 7588.2555 | D62: =$D$52 -> 2126.3272 | E62: =SUM($C62:$D62) -> 9714.5827 | F62: 1380.2648 | J62: 10 | K62: 6867.4513 | L62: =$L$52 -> 2110.3221 | M62: =SUM($K62:$L62) -> 8977.7733 | N62: 1277.1115
B63: 11 | C63: 7651.2454 | D63: =$D$52 -> 2126.3272 | E63: =SUM($C63:$D63) -> 9777.5726 | F63: 1389.0834 | J63: 11 | K63: 6923.4025 | L63: =$L$52 -> 2110.3221 | M63: =SUM($K63:$L63) -> 9033.7246 | N63: 1284.9447
B64: 12 | C64: 7714.1159 | D64: =$D$52 -> 2126.3272 | E64: =SUM($C64:$D64) -> 9840.4431 | F64: 1397.8853 | J64: 12 | K64: 6979.3537 | L64: =$L$52 -> 2110.3221 | M64: =SUM($K64:$L64) -> 9089.6758 | N64: 1292.7779
... B67: 15 | C67: 7902.9662 | D67: =$D$52 -> 2126.3272 | E67: =SUM($C67:$D67) -> 10029.293 | F67: 1424.3243 | J67: 15 | K67: 7146.9687 | L67: =$L$52 -> 2110.3221 | M67: =SUM($K67:$L67) -> 9257.2908 | N67: 1316.244
B68: 16 | C68: 7965.956 | D68: =$D$52 -> 2126.3272 | E68: =SUM($C68:$D68) -> 10092.283 | F68: 1433.1429
B69: 17 | C69: 8028.9459 | D69: =$D$52 -> 2126.3272 | E69: =SUM($C69:$D69) -> 10155.273 | F69: 1441.9615
B70: 18 | C70: 8091.8164 | D70: =$D$52 -> 2126.3272 | E70: =SUM($C70:$D70) -> 10218.144 | F70: 1450.7634
B71: 19 | C71: 8154.8062 | D71: =$D$52 -> 2126.3272 | E71: =SUM($C71:$D71) -> 10281.133 | F71: 1459.5819
B72: 20 | C72: 8217.7961 | D72: =$D$52 -> 2126.3272 | E72: =SUM($C72:$D72) -> 10344.123 | F72: 1468.4005
A75: עודכנו שקלית - מדריך ד"ר, מדריך, אסיסטנט א', אסיסטנט ב', עוזרי הוראה 22 ש"ש, עוזרי הוראה 32 ש"ש, עמית הוראה 1, עמית הוראה א', עמית הוראה ב'
A76: ='ינואר 2018'!$A$76 -> עודכנו אחוזית - מורה מן החוץ 1, מורה מן החוץ א', מורה מן החוץ ב', מורה משנה א', מורה משנה ב', מורה עוזר א',ב',ג' וד'
A77: =$A$1 -> לוחות שכר באוניברסיטאות - סגל אקדמי זוטר, עמיתי הוראה ומורים מן החוץ
A78: =$A$2 -> פעימה שישית בגין הסכם השכר עם הסגל האקדמי הזוטר באוניברסיטאות, החל מ-1.1.2022
B81: מורה עוזר | L81: =$F$5 -> מעודכן לינואר 2022
B82: רמה א' | J82: רמה ב'
B83: שנות ותק | C83: שכר משולב כולל ותק | D83: תוספת שחיקה | J83: שנות ותק | K83: שכר משולב כולל ותק | L83: תוספת שחיקה
B84: 0 | C84: 5704.1337 | D84: 798.57872 | J84: 0 | K84: 6024.8844 | L84: 843.48382
B85: 1 | C85: 5761.2165 | D85: 806.57031 | J85: 1 | K85: 6085.0737 | L85: 851.91032
B86: 2 | C86: 5818.817 | D86: 814.63438 | J86: 2 | K86: 6145.9102 | L86: 860.42743
B87: 3 | C87: 5877.0647 | D87: 822.78906 | J87: 3 | K87: 6207.3939 | L87: 869.03515
B88: 4 | C88: 5935.8302 | D88: 831.01622 | J88: 4 | K88: 6269.5248 | L88: 877.73348
B89: 5 | C89: 5995.2428 | D89: 839.334 | J89: 5 | K89: 6332.1735 | L89: 886.50429
B90: 6 | C90: 6055.1733 | D90: 847.72426 | J90: 6 | K90: 6395.4693 | L90: 895.36571
B91: 7 | C91: 6115.7509 | D91: 856.20512 | J91: 7 | K91: 6459.4124 | L91: 904.31773
B92: 8 | C92: 6176.8463 | D92: 864.75848 | J92: 8 | K92: 6524.0026 | L92: 913.36037
B95: רמה ג' | J95: רמה ד'
B96: שנות ותק | C96: שכר משולב כולל ותק | D96: תוספת שחיקה | J96: שנות ותק | K96: שכר משולב כולל ותק | L96: תוספת שחיקה
B97: 0 | C97: 6576.1667 | D97: 920.66334 | J97: 0 | K97: 7028.8161 | L97: 984.03426
B98: 1 | C98: 6641.9219 | D98: 929.86906 | J98: 1 | K98: 7099.1017 | L98: 993.87424
B99: 2 | C99: 6708.3243 | D99: 939.1654 | J99: 2 | K99: 7170.0345 | L99: 1003.8048
B100: 3 | C100: 6775.3739 | D100: 948.55234 | J100: 3 | K100: 7241.7439 | L100: 1013.8441
B101: 4 | C101: 6843.0706 | D101: 958.02989 | J101: 4 | K101: 7314.1005 | L101: 1023.9741
B102: 5 | C102: 6911.5441 | D102: 967.61617 | J102: 5 | K102: 7387.2337 | L102: 1034.2127
B103: 6 | C103: 6980.6647 | D103: 977.29305 | J103: 6 | K103: 7461.1436 | L103: 1044.5601
B104: 7 | C104: 7050.4325 | D104: 987.06055 | J104: 7 | K104: 7535.7007 | L104: 1054.9981
B105: 8 | C105: 7120.9769 | D105: 996.93677 | J105: 8 | K105: 7611.0344 | L105: 1065.5448
B108: עוזרי הוראה | F108: =$F$5 -> מעודכן לינואר 2022 | J108: עוזרי הוראה | N108: =$F$5 -> מעודכן לינואר 2022
B109: על-פי משרה מלאה של 22 ש"ש | J109: על-פי משרה מלאה של 32 ש"ש
B110: שנות ותק | C110: שכר משולב כולל ותק | D110: תוספת אקדמית (ניידות, ביגוד, טלפון) | E110: סך הכול שכר ללא תוספת שחיקה | F110: תוספת שחיקה | J110: שנות ותק | L110: תוספת אקדמית (ניידות, ביגוד, טלפון) | M110: סך הכול שכר ללא תוספת שחיקה | N110: תוספת שחיקה
B111: 0 | C111: 4003.0135 | D111: 1217.2907 | E111: 5220.3042 | F111: 755.79066 | J111: 0 | K111: 4073.6295 | L111: 1243.1905 | M111: 5316.82 | N111: 769.30287
B112: 1 | C112: 4035.254 | D112: 1217.2907 | E112: 5252.5447 | F112: 760.30433 | J112: 1 | K112: 4106.556 | L112: 1243.1905 | M112: 5349.7465 | N112: 773.91258
B113: 2 | C113: 4067.4946 | D113: 1217.2907 | E113: 5284.7852 | F113: 764.81801 | J113: 2 | K113: 4139.4825 | L113: 1243.1905 | M113: 5382.673 | N113: 778.5223
B114: 3 | C114: 4099.7351 | D114: 1217.2907 | E114: 5317.0258 | F114: 769.33168 | J114: 3 | K114: 4172.409 | L114: 1243.1905 | M114: 5415.5995 | N114: 783.13201
B115: 4 | C115: 4131.9756 | D115: 1217.2907 | E115: 5349.2663 | F115: 773.84536 | J115: 4 | K115: 4205.3355 | L115: 1243.1905 | M115: 5448.526 | N115: 787.74172
B116: 5 | C116: 4164.2162 | D116: 1217.2907 | E116: 5381.5069 | F116: 778.35903 | J116: 5 | K116: 4238.2621 | L116: 1243.1905 | M116: 5481.4525 | N116: 792.35143
B117: 6 | C117: 4196.4567 | D117: 1217.2907 | E117: 5413.7474 | F117: 782.87271 | J117: 6 | K117: 4271.1886 | L117: 1243.1905 | M117: 5514.3791 | N117: 796.96114
B118: 7 | C118: 4228.6973 | D118: 1217.2907 | E118: 5445.988 | F118: 787.38639 | J118: 7 | K118: 4304.1151 | L118: 1243.1905 | M118: 5547.3056 | N118: 801.57085
B119: 8 | C119: 4260.9378 | D119: 1217.2907 | E119: 5478.2285 | F119: 791.90006 | J119: 8 | K119: 4337.0416 | L119: 1243.1905 | M119: 5580.2321 | N119: 806.18056
B120: 9 | C120: 4293.1783 | D120: 1217.2907 | E120: 5510.469 | F120: 796.41374 | J120: 9 | K120: 4369.9681 | L120: 1243.1905 | M120: 5613.1586 | N120: 810.79027
B121: 10 | C121: 4325.4189 | D121: 1217.2907 | E121: 5542.7096 | F121: 800.92741 | J121: 10 | K121: 4402.8946 | L121: 1243.1905 | M121: 5646.0851 | N121: 815.39999
B122: 11 | C122: 4357.6594 | D122: 1217.2907 | E122: 5574.9501 | F122: 805.44109 | J122: 11 | K122: 4435.8211 | L122: 1243.1905 | M122: 5679.0116 | N122: 820.0097
... B126: 15 | C126: 4486.6216 | D126: 1217.2907 | E126: 5703.9123 | F126: 823.49579 | J126: 15 | K126: 4567.5272 | L126: 1243.1905 | M126: 5810.7176 | N126: 838.44854
B129: עמית הוראה ב' | F129: =$F$5 -> מעודכן לינואר 2022 | J129: עמית הוראה א' | N129: =$F$5 -> מעודכן לינואר 2022
B130: שנות ותק | C130: שכר משולב כולל ותק | D130: תוספת אקדמית (ניידות, ביגוד, טלפון) | E130: סך הכול שכר ללא תוספת שחיקה | F130: תוספת שחיקה | J130: שנות ותק | K130: שכר משולב כולל ותק | L130: תוספת אקדמית (ניידות, ביגוד, טלפון) | M130: סך הכול שכר ללא תוספת שחיקה | N130: תוספת שחיקה
B131: 0 | C131: 8090.0544 | D131: 2158.5856 | E131: =SUM($C131:$D131) -> 10248.64 | F131: 1464.2665 | J131: 0 | K131: 6561.5963 | L131: 2110.3221 | M131: =SUM($K131:$L131) -> 8671.9183 | N131: 1243.5254
B132: 1 | C132: 8157.339 | D132: =$D$131 -> 2158.5856 | E132: =SUM($C132:$D132) -> 10315.925 | F132: 1473.6863 | J132: 1 | K132: 6617.5475 | L132: =$L$131 -> 2110.3221 | M132: =SUM($K132:$L132) -> 8727.8695 | N132: 1251.3586
B133: 2 | C133: 8224.6236 | D133: =$D$131 -> 2158.5856 | E133: =SUM($C133:$D133) -> 10383.209 | F133: 1483.1062 | J133: 2 | K133: 6673.3794 | L133: =$L$131 -> 2110.3221 | M133: =SUM($K133:$L133) -> 8783.7014 | N133: 1259.1751
...

Sheet ספטמבר 2022
A1: לוחות שכר באוניברסיטאות - סגל אקדמי זוטר, עמיתי הוראה ומורים מן החוץ
A2: פעימה שביעית בגין הסכם השכר עם הסגל האקדמי הזוטר באוניברסיטאות, החל מ-1.9.2022
B5: מורה משנה ב' | F5: מעודכן לספטמבר 2022 | J5: מורה משנה א' | N5: =$F$5 -> מעודכן לספטמבר 2022
B6: שנות ותק | C6: שכר משולב כולל ותק | D6: תוספת אקדמית (ניידות, ביגוד, טלפון) | E6: סך הכול שכר ללא תוספת שחיקה | F6: תוספת שחיקה | J6: שנות ותק | K6: שכר משולב כולל ותק | L6: תוספת אקדמית (ניידות, ביגוד, טלפון) | M6: סך הכול שכר ללא תוספת שחיקה | N6: תוספת שחיקה
B7: 0 | C7: 7430.4987 | D7: 2345.3105 | E7: 9775.8092 | F7: 1368.6133 | J7: 0 | K7: 6300.5288 | L7: 2310.8027 | M7: 8611.3315 | N7: 1205.5864
B8: 1 | C8: 7504.1753 | D8: 2345.3105 | E8: 9849.4858 | F8: 1378.928 | J8: 1 | K8: 6361.7954 | L8: 2310.8027 | M8: 8672.5981 | N8: 1214.1637
B9: 2 | C9: 7577.7213 | D9: 2345.3105 | E9: 9923.0318 | F9: 1389.2245 | J9: 2 | K9: 6422.9314 | L9: 2310.8027 | M9: 8733.734 | N9: 1222.7228
B10: 3 | C10: 7651.398 | D10: 2345.3105 | E10: 9996.7085 | F10: 1399.5392 | J10: 3 | K10: 6484.1979 | L10: 2310.8027 | M10: 8795.0006 | N10: 1231.3001
B11: 4 | C11: 7725.0746 | D11: 2345.3105 | E11: 10070.385 | F11: 1409.8539 | J11: 4 | K11: 6545.4645 | L11: 2310.8027 | M11: 8856.2672 | N11: 1239.8774
B12: 5 | C12: 7798.7513 | D12: 2345.3105 | E12: 10144.062 | F12: 1420.1686 | J12: 5 | K12: 6606.6004 | L12: 2310.8027 | M12: 8917.4031 | N12: 1248.4364
B13: 6 | C13: 7872.4279 | D13: 2345.3105 | E13: 10217.738 | F13: 1430.4834 | J13: 6 | K13: 6667.867 | L13: 2310.8027 | M13: 8978.6697 | N13: 1257.0138
B14: 7 | C14: 7946.1045 | D14: 2345.3105 | E14: 10291.415 | F14: 1440.7981 | J14: 7 | K14: 6729.0029 | L14: 2310.8027 | M14: 9039.8056 | N14: 1265.5728
B15: 8 | C15: 8019.7812 | D15: 2345.3105 | E15: 10365.092 | F15: 1451.1128 | J15: 8 | K15: 6790.2695 | L15: 2310.8027 | M15: 9101.0722 | N15: 1274.1501
B16: 9 | C16: 8093.4578 | D16: 2345.3105 | E16: 10438.768 | F16: 1461.4276 | J16: 9 | K16: 6851.5361 | L16: 2310.8027 | M16: 9162.3387 | N16: 1282.7274
B17: 10 | C17: 8167.1345 | D17: 2345.3105 | E17: 10512.445 | F17: 1471.7423 | J17: 10 | K17: 6912.672 | L17: 2310.8027 | M17: 9223.4747 | N17: 1291.2865
B20: מדריך ד"ר | F20: =$F$5 -> מעודכן לספטמבר 2022 | J20: מדריך | N20: =$F$5 -> מעודכן לספטמבר 2022
B21: שנות ותק | C21: שכר משולב כולל ותק | D21: תוספת אקדמית (ניידות, ביגוד, טלפון) | E21: סך הכול שכר ללא תוספת שחיקה | F21: תוספת שחיקה | J21: שנות ותק | K21: שכר משולב כולל ותק | L21: תוספת אקדמית (ניידות, ביגוד, טלפון) | M21: סך הכול שכר ללא תוספת שחיקה | N21: תוספת שחיקה
B22: 0 | C22: 7902.845 | D22: 2158.5856 | E22: =SUM($C22:$D22) -> 10061.431 | F22: 1431.2295 | J22: 0 | K22: 7406.3228 | L22: 2141.8361 | M22: =SUM($K22:$L22) -> 9548.1589 | N22: 1359.3715
B23: 1 | C23: 7970.1297 | D23: =$D$22 -> 2158.5856 | E23: =SUM($C23:$D23) -> 10128.715 | F23: 1440.6494 | J23: 1 | K23: 7473.6074 | L23: =$L$22 -> 2141.8361 | M23: =SUM($K23:$L23) -> 9615.4435 | N23: 1368.7913
B24: 2 | C24: 8037.4143 | D24: =$D$22 -> 2158.5856 | E24: =SUM($C24:$D24) -> 10196 | F24: 1450.0692 | J24: 2 | K24: 7540.7727 | L24: =$L$22 -> 2141.8361 | M24: =SUM($K24:$L24) -> 9682.6088 | N24: 1378.1945
B25: 3 | C25: 8104.5796 | D25: =$D$22 -> 2158.5856 | E25: =SUM($C25:$D25) -> 10263.165 | F25: 1459.4724 | J25: 3 | K25: 7608.0573 | L25: =$L$22 -> 2141.8361 | M25: =SUM($K25:$L25) -> 9749.8934 | N25: 1387.6143
B26: 4 | C26: 8171.8642 | D26: =$D$22 -> 2158.5856 | E26: =SUM($C26:$D26) -> 10330.45 | F26: 1468.8922 | J26: 4 | K26: 7675.342 | L26: =$L$22 -> 2141.8361 | M26: =SUM($K26:$L26) -> 9817.178 | N26: 1397.0342
B27: 5 | C27: 8239.1488 | D27: =$D$22 -> 2158.5856 | E27: =SUM($C27:$D27) -> 10397.734 | F27: 1478.3121 | J27: 5 | K27: 7742.6266 | L27: =$L$22 -> 2141.8361 | M27: =SUM($K27:$L27) -> 9884.4626 | N27: 1406.454
B28: 6 | C28: 8306.4334 | D28: =$D$22 -> 2158.5856 | E28: =SUM($C28:$D28) -> 10465.019 | F28: 1487.7319 | J28: 6 | K28: 7809.9112 | L28: =$L$22 -> 2141.8361 | M28: =SUM($K28:$L28) -> 9951.7472 | N28: 1415.8739
B29: 7 | C29: 8373.718 | D29: =$D$22 -> 2158.5856 | E29: =SUM($C29:$D29) -> 10532.304 | F29: 1497.1518 | J29: 7 | K29: 7877.1958 | L29: =$L$22 -> 2141.8361 | M29: =SUM($K29:$L29) -> 10019.032 | N29: 1425.2937
B30: 8 | C30: 8441.0026 | D30: =$D$22 -> 2158.5856 | E30: =SUM($C30:$D30) -> 10599.588 | F30: 1506.5716 | J30: 8 | K30: 7944.4804 | L30: =$L$22 -> 2141.8361 | M30: =SUM($K30:$L30) -> 10086.316 | N30: 1434.7135
B31: 9 | C31: 8508.2872 | D31: =$D$22 -> 2158.5856 | E31: =SUM($C31:$D31) -> 10666.873 | F31: 1515.9914 | J31: 9 | K31: 8011.765 | L31: =$L$22 -> 2141.8361 | M31: =SUM($K31:$L31) -> 10153.601 | N31: 1444.1334
B32: 10 | C32: 8575.5718 | D32: =$D$22 -> 2158.5856 | E32: =SUM($C32:$D32) -> 10734.157 | F32: 1525.4113 | J32: 10 | K32: 8079.0496 | L32: =$L$22 -> 2141.8361 | M32: =SUM($K32:$L32) -> 10220.886 | N32: 1453.5532
B33: 11 | C33: 8642.8564 | D33: =$D$22 -> 2158.5856 | E33: =SUM($C33:$D33) -> 10801.442 | F33: 1534.8311 | J33: 11 | K33: 8146.2149 | L33: =$L$22 -> 2141.8361 | M33: =SUM($K33:$L33) -> 10288.051 | N33: 1462.9564
B34: 12 | C34: 8710.0217 | D34: =$D$22 -> 2158.5856 | E34: =SUM($C34:$D34) -> 10868.607 | F34: 1544.2343 | J34: 12 | K34: 8213.4995 | L34: =$L$22 -> 2141.8361 | M34: =SUM($K34:$L34) -> 10355.336 | N34: 1472.3762
... B47: 25 | C47: 9584.6023 | D47: =$D$22 -> 2158.5856 | E47: =SUM($C47:$D47) -> 11743.188 | F47: 1666.6756 | J47: 25 | K47: 9088.0801 | L47: =$L$22 -> 2141.8361 | M47: =SUM($K47:$L47) -> 11229.916 | N47: 1594.8175
B50: אסיסטנט ב' | F50: =$F$5 -> מעודכן לספטמבר 2022 | J50: אסיסטנט א' | N50: =$F$5 -> מעודכן לספטמבר 2022
B51: שנות ותק | C51: שכר משולב כולל ותק | D51: תוספת אקדמית (ניידות, ביגוד, טלפון) | E51: סך הכול שכר ללא תוספת שחיקה | F51: תוספת שחיקה | J51: שנות ותק | K51: שכר משולב כולל ותק | L51: תוספת אקדמית (ניידות, ביגוד, טלפון) | M51: סך הכול שכר ללא תוספת שחיקה | N51: תוספת שחיקה
B52: 0 | C52: 7024.8048 | D52: 2126.3272 | E52: =SUM($C52:$D52) -> 9151.132 | F52: 1303.7877 | J52: 0 | K52: 6374.3869 | L52: 2110.3221 | M52: =SUM($K52:$L52) -> 8484.709 | N52: 1210.4885
B53: 1 | C53: 7087.6753 | D53: =$D$52 -> 2126.3272 | E53: =SUM($C53:$D53) -> 9214.0025 | F53: 1312.5896 | J53: 1 | K53: 6430.3381 | L53: =$L$52 -> 2110.3221 | M53: =SUM($K53:$L53) -> 8540.6602 | N53: 1218.3217
B54: 2 | C54: 7150.6652 | D54: =$D$52 -> 2126.3272 | E54: =SUM($C54:$D54) -> 9276.9924 | F54: 1321.4082 | J54: 2 | K54: 6486.17 | L54: =$L$52 -> 2110.3221 | M54: =SUM($K54:$L54) -> 8596.4921 | N54: 1226.1381
B55: 3 | C55: 7213.655 | D55: =$D$52 -> 2126.3272 | E55: =SUM($C55:$D55) -> 9339.9822 | F55: 1330.2268 | J55: 3 | K55: 6542.1212 | L55: =$L$52 -> 2110.3221 | M55: =SUM($K55:$L55) -> 8652.4433 | N55: 1233.9713
B56: 4 | C56: 7276.5256 | D56: =$D$52 -> 2126.3272 | E56: =SUM($C56:$D56) -> 9402.8528 | F56: 1339.0286 | J56: 4 | K56: 6598.0724 | L56: =$L$52 -> 2110.3221 | M56: =SUM($K56:$L56) -> 8708.3945 | N56: 1241.8045
B57: 5 | C57: 7339.5154 | D57: =$D$52 -> 2126.3272 | E57: =SUM($C57:$D57) -> 9465.8426 | F57: 1347.8472 | J57: 5 | K57: 6653.9044 | L57: =$L$52 -> 2110.3221 | M57: =SUM($K57:$L57) -> 8764.2264 | N57: 1249.6209
B58: 6 | C58: 7402.5053 | D58: =$D$52 -> 2126.3272 | E58: =SUM($C58:$D58) -> 9528.8325 | F58: 1356.6658 | J58: 6 | K58: 6709.8556 | L58: =$L$52 -> 2110.3221 | M58: =SUM($K58:$L58) -> 8820.1776 | N58: 1257.4541
B59: 7 | C59: 7465.3758 | D59: =$D$52 -> 2126.3272 | E59: =SUM($C59:$D59) -> 9591.703 | F59: 1365.4677 | J59: 7 | K59: 6765.6875 | L59: =$L$52 -> 2110.3221 | M59: =SUM($K59:$L59) -> 8876.0095 | N59: 1265.2706
B60: 8 | C60: 7528.3656 | D60: =$D$52 -> 2126.3272 | E60: =SUM($C60:$D60) -> 9654.6929 | F60: 1374.2862 | J60: 8 | K60: 6821.6387 | L60: =$L$52 -> 2110.3221 | M60: =SUM($K60:$L60) -> 8931.9607 | N60: 1273.1037
B61: 9 | C61: 7591.3555 | D61: =$D$52 -> 2126.3272 | E61: =SUM($C61:$D61) -> 9717.6827 | F61: 1383.1048 | J61: 9 | K61: 6877.5899 | L61: =$L$52 -> 2110.3221 | M61: =SUM($K61:$L61) -> 8987.9119 | N61: 1280.9369
B62: 10 | C62: 7654.226 | D62: =$D$52 -> 2126.3272 | E62: =SUM($C62:$D62) -> 9780.5532 | F62: 1391.9067 | J62: 10 | K62: 6933.4218 | L62: =$L$52 -> 2110.3221 | M62: =SUM($K62:$L62) -> 9043.7438 | N62: 1288.7534
B63: 11 | C63: 7717.2159 | D63: =$D$52 -> 2126.3272 | E63: =SUM($C63:$D63) -> 9843.5431 | F63: 1400.7253 | J63: 11 | K63: 6989.373 | L63: =$L$52 -> 2110.3221 | M63: =SUM($K63:$L63) -> 9099.6951 | N63: 1296.5866
B64: 12 | C64: 7780.0864 | D64: =$D$52 -> 2126.3272 | E64: =SUM($C64:$D64) -> 9906.4136 | F64: 1409.5272 | J64: 12 | K64: 7045.3242 | L64: =$L$52 -> 2110.3221 | M64: =SUM($K64:$L64) -> 9155.6463 | N64: 1304.4197
... B67: 15 | C67: 7968.9367 | D67: =$D$52 -> 2126.3272 | E67: =SUM($C67:$D67) -> 10095.264 | F67: 1435.9662 | J67: 15 | K67: 7212.9392 | L67: =$L$52 -> 2110.3221 | M67: =SUM($K67:$L67) -> 9323.2613 | N67: 1327.8858
B68: 16 | C68: 8031.9265 | D68: =$D$52 -> 2126.3272 | E68: =SUM($C68:$D68) -> 10158.254 | F68: 1444.7848
B69: 17 | C69: 8094.9164 | D69: =$D$52 -> 2126.3272 | E69: =SUM($C69:$D69) -> 10221.244 | F69: 1453.6033
B70: 18 | C70: 8157.7869 | D70: =$D$52 -> 2126.3272 | E70: =SUM($C70:$D70) -> 10284.114 | F70: 1462.4052
B71: 19 | C71: 8220.7767 | D71: =$D$52 -> 2126.3272 | E71: =SUM($C71:$D71) -> 10347.104 | F71: 1471.2238
B72: 20 | C72: 8283.7666 | D72: =$D$52 -> 2126.3272 | E72: =SUM($C72:$D72) -> 10410.094 | F72: 1480.0424
A75: עודכנו שקלית - מדריך ד"ר, מדריך, אסיסטנט א', אסיסטנט ב', עוזרי הוראה 22 ש"ש, עוזרי הוראה 32 ש"ש, עמית הוראה 1, עמית הוראה א', עמית הוראה ב'
A76: ='ינואר 2018'!$A$76 -> עודכנו אחוזית - מורה מן החוץ 1, מורה מן החוץ א', מורה מן החוץ ב', מורה משנה א', מורה משנה ב', מורה עוזר א',ב',ג' וד'
A77: =$A$1 -> לוחות שכר באוניברסיטאות - סגל אקדמי זוטר, עמיתי הוראה ומורים מן החוץ
A78: =$A$2 -> פעימה שביעית בגין הסכם השכר עם הסגל האקדמי הזוטר באוניברסיטאות, החל מ-1.9.2022
B81: מורה עוזר | L81: =$F$5 -> מעודכן לספטמבר 2022
B82: רמה א' | J82: רמה ב'
B83: שנות ותק | C83: שכר משולב כולל ותק | D83: תוספת שחיקה | J83: שנות ותק | K83: שכר משולב כולל ותק | L83: תוספת שחיקה
B84: 0 | C84: 5756.7064 | D84: 805.93889 | J84: 0 | K84: 6080.4133 | L84: 851.25787
B85: 1 | C85: 5814.3152 | D85: 814.00413 | J85: 1 | K85: 6141.1574 | L85: 859.76203
B86: 2 | C86: 5872.4466 | D86: 822.14253 | J86: 2 | K86: 6202.5546 | L86: 868.35764
B87: 3 | C87: 5931.2312 | D87: 830.37237 | J87: 3 | K87: 6264.6049 | L87: 877.04469
B88: 4 | C88: 5990.5383 | D88: 838.67536 | J88: 4 | K88: 6327.3085 | L88: 885.82319
B89: 5 | C89: 6050.4985 | D89: 847.06979 | J89: 5 | K89: 6390.5345 | L89: 894.67483
B90: 6 | C90: 6110.9813 | D90: 855.53738 | J90: 6 | K90: 6454.4138 | L90: 903.61793
B91: 7 | C91: 6172.1172 | D91: 864.09641 | J91: 7 | K91: 6518.9461 | L91: 912.65246
B92: 8 | C92: 6233.7757 | D92: 872.7286 | J92: 8 | K92: 6584.1317 | L92: 921.77843
B95: רמה ג' | J95: רמה ד'
B96: שנות ותק | C96: שכר משולב כולל ותק | D96: תוספת שחיקה | J96: שנות ותק | K96: שכר משולב כולל ותק | L96: תוספת שחיקה
B97: 0 | C97: 6636.7765 | D97: 929.14871 | J97: 0 | K97: 7093.5978 | L97: 993.1037
B98: 1 | C98: 6703.1377 | D98: 938.43928 | J98: 1 | K98: 7164.5312 | L98: 1003.0344
B99: 2 | C99: 6770.1521 | D99: 947.8213 | J99: 2 | K99: 7236.1177 | L99: 1013.0565
B100: 3 | C100: 6837.8197 | D100: 957.29476 | J100: 3 | K100: 7308.4881 | L100: 1023.1883
B101: 4 | C101: 6906.1404 | D101: 966.85966 | J101: 4 | K101: 7381.5115 | L101: 1033.4116
B102: 5 | C102: 6975.2449 | D102: 976.53429 | J102: 5 | K102: 7455.3188 | L102: 1043.7446
B103: 6 | C103: 7045.0026 | D103: 986.30036 | J103: 6 | K103: 7529.9099 | L103: 1054.1874
B104: 7 | C104: 7115.4134 | D104: 996.15788 | J104: 7 | K104: 7605.1541 | L104: 1064.7216
B105: 8 | C105: 7186.6081 | D105: 1006.1251 | J105: 8 | K105: 7681.1821 | L105: 1075.3655
B108: עוזרי הוראה | F108: =$F$5 -> מעודכן לספטמבר 2022 | J108: עוזרי הוראה | N108: =$F$5 -> מעודכן לספטמבר 2022
B109: על-פי משרה מלאה של 22 ש"ש | J109: על-פי משרה מלאה של 32 ש"ש
B110: שנות ותק | C110: שכר משולב כולל ותק | D110: תוספת אקדמית (ניידות, ביגוד, טלפון) | E110: סך הכול שכר ללא תוספת שחיקה | F110: תוספת שחיקה | J110: שנות ותק | L110: תוספת אקדמית (ניידות, ביגוד, טלפון) | M110: סך הכול שכר ללא תוספת שחיקה | N110: תוספת שחיקה
B111: 0 | C111: 4075.8177 | D111: 1217.2907 | E111: 5293.1084 | F111: 768.63847 | J111: 0 | K111: 4146.4338 | L111: 1243.1905 | M111: 5389.6243 | N111: 782.15068
B112: 1 | C112: 4108.0583 | D112: 1217.2907 | E112: 5325.349 | F112: 773.15214 | J112: 1 | K112: 4179.3603 | L112: 1243.1905 | M112: 5422.5508 | N112: 786.7604
B113: 2 | C113: 4140.2988 | D113: 1217.2907 | E113: 5357.5895 | F113: 777.66582 | J113: 2 | K113: 4212.2868 | L113: 1243.1905 | M113: 5455.4773 | N113: 791.37011
B114: 3 | C114: 4172.5394 | D114: 1217.2907 | E114: 5389.8301 | F114: 782.1795 | J114: 3 | K114: 4245.2133 | L114: 1243.1905 | M114: 5488.4038 | N114: 795.97982
B115: 4 | C115: 4204.7799 | D115: 1217.2907 | E115: 5422.0706 | F115: 786.69317 | J115: 4 | K115: 4278.1398 | L115: 1243.1905 | M115: 5521.3303 | N115: 800.58953
B116: 5 | C116: 4237.0205 | D116: 1217.2907 | E116: 5454.3111 | F116: 791.20685 | J116: 5 | K116: 4311.0663 | L116: 1243.1905 | M116: 5554.2568 | N116: 805.19924
B117: 6 | C117: 4269.261 | D117: 1217.2907 | E117: 5486.5517 | F117: 795.72052 | J117: 6 | K117: 4343.9928 | L117: 1243.1905 | M117: 5587.1833 | N117: 809.80895
B118: 7 | C118: 4301.5015 | D118: 1217.2907 | E118: 5518.7922 | F118: 800.2342 | J118: 7 | K118: 4376.9193 | L118: 1243.1905 | M118: 5620.1098 | N118: 814.41866
B119: 8 | C119: 4333.7421 | D119: 1217.2907 | E119: 5551.0328 | F119: 804.74787 | J119: 8 | K119: 4409.8459 | L119: 1243.1905 | M119: 5653.0363 | N119: 819.02838
B120: 9 | C120: 4365.9826 | D120: 1217.2907 | E120: 5583.2733 | F120: 809.26155 | J120: 9 | K120: 4442.7724 | L120: 1243.1905 | M120: 5685.9629 | N120: 823.63809
B121: 10 | C121: 4398.2232 | D121: 1217.2907 | E121: 5615.5138 | F121: 813.77523 | J121: 10 | K121: 4475.6989 | L121: 1243.1905 | M121: 5718.8894 | N121: 828.2478
B122: 11 | C122: 4430.4637 | D122: 1217.2907 | E122: 5647.7544 | F122: 818.2889 | J122: 11 | K122: 4508.6254 | L122: 1243.1905 | M122: 5751.8159 | N122: 832.85751
... B126: 15 | C126: 4559.4259 | D126: 1217.2907 | E126: 5776.7166 | F126: 836.3436 | J126: 15 | K126: 4640.3314 | L126: 1243.1905 | M126: 5883.5219 | N126: 851.29636
B129: עמית הוראה ב' | F129: =$F$5 -> מעודכן לספטמבר 2022 | J129: עמית הוראה א' | N129: =$F$5 -> מעודכן לספטמבר 2022
B130: שנות ותק | C130: שכר משולב כולל ותק | D130: תוספת אקדמית (ניידות, ביגוד, טלפון) | E130: סך הכול שכר ללא תוספת שחיקה | F130: תוספת שחיקה | J130: שנות ותק | K130: שכר משולב כולל ותק | L130: תוספת אקדמית (ניידות, ביגוד, טלפון) | M130: סך הכול שכר ללא תוספת שחיקה | N130: תוספת שחיקה
B131: 0 | C131: 8185.0766 | D131: 2158.5856 | E131: =SUM($C131:$D131) -> 10343.662 | F131: 1481.0351 | J131: 0 | K131: 6656.6185 | L131: 2110.3221 | M131: =SUM($K131:$L131) -> 8766.9405 | N131: 1260.2941
B132: 1 | C132: 8252.3612 | D132: =$D$131 -> 2158.5856 | E132: =SUM($C132:$D132) -> 10410.947 | F132: 1490.455 | J132: 1 | K132: 6712.5697 | L132: =$L$131 -> 2110.3221 | M132: =SUM($K132:$L132) -> 8822.8917 | N132: 1268.1272
B133: 2 | C133: 8319.6458 | D133: =$D$131 -> 2158.5856 | E133: =SUM($C133:$D133) -> 10478.231 | F133: 1499.8748 | J133: 2 | K133: 6768.4016 | L133: =$L$131 -> 2110.3221 | M133: =SUM($K133:$L133) -> 8878.7236 | N133: 1275.9437
...

Sheet ינואר 2023
A1: לוחות שכר באוניברסיטאות - סגל אקדמי זוטר, עמיתי הוראה ומורים מן החוץ
A2: פעימה שמינית בגין הסכם השכר עם הסגל האקדמי הזוטר באוניברסיטאות, החל מ-1.1.2023
B5: מורה משנה ב' | F5: מעודכן לינואר 2023 | J5: מורה משנה א' | N5: =$F$5 -> מעודכן לינואר 2023
B6: שנות ותק | C6: שכר משולב כולל ותק | D6: תוספת אקדמית (ניידות, ביגוד, טלפון) | E6: סך הכול שכר ללא תוספת שחיקה | F6: תוספת שחיקה | J6: שנות ותק | K6: שכר משולב כולל ותק | L6: תוספת אקדמית (ניידות, ביגוד, טלפון) | M6: סך הכול שכר ללא תוספת שחיקה | N6: תוספת שחיקה
B7: 0 | C7: 7464.4279 | D7: 2356.0197 | E7: 9820.4476 | F7: 1374.8627 | J7: 0 | K7: 6329.2984 | L7: 2321.3543 | M7: 8650.6526 | N7: 1211.0914
B8: 1 | C8: 7538.441 | D8: 2356.0197 | E8: 9894.4606 | F8: 1385.2245 | J8: 1 | K8: 6390.8447 | L8: 2321.3543 | M8: 8712.199 | N8: 1219.7079
B9: 2 | C9: 7612.3228 | D9: 2356.0197 | E9: 9968.3425 | F9: 1395.5679 | J9: 2 | K9: 6452.2598 | L9: 2321.3543 | M9: 8773.6141 | N9: 1228.306
B10: 3 | C10: 7686.3359 | D10: 2356.0197 | E10: 10042.356 | F10: 1405.9298 | J10: 3 | K10: 6513.8061 | L10: 2321.3543 | M10: 8835.1604 | N10: 1236.9225
B11: 4 | C11: 7760.3489 | D11: 2356.0197 | E11: 10116.369 | F11: 1416.2916 | J11: 4 | K11: 6575.3525 | L11: 2321.3543 | M11: 8896.7067 | N11: 1245.5389
B12: 5 | C12: 7834.362 | D12: 2356.0197 | E12: 10190.382 | F12: 1426.6534 | J12: 5 | K12: 6636.7676 | L12: 2321.3543 | M12: 8958.1218 | N12: 1254.1371
B13: 6 | C13: 7908.3751 | D13: 2356.0197 | E13: 10264.395 | F13: 1437.0153 | J13: 6 | K13: 6698.3139 | L13: 2321.3543 | M13: 9019.6682 | N13: 1262.7535
B14: 7 | C14: 7982.3881 | D14: 2356.0197 | E14: 10338.408 | F14: 1447.3771 | J14: 7 | K14: 6759.729 | L14: 2321.3543 | M14: 9081.0833 | N14: 1271.3517
B15: 8 | C15: 8056.4012 | D15: 2356.0197 | E15: 10412.421 | F15: 1457.7389 | J15: 8 | K15: 6821.2753 | L15: 2321.3543 | M15: 9142.6296 | N15: 1279.9681
B16: 9 | C16: 8130.4143 | D16: 2356.0197 | E16: 10486.434 | F16: 1468.1008 | J16: 9 | K16: 6882.8216 | L16: 2321.3543 | M16: 9204.1759 | N16: 1288.5846
B17: 10 | C17: 8204.4273 | D17: 2356.0197 | E17: 10560.447 | F17: 1478.4626 | J17: 10 | K17: 6944.2367 | L17: 2321.3543 | M17: 9265.591 | N17: 1297.1827
B20: מדריך ד"ר | F20: =$F$5 -> מעודכן לינואר 2023 | J20: מדריך | N20: =$F$5 -> מעודכן לינואר 2023
B21: שנות ותק | C21: שכר משולב כולל ותק | D21: תוספת אקדמית (ניידות, ביגוד, טלפון) | E21: סך הכול שכר ללא תוספת שחיקה | F21: תוספת שחיקה | J21: שנות ותק | K21: שכר משולב כולל ותק | L21: תוספת אקדמית (ניידות, ביגוד, טלפון) | M21: סך הכול שכר ללא תוספת שחיקה | N21: תוספת שחיקה
B22: 0 | C22: 7933.1558 | D22: 2158.5856 | E22: =SUM($C22:$D22) -> 10091.741 | F22: 1436.5785 | J22: 0 | K22: 7436.6336 | L22: 2141.8361 | M22: =SUM($K22:$L22) -> 9578.4697 | N22: 1364.7204
B23: 1 | C23: 8000.4404 | D23: =$D$22 -> 2158.5856 | E23: =SUM($C23:$D23) -> 10159.026 | F23: 1445.9983 | J23: 1 | K23: 7503.9182 | L23: =$L$22 -> 2141.8361 | M23: =SUM($K23:$L23) -> 9645.7543 | N23: 1374.1403
B24: 2 | C24: 8067.725 | D24: =$D$22 -> 2158.5856 | E24: =SUM($C24:$D24) -> 10226.311 | F24: 1455.4182 | J24: 2 | K24: 7571.0835 | L24: =$L$22 -> 2141.8361 | M24: =SUM($K24:$L24) -> 9712.9196 | N24: 1383.5434
B25: 3 | C25: 8134.8903 | D25: =$D$22 -> 2158.5856 | E25: =SUM($C25:$D25) -> 10293.476 | F25: 1464.8213 | J25: 3 | K25: 7638.3681 | L25: =$L$22 -> 2141.8361 | M25: =SUM($K25:$L25) -> 9780.2042 | N25: 1392.9633
B26: 4 | C26: 8202.1749 | D26: =$D$22 -> 2158.5856 | E26: =SUM($C26:$D26) -> 10360.761 | F26: 1474.2412 | J26: 4 | K26: 7705.6527 | L26: =$L$22 -> 2141.8361 | M26: =SUM($K26:$L26) -> 9847.4888 | N26: 1402.3831
B27: 5 | C27: 8269.4596 | D27: =$D$22 -> 2158.5856 | E27: =SUM($C27:$D27) -> 10428.045 | F27: 1483.661 | J27: 5 | K27: 7772.9373 | L27: =$L$22 -> 2141.8361 | M27: =SUM($K27:$L27) -> 9914.7734 | N27: 1411.803
B28: 6 | C28: 8336.7442 | D28: =$D$22 -> 2158.5856 | E28: =SUM($C28:$D28) -> 10495.33 | F28: 1493.0809 | J28: 6 | K28: 7840.2219 | L28: =$L$22 -> 2141.8361 | M28: =SUM($K28:$L28) -> 9982.058 | N28: 1421.2228
B29: 7 | C29: 8404.0288 | D29: =$D$22 -> 2158.5856 | E29: =SUM($C29:$D29) -> 10562.614 | F29: 1502.5007 | J29: 7 | K29: 7907.5065 | L29: =$L$22 -> 2141.8361 | M29: =SUM($K29:$L29) -> 10049.343 | N29: 1430.6427
B30: 8 | C30: 8471.3134 | D30: =$D$22 -> 2158.5856 | E30: =SUM($C30:$D30) -> 10629.899 | F30: 1511.9206 | J30: 8 | K30: 7974.7912 | L30: =$L$22 -> 2141.8361 | M30: =SUM($K30:$L30) -> 10116.627 | N30: 1440.0625
B31: 9 | C31: 8538.598 | D31: =$D$22 -> 2158.5856 | E31: =SUM($C31:$D31) -> 10697.184 | F31: 1521.3404 | J31: 9 | K31: 8042.0758 | L31: =$L$22 -> 2141.8361 | M31: =SUM($K31:$L31) -> 10183.912 | N31: 1449.4824
B32: 10 | C32: 8605.8826 | D32: =$D$22 -> 2158.5856 | E32: =SUM($C32:$D32) -> 10764.468 | F32: 1530.7602 | J32: 10 | K32: 8109.3604 | L32: =$L$22 -> 2141.8361 | M32: =SUM($K32:$L32) -> 10251.196 | N32: 1458.9022
B33: 11 | C33: 8673.1672 | D33: =$D$22 -> 2158.5856 | E33: =SUM($C33:$D33) -> 10831.753 | F33: 1540.1801 | J33: 11 | K33: 8176.5257 | L33: =$L$22 -> 2141.8361 | M33: =SUM($K33:$L33) -> 10318.362 | N33: 1468.3053
B34: 12 | C34: 8740.3325 | D34: =$D$22 -> 2158.5856 | E34: =SUM($C34:$D34) -> 10898.918 | F34: 1549.5832 | J34: 12 | K34: 8243.8103 | L34: =$L$22 -> 2141.8361 | M34: =SUM($K34:$L34) -> 10385.646 | N34: 1477.7252
... B47: 25 | C47: 9614.9131 | D47: =$D$22 -> 2158.5856 | E47: =SUM($C47:$D47) -> 11773.499 | F47: 1672.0245 | J47: 25 | K47: 9118.3909 | L47: =$L$22 -> 2141.8361 | M47: =SUM($K47:$L47) -> 11260.227 | N47: 1600.1665
B50: אסיסטנט ב' | F50: =$F$5 -> מעודכן לינואר 2023 | J50: אסיסטנט א' | N50: =$F$5 -> מעודכן לינואר 2023
B51: שנות ותק | C51: שכר משולב כולל ותק | D51: תוספת אקדמית (ניידות, ביגוד, טלפון) | E51: סך הכול שכר ללא תוספת שחיקה | F51: תוספת שחיקה | J51: שנות ותק | K51: שכר משולב כולל ותק | L51: תוספת אקדמית (ניידות, ביגוד, טלפון) | M51: סך הכול שכר ללא תוספת שחיקה | N51: תוספת שחיקה
B52: 0 | C52: 7055.1156 | D52: 2126.3272 | E52: =SUM($C52:$D52) -> 9181.4428 | F52: 1309.1367 | J52: 0 | K52: 6404.6977 | L52: 2110.3221 | M52: =SUM($K52:$L52) -> 8515.0197 | N52: 1215.8375
B53: 1 | C53: 7117.9861 | D53: =$D$52 -> 2126.3272 | E53: =SUM($C53:$D53) -> 9244.3133 | F53: 1317.9386 | J53: 1 | K53: 6460.6489 | L53: =$L$52 -> 2110.3221 | M53: =SUM($K53:$L53) -> 8570.9709 | N53: 1223.6706
B54: 2 | C54: 7180.9759 | D54: =$D$52 -> 2126.3272 | E54: =SUM($C54:$D54) -> 9307.3032 | F54: 1326.7571 | J54: 2 | K54: 6516.4808 | L54: =$L$52 -> 2110.3221 | M54: =SUM($K54:$L54) -> 8626.8029 | N54: 1231.4871
B55: 3 | C55: 7243.9658 | D55: =$D$52 -> 2126.3272 | E55: =SUM($C55:$D55) -> 9370.293 | F55: 1335.5757 | J55: 3 | K55: 6572.432 | L55: =$L$52 -> 2110.3221 | M55: =SUM($K55:$L55) -> 8682.7541 | N55: 1239.3203
B56: 4 | C56: 7306.8363 | D56: =$D$52 -> 2126.3272 | E56: =SUM($C56:$D56) -> 9433.1635 | F56: 1344.3776 | J56: 4 | K56: 6628.3832 | L56: =$L$52 -> 2110.3221 | M56: =SUM($K56:$L56) -> 8738.7053 | N56: 1247.1534
B57: 5 | C57: 7369.8262 | D57: =$D$52 -> 2126.3272 | E57: =SUM($C57:$D57) -> 9496.1534 | F57: 1353.1962 | J57: 5 | K57: 6684.2151 | L57: =$L$52 -> 2110.3221 | M57: =SUM($K57:$L57) -> 8794.5372 | N57: 1254.9699
B58: 6 | C58: 7432.816 | D58: =$D$52 -> 2126.3272 | E58: =SUM($C58:$D58) -> 9559.1432 | F58: 1362.0147 | J58: 6 | K58: 6740.1663 | L58: =$L$52 -> 2110.3221 | M58: =SUM($K58:$L58) -> 8850.4884 | N58: 1262.8031
B59: 7 | C59: 7495.6866 | D59: =$D$52 -> 2126.3272 | E59: =SUM($C59:$D59) -> 9622.0138 | F59: 1370.8166 | J59: 7 | K59: 6795.9982 | L59: =$L$52 -> 2110.3221 | M59: =SUM($K59:$L59) -> 8906.3203 | N59: 1270.6195
B60: 8 | C60: 7558.6764 | D60: =$D$52 -> 2126.3272 | E60: =SUM($C60:$D60) -> 9685.0036 | F60: 1379.6352 | J60: 8 | K60: 6851.9494 | L60: =$L$52 -> 2110.3221 | M60: =SUM($K60:$L60) -> 8962.2715 | N60: 1278.4527
B61: 9 | C61: 7621.6663 | D61: =$D$52 -> 2126.3272 | E61: =SUM($C61:$D61) -> 9747.9935 | F61: 1388.4538 | J61: 9 | K61: 6907.9006 | L61: =$L$52 -> 2110.3221 | M61: =SUM($K61:$L61) -> 9018.2227 | N61: 1286.2859
B62: 10 | C62: 7684.5368 | D62: =$D$52 -> 2126.3272 | E62: =SUM($C62:$D62) -> 9810.864 | F62: 1397.2557 | J62: 10 | K62: 6963.7326 | L62: =$L$52 -> 2110.3221 | M62: =SUM($K62:$L62) -> 9074.0546 | N62: 1294.1023
B63: 11 | C63: 7747.5267 | D63: =$D$52 -> 2126.3272 | E63: =SUM($C63:$D63) -> 9873.8539 | F63: 1406.0742 | J63: 11 | K63: 7019.6838 | L63: =$L$52 -> 2110.3221 | M63: =SUM($K63:$L63) -> 9130.0058 | N63: 1301.9355
B64: 12 | C64: 7810.3972 | D64: =$D$52 -> 2126.3272 | E64: =SUM($C64:$D64) -> 9936.7244 | F64: 1414.8761 | J64: 12 | K64: 7075.635 | L64: =$L$52 -> 2110.3221 | M64: =SUM($K64:$L64) -> 9185.957 | N64: 1309.7687
... B67: 15 | C67: 7999.2474 | D67: =$D$52 -> 2126.3272 | E67: =SUM($C67:$D67) -> 10125.575 | F67: 1441.3151 | J67: 15 | K67: 7243.25 | L67: =$L$52 -> 2110.3221 | M67: =SUM($K67:$L67) -> 9353.5721 | N67: 1333.2348
B68: 16 | C68: 8062.2373 | D68: =$D$52 -> 2126.3272 | E68: =SUM($C68:$D68) -> 10188.564 | F68: 1450.1337
B69: 17 | C69: 8125.2271 | D69: =$D$52 -> 2126.3272 | E69: =SUM($C69:$D69) -> 10251.554 | F69: 1458.9523
B70: 18 | C70: 8188.0977 | D70: =$D$52 -> 2126.3272 | E70: =SUM($C70:$D70) -> 10314.425 | F70: 1467.7542
B71: 19 | C71: 8251.0875 | D71: =$D$52 -> 2126.3272 | E71: =SUM($C71:$D71) -> 10377.415 | F71: 1476.5728
B72: 20 | C72: 8314.0774 | D72: =$D$52 -> 2126.3272 | E72: =SUM($C72:$D72) -> 10440.405 | F72: 1485.3913
A75: עודכנו שקלית - מדריך ד"ר, מדריך, אסיסטנט א', אסיסטנט ב', עוזרי הוראה 22 ש"ש, עוזרי הוראה 32 ש"ש, עמית הוראה 1, עמית הוראה א', עמית הוראה ב'
A76: ='ינואר 2018'!$A$76 -> עודכנו אחוזית - מורה מן החוץ 1, מורה מן החוץ א', מורה מן החוץ ב', מורה משנה א', מורה משנה ב', מורה עוזר א',ב',ג' וד'
A77: =$A$1 -> לוחות שכר באוניברסיטאות - סגל אקדמי זוטר, עמיתי הוראה ומורים מן החוץ
A78: =$A$2 -> פעימה שמינית בגין הסכם השכר עם הסגל האקדמי הזוטר באוניברסיטאות, החל מ-1.1.2023
B81: מורה עוזר | L81: =$F$5 -> מעודכן לינואר 2023
B82: רמה א' | J82: רמה ב'
B83: שנות ותק | C83: שכר משולב כולל ותק | D83: תוספת שחיקה | J83: שנות ותק | K83: שכר משולב כולל ותק | L83: תוספת שחיקה
B84: 0 | C84: 5782.9927 | D84: 809.61898 | J84: 0 | K84: 6108.1778 | L84: 855.14489
B85: 1 | C85: 5840.8646 | D85: 817.72105 | J85: 1 | K85: 6169.1992 | L85: 863.68789
B86: 2 | C86: 5899.2615 | D86: 825.8966 | J86: 2 | K86: 6230.8767 | L86: 872.32274
B87: 3 | C87: 5958.3144 | D87: 834.16402 | J87: 3 | K87: 6293.2104 | L87: 881.04946
B88: 4 | C88: 6017.8923 | D88: 842.50493 | J88: 4 | K88: 6356.2003 | L88: 889.86804
B89: 5 | C89: 6078.1264 | D89: 850.93769 | J89: 5 | K89: 6419.7151 | L89: 898.76011
B90: 6 | C90: 6138.8853 | D90: 859.44395 | J90: 6 | K90: 6483.886 | L90: 907.74403
B91: 7 | C91: 6200.3004 | D91: 868.04206 | J91: 7 | K91: 6548.713 | L91: 916.81982
B92: 8 | C92: 6262.2404 | D92: 876.71366 | J92: 8 | K92: 6614.1962 | L92: 925.98747
B95: רמה ג' | J95: רמה ד'
B96: שנות ותק | C96: שכר משולב כולל ותק | D96: תוספת שחיקה | J96: שנות ותק | K96: שכר משולב כולל ותק | L96: תוספת שחיקה
B97: 0 | C97: 6667.0814 | D97: 933.3914 | J97: 0 | K97: 7125.9887 | L97: 997.63842
B98: 1 | C98: 6733.7457 | D98: 942.72439 | J98: 1 | K98: 7197.246 | L98: 1007.6144
B99: 2 | C99: 6801.0661 | D99: 952.14925 | J99: 2 | K99: 7269.1594 | L99: 1017.6823
B100: 3 | C100: 6869.0426 | D100: 961.66597 | J100: 3 | K100: 7341.8601 | L100: 1027.8604
B101: 4 | C101: 6937.6753 | D101: 971.27454 | J101: 4 | K101: 7415.2171 | L101: 1038.1304
B102: 5 | C102: 7007.0954 | D102: 980.99335 | J102: 5 | K102: 7489.3614 | L102: 1048.5106
B103: 6 | C103: 7077.1716 | D103: 990.80402 | J103: 6 | K103: 7564.293 | L103: 1059.001
B104: 7 | C104: 7147.9039 | D104: 1000.7065 | J104: 7 | K104: 7639.8808 | L104: 1069.5833
B105: 8 | C105: 7219.4236 | D105: 1010.7193 | J105: 8 | K105: 7716.256 | L105: 1080.2758
B108: עוזרי הוראה | F108: =$F$5 -> מעודכן לינואר 2023 | J108: עוזרי הוראה | N108: =$F$5 -> מעודכן לינואר 2023
B109: על-פי משרה מלאה של 22 ש"ש | J109: על-פי משרה מלאה של 32 ש"ש
B110: שנות ותק | C110: שכר משולב כולל ותק | D110: תוספת אקדמית (ניידות, ביגוד, טלפון) | E110: סך הכול שכר ללא תוספת שחיקה | F110: תוספת שחיקה | J110: שנות ותק | L110: תוספת אקדמית (ניידות, ביגוד, טלפון) | M110: סך הכול שכר ללא תוספת שחיקה | N110: תוספת שחיקה
B111: 0 | C111: 4114.6272 | D111: 1217.2907 | E111: 5331.9179 | F111: 775.4872 | J111: 0 | K111: 4185.2433 | L111: 1243.1905 | M111: 5428.4337 | N111: 788.99942
B112: 1 | C112: 4146.8678 | D112: 1217.2907 | E112: 5364.1585 | F112: 780.00087 | J112: 1 | K112: 4218.1698 | L112: 1243.1905 | M112: 5461.3603 | N112: 793.60913
B113: 2 | C113: 4179.1083 | D113: 1217.2907 | E113: 5396.399 | F113: 784.51455 | J113: 2 | K113: 4251.0963 | L113: 1243.1905 | M113: 5494.2868 | N113: 798.21884
B114: 3 | C114: 4211.3488 | D114: 1217.2907 | E114: 5428.6395 | F114: 789.02823 | J114: 3 | K114: 4284.0228 | L114: 1243.1905 | M114: 5527.2133 | N114: 802.82855
B115: 4 | C115: 4243.5894 | D115: 1217.2907 | E115: 5460.8801 | F115: 793.5419 | J115: 4 | K115: 4316.9493 | L115: 1243.1905 | M115: 5560.1398 | N115: 807.43826
B116: 5 | C116: 4275.8299 | D116: 1217.2907 | E116: 5493.1206 | F116: 798.05558 | J116: 5 | K116: 4349.8758 | L116: 1243.1905 | M116: 5593.0663 | N116: 812.04797
B117: 6 | C117: 4308.0705 | D117: 1217.2907 | E117: 5525.3612 | F117: 802.56925 | J117: 6 | K117: 4382.8023 | L117: 1243.1905 | M117: 5625.9928 | N117: 816.65768
B118: 7 | C118: 4340.311 | D118: 1217.2907 | E118: 5557.6017 | F118: 807.08293 | J118: 7 | K118: 4415.7288 | L118: 1243.1905 | M118: 5658.9193 | N118: 821.2674
B119: 8 | C119: 4372.5516 | D119: 1217.2907 | E119: 5589.8422 | F119: 811.59661 | J119: 8 | K119: 4448.6553 | L119: 1243.1905 | M119: 5691.8458 | N119: 825.87711
B120: 9 | C120: 4404.7921 | D120: 1217.2907 | E120: 5622.0828 | F120: 816.11028 | J120: 9 | K120: 4481.5818 | L120: 1243.1905 | M120: 5724.7723 | N120: 830.48682
B121: 10 | C121: 4437.0326 | D121: 1217.2907 | E121: 5654.3233 | F121: 820.62396 | J121: 10 | K121: 4514.5084 | L121: 1243.1905 | M121: 5757.6988 | N121: 835.09653
B122: 11 | C122: 4469.2732 | D122: 1217.2907 | E122: 5686.5639 | F122: 825.13763 | J122: 11 | K122: 4547.4349 | L122: 1243.1905 | M122: 5790.6254 | N122: 839.70624
... B126: 15 | C126: 4598.2353 | D126: 1217.2907 | E126: 5815.526 | F126: 843.19234 | J126: 15 | K126: 4679.1409 | L126: 1243.1905 | M126: 5922.3314 | N126: 858.14509
B129: עמית הוראה ב' | F129: =$F$5 -> מעודכן לינואר 2023 | J129: עמית הוראה א' | N129: =$F$5 -> מעודכן לינואר 2023
B130: שנות ותק | C130: שכר משולב כולל ותק | D130: תוספת אקדמית (ניידות, ביגוד, טלפון) | E130: סך הכול שכר ללא תוספת שחיקה | F130: תוספת שחיקה | J130: שנות ותק | K130: שכר משולב כולל ותק | L130: תוספת אקדמית (ניידות, ביגוד, טלפון) | M130: סך הכול שכר ללא תוספת שחיקה | N130: תוספת שחיקה
B131: 0 | C131: 8232.5877 | D131: 2158.5856 | E131: =SUM($C131:$D131) -> 10391.173 | F131: 1489.4194 | J131: 0 | K131: 6704.1296 | L131: 2110.3221 | M131: =SUM($K131:$L131) -> 8814.4516 | N131: 1268.6784
B132: 1 | C132: 8299.8723 | D132: =$D$131 -> 2158.5856 | E132: =SUM($C132:$D132) -> 10458.458 | F132: 1498.8393 | J132: 1 | K132: 6760.0808 | L132: =$L$131 -> 2110.3221 | M132: =SUM($K132:$L132) -> 8870.4028 | N132: 1276.5115
B133: 2 | C133: 8367.1569 | D133: =$D$131 -> 2158.5856 | E133: =SUM($C133:$D133) -> 10525.743 | F133: 1508.2591 | J133: 2 | K133: 6815.9127 | L133: =$L$131 -> 2110.3221 | M133: =SUM($K133:$L133) -> 8926.2347 | N133: 1284.328
...

Sheet ספטמבר 2023
A1: לוחות שכר באוניברסיטאות - סגל אקדמי זוטר, עמיתי הוראה ומורים מן החוץ
A2: פעימה תשיעית בגין הסכם השכר עם הסגל האקדמי הזוטר באוניברסיטאות, החל מ-1.9.2023
B5: מורה משנה ב' | F5: מעודכן לספטמבר 2023 | J5: מורה משנה א' | N5: =$F$5 -> מעודכן לספטמבר 2023
B6: שנות ותק | C6: שכר משולב כולל ותק | D6: תוספת אקדמית (ניידות, ביגוד, טלפון) | E6: סך הכול שכר ללא תוספת שחיקה | F6: תוספת שחיקה | J6: שנות ותק | K6: שכר משולב כולל ותק | L6: תוספת אקדמית (ניידות, ביגוד, טלפון) | M6: סך הכול שכר ללא תוספת שחיקה | N6: תוספת שחיקה
B7: 0 | C7: 7498.3571 | D7: 2366.7289 | E7: 9865.086 | F7: 1381.112 | J7: 0 | K7: 6358.0679 | L7: 2331.9059 | M7: 8689.9738 | N7: 1216.5963
B8: 1 | C8: 7572.7066 | D8: 2366.7289 | E8: 9939.4354 | F8: 1391.521 | J8: 1 | K8: 6419.894 | L8: 2331.9059 | M8: 8751.7999 | N8: 1225.252
B9: 2 | C9: 7646.9243 | D9: 2366.7289 | E9: 10013.653 | F9: 1401.9114 | J9: 2 | K9: 6481.5883 | L9: 2331.9059 | M9: 8813.4941 | N9: 1233.8892
B10: 3 | C10: 7721.2737 | D10: 2366.7289 | E10: 10088.003 | F10: 1412.3204 | J10: 3 | K10: 6543.4143 | L10: 2331.9059 | M10: 8875.3202 | N10: 1242.5448
B11: 4 | C11: 7795.6232 | D11: 2366.7289 | E11: 10162.352 | F11: 1422.7293 | J11: 4 | K11: 6605.2404 | L11: 2331.9059 | M11: 8937.1463 | N11: 1251.2005
B12: 5 | C12: 7869.9727 | D12: 2366.7289 | E12: 10236.702 | F12: 1433.1382 | J12: 5 | K12: 6666.9347 | L12: 2331.9059 | M12: 8998.8406 | N12: 1259.8377
B13: 6 | C13: 7944.3222 | D13: 2366.7289 | E13: 10311.051 | F13: 1443.5472 | J13: 6 | K13: 6728.7608 | L13: 2331.9059 | M13: 9060.6666 | N13: 1268.4933
B14: 7 | C14: 8018.6717 | D14: 2366.7289 | E14: 10385.401 | F14: 1453.9561 | J14: 7 | K14: 6790.455 | L14: 2331.9059 | M14: 9122.3609 | N14: 1277.1305
B15: 8 | C15: 8093.0212 | D15: 2366.7289 | E15: 10459.75 | F15: 1464.365 | J15: 8 | K15: 6852.2811 | L15: 2331.9059 | M15: 9184.187 | N15: 1285.7862
B16: 9 | C16: 8167.3707 | D16: 2366.7289 | E16: 10534.1 | F16: 1474.7739 | J16: 9 | K16: 6914.1072 | L16: 2331.9059 | M16: 9246.0131 | N16: 1294.4418
B17: 10 | C17: 8241.7202 | D17: 2366.7289 | E17: 10608.449 | F17: 1485.1829 | J17: 10 | K17: 6975.8015 | L17: 2331.9059 | M17: 9307.7073 | N17: 1303.079
B20: מדריך ד"ר | F20: =$F$5 -> מעודכן לספטמבר 2023 | J20: מדריך | N20: =$F$5 -> מעודכן לספטמבר 2023
B21: שנות ותק | C21: שכר משולב כולל ותק | D21: תוספת אקדמית (ניידות, ביגוד, טלפון) | E21: סך הכול שכר ללא תוספת שחיקה | F21: תוספת שחיקה | J21: שנות ותק | K21: שכר משולב כולל ותק | L21: תוספת אקדמית (ניידות, ביגוד, טלפון) | M21: סך הכול שכר ללא תוספת שחיקה | N21: תוספת שחיקה
B22: 0 | C22: 7963.4666 | D22: 2158.5856 | E22: =SUM($C22:$D22) -> 10122.052 | F22: 1441.9275 | J22: 0 | K22: 7466.9444 | L22: 2141.8361 | M22: =SUM($K22:$L22) -> 9608.7804 | N22: 1370.0694
B23: 1 | C23: 8030.7512 | D23: =$D$22 -> 2158.5856 | E23: =SUM($C23:$D23) -> 10189.337 | F23: 1451.3473 | J23: 1 | K23: 7534.229 | L23: =$L$22 -> 2141.8361 | M23: =SUM($K23:$L23) -> 9676.065 | N23: 1379.4893
B24: 2 | C24: 8098.0358 | D24: =$D$22 -> 2158.5856 | E24: =SUM($C24:$D24) -> 10256.621 | F24: 1460.7672 | J24: 2 | K24: 7601.3943 | L24: =$L$22 -> 2141.8361 | M24: =SUM($K24:$L24) -> 9743.2303 | N24: 1388.8924
B25: 3 | C25: 8165.2011 | D25: =$D$22 -> 2158.5856 | E25: =SUM($C25:$D25) -> 10323.787 | F25: 1470.1703 | J25: 3 | K25: 7668.6789 | L25: =$L$22 -> 2141.8361 | M25: =SUM($K25:$L25) -> 9810.515 | N25: 1398.3122
B26: 4 | C26: 8232.4857 | D26: =$D$22 -> 2158.5856 | E26: =SUM($C26:$D26) -> 10391.071 | F26: 1479.5901 | J26: 4 | K26: 7735.9635 | L26: =$L$22 -> 2141.8361 | M26: =SUM($K26:$L26) -> 9877.7996 | N26: 1407.7321
B27: 5 | C27: 8299.7703 | D27: =$D$22 -> 2158.5856 | E27: =SUM($C27:$D27) -> 10458.356 | F27: 1489.01 | J27: 5 | K27: 7803.2481 | L27: =$L$22 -> 2141.8361 | M27: =SUM($K27:$L27) -> 9945.0842 | N27: 1417.1519
B28: 6 | C28: 8367.0549 | D28: =$D$22 -> 2158.5856 | E28: =SUM($C28:$D28) -> 10525.641 | F28: 1498.4298 | J28: 6 | K28: 7870.5327 | L28: =$L$22 -> 2141.8361 | M28: =SUM($K28:$L28) -> 10012.369 | N28: 1426.5718
B29: 7 | C29: 8434.3395 | D29: =$D$22 -> 2158.5856 | E29: =SUM($C29:$D29) -> 10592.925 | F29: 1507.8497 | J29: 7 | K29: 7937.8173 | L29: =$L$22 -> 2141.8361 | M29: =SUM($K29:$L29) -> 10079.653 | N29: 1435.9916
B30: 8 | C30: 8501.6241 | D30: =$D$22 -> 2158.5856 | E30: =SUM($C30:$D30) -> 10660.21 | F30: 1517.2695 | J30: 8 | K30: 8005.1019 | L30: =$L$22 -> 2141.8361 | M30: =SUM($K30:$L30) -> 10146.938 | N30: 1445.4115
B31: 9 | C31: 8568.9088 | D31: =$D$22 -> 2158.5856 | E31: =SUM($C31:$D31) -> 10727.494 | F31: 1526.6894 | J31: 9 | K31: 8072.3865 | L31: =$L$22 -> 2141.8361 | M31: =SUM($K31:$L31) -> 10214.223 | N31: 1454.8313
B32: 10 | C32: 8636.1934 | D32: =$D$22 -> 2158.5856 | E32: =SUM($C32:$D32) -> 10794.779 | F32: 1536.1092 | J32: 10 | K32: 8139.6711 | L32: =$L$22 -> 2141.8361 | M32: =SUM($K32:$L32) -> 10281.507 | N32: 1464.2512
B33: 11 | C33: 8703.478 | D33: =$D$22 -> 2158.5856 | E33: =SUM($C33:$D33) -> 10862.064 | F33: 1545.5291 | J33: 11 | K33: 8206.8364 | L33: =$L$22 -> 2141.8361 | M33: =SUM($K33:$L33) -> 10348.673 | N33: 1473.6543
B34: 12 | C34: 8770.6433 | D34: =$D$22 -> 2158.5856 | E34: =SUM($C34:$D34) -> 10929.229 | F34: 1554.9322 | J34: 12 | K34: 8274.1211 | L34: =$L$22 -> 2141.8361 | M34: =SUM($K34:$L34) -> 10415.957 | N34: 1483.0741
... B47: 25 | C47: 9645.2239 | D47: =$D$22 -> 2158.5856 | E47: =SUM($C47:$D47) -> 11803.81 | F47: 1677.3735 | J47: 25 | K47: 9148.7016 | L47: =$L$22 -> 2141.8361 | M47: =SUM($K47:$L47) -> 11290.538 | N47: 1605.5154
B50: אסיסטנט ב' | F50: =$F$5 -> מעודכן לספטמבר 2023 | J50: אסיסטנט א' | N50: =$F$5 -> מעודכן לספטמבר 2023
B51: שנות ותק | C51: שכר משולב כולל ותק | D51: תוספת אקדמית (ניידות, ביגוד, טלפון) | E51: סך הכול שכר ללא תוספת שחיקה | F51: תוספת שחיקה | J51: שנות ותק | K51: שכר משולב כולל ותק | L51: תוספת אקדמית (ניידות, ביגוד, טלפון) | M51: סך הכול שכר ללא תוספת שחיקה | N51: תוספת שחיקה
B52: 0 | C52: 7085.4263 | D52: 2126.3272 | E52: =SUM($C52:$D52) -> 9211.7535 | F52: 1314.4856 | J52: 0 | K52: 6435.0085 | L52: 2110.3221 | M52: =SUM($K52:$L52) -> 8545.3305 | N52: 1221.1864
B53: 1 | C53: 7148.2969 | D53: =$D$52 -> 2126.3272 | E53: =SUM($C53:$D53) -> 9274.6241 | F53: 1323.2875 | J53: 1 | K53: 6490.9597 | L53: =$L$52 -> 2110.3221 | M53: =SUM($K53:$L53) -> 8601.2817 | N53: 1229.0196
B54: 2 | C54: 7211.2867 | D54: =$D$52 -> 2126.3272 | E54: =SUM($C54:$D54) -> 9337.6139 | F54: 1332.1061 | J54: 2 | K54: 6546.7916 | L54: =$L$52 -> 2110.3221 | M54: =SUM($K54:$L54) -> 8657.1136 | N54: 1236.8361
B55: 3 | C55: 7274.2766 | D55: =$D$52 -> 2126.3272 | E55: =SUM($C55:$D55) -> 9400.6038 | F55: 1340.9247 | J55: 3 | K55: 6602.7428 | L55: =$L$52 -> 2110.3221 | M55: =SUM($K55:$L55) -> 8713.0648 | N55: 1244.6692
B56: 4 | C56: 7337.1471 | D56: =$D$52 -> 2126.3272 | E56: =SUM($C56:$D56) -> 9463.4743 | F56: 1349.7266 | J56: 4 | K56: 6658.694 | L56: =$L$52 -> 2110.3221 | M56: =SUM($K56:$L56) -> 8769.016 | N56: 1252.5024
B57: 5 | C57: 7400.137 | D57: =$D$52 -> 2126.3272 | E57: =SUM($C57:$D57) -> 9526.4642 | F57: 1358.5451 | J57: 5 | K57: 6714.5259 | L57: =$L$52 -> 2110.3221 | M57: =SUM($K57:$L57) -> 8824.848 | N57: 1260.3189
B58: 6 | C58: 7463.1268 | D58: =$D$52 -> 2126.3272 | E58: =SUM($C58:$D58) -> 9589.454 | F58: 1367.3637 | J58: 6 | K58: 6770.4771 | L58: =$L$52 -> 2110.3221 | M58: =SUM($K58:$L58) -> 8880.7992 | N58: 1268.152
B59: 7 | C59: 7525.9973 | D59: =$D$52 -> 2126.3272 | E59: =SUM($C59:$D59) -> 9652.3245 | F59: 1376.1656 | J59: 7 | K59: 6826.309 | L59: =$L$52 -> 2110.3221 | M59: =SUM($K59:$L59) -> 8936.6311 | N59: 1275.9685
B60: 8 | C60: 7588.9872 | D60: =$D$52 -> 2126.3272 | E60: =SUM($C60:$D60) -> 9715.3144 | F60: 1384.9842 | J60: 8 | K60: 6882.2602 | L60: =$L$52 -> 2110.3221 | M60: =SUM($K60:$L60) -> 8992.5823 | N60: 1283.8017
B61: 9 | C61: 7651.977 | D61: =$D$52 -> 2126.3272 | E61: =SUM($C61:$D61) -> 9778.3042 | F61: 1393.8027 | J61: 9 | K61: 6938.2114 | L61: =$L$52 -> 2110.3221 | M61: =SUM($K61:$L61) -> 9048.5335 | N61: 1291.6348
B62: 10 | C62: 7714.8476 | D62: =$D$52 -> 2126.3272 | E62: =SUM($C62:$D62) -> 9841.1748 | F62: 1402.6046 | J62: 10 | K62: 6994.0433 | L62: =$L$52 -> 2110.3221 | M62: =SUM($K62:$L62) -> 9104.3654 | N62: 1299.4513
B63: 11 | C63: 7777.8374 | D63: =$D$52 -> 2126.3272 | E63: =SUM($C63:$D63) -> 9904.1646 | F63: 1411.4232 | J63: 11 | K63: 7049.9945 | L63: =$L$52 -> 2110.3221 | M63: =SUM($K63:$L63) -> 9160.3166 | N63: 1307.2845
B64: 12 | C64: 7840.708 | D64: =$D$52 -> 2126.3272 | E64: =SUM($C64:$D64) -> 9967.0352 | F64: 1420.2251 | J64: 12 | K64: 7105.9457 | L64: =$L$52 -> 2110.3221 | M64: =SUM($K64:$L64) -> 9216.2678 | N64: 1315.1176
... B67: 15 | C67: 8029.5582 | D67: =$D$52 -> 2126.3272 | E67: =SUM($C67:$D67) -> 10155.885 | F67: 1446.6641 | J67: 15 | K67: 7273.5608 | L67: =$L$52 -> 2110.3221 | M67: =SUM($K67:$L67) -> 9383.8828 | N67: 1338.5837
B68: 16 | C68: 8092.5481 | D68: =$D$52 -> 2126.3272 | E68: =SUM($C68:$D68) -> 10218.875 | F68: 1455.4827
B69: 17 | C69: 8155.5379 | D69: =$D$52 -> 2126.3272 | E69: =SUM($C69:$D69) -> 10281.865 | F69: 1464.3013
B70: 18 | C70: 8218.4084 | D70: =$D$52 -> 2126.3272 | E70: =SUM($C70:$D70) -> 10344.736 | F70: 1473.1031
B71: 19 | C71: 8281.3983 | D71: =$D$52 -> 2126.3272 | E71: =SUM($C71:$D71) -> 10407.725 | F71: 1481.9217
B72: 20 | C72: 8344.3881 | D72: =$D$52 -> 2126.3272 | E72: =SUM($C72:$D72) -> 10470.715 | F72: 1490.7403
A75: עודכנו שקלית - מדריך ד"ר, מדריך, אסיסטנט א', אסיסטנט ב', עוזרי הוראה 22 ש"ש, עוזרי הוראה 32 ש"ש, עמית הוראה 1, עמית הוראה א', עמית הוראה ב'
A76: ='ינואר 2018'!$A$76 -> עודכנו אחוזית - מורה מן החוץ 1, מורה מן החוץ א', מורה מן החוץ ב', מורה משנה א', מורה משנה ב', מורה עוזר א',ב',ג' וד'
A77: =$A$1 -> לוחות שכר באוניברסיטאות - סגל אקדמי זוטר, עמיתי הוראה ומורים מן החוץ
A78: =$A$2 -> פעימה תשיעית בגין הסכם השכר עם הסגל האקדמי הזוטר באוניברסיטאות, החל מ-1.9.2023
B81: מורה עוזר | L81: =$F$5 -> מעודכן לספטמבר 2023
B82: רמה א' | J82: רמה ב'
B83: שנות ותק | C83: שכר משולב כולל ותק | D83: תוספת שחיקה | J83: שנות ותק | K83: שכר משולב כולל ותק | L83: תוספת שחיקה
B84: 0 | C84: 5809.279 | D84: 813.29906 | J84: 0 | K84: 6135.9422 | L84: 859.03191
B85: 1 | C85: 5867.414 | D85: 821.43796 | J85: 1 | K85: 6197.241 | L85: 867.61374
B86: 2 | C86: 5926.0763 | D86: 829.65068 | J86: 2 | K86: 6259.1989 | L86: 876.28785
B87: 3 | C87: 5985.3977 | D87: 837.95568 | J87: 3 | K87: 6321.816 | L87: 885.05423
B88: 4 | C88: 6045.2464 | D88: 846.33449 | J88: 4 | K88: 6385.0921 | L88: 893.9129
B89: 5 | C89: 6105.7542 | D89: 854.80559 | J89: 5 | K89: 6448.8956 | L89: 902.84538
B90: 6 | C90: 6166.7894 | D90: 863.35051 | J90: 6 | K90: 6513.3582 | L90: 911.87014
B91: 7 | C91: 6228.4836 | D91: 871.98771 | J91: 7 | K91: 6578.4799 | L91: 920.98718
B92: 8 | C92: 6290.7052 | D92: 880.69872 | J92: 8 | K92: 6644.2607 | L92: 930.1965
B95: רמה ג' | J95: רמה ד'
B96: שנות ותק | C96: שכר משולב כולל ותק | D96: תוספת שחיקה | J96: שנות ותק | K96: שכר משולב כולל ותק | L96: תוספת שחיקה
B97: 0 | C97: 6697.3863 | D97: 937.63409 | J97: 0 | K97: 7158.3796 | L97: 1002.1731
B98: 1 | C98: 6764.3536 | D98: 947.00951 | J98: 1 | K98: 7229.9607 | L98: 1012.1945
B99: 2 | C99: 6831.98 | D99: 956.4772 | J99: 2 | K99: 7302.201 | L99: 1022.3081
B100: 3 | C100: 6900.2655 | D100: 966.03718 | J100: 3 | K100: 7375.2322 | L100: 1032.5325
B101: 4 | C101: 6969.2102 | D101: 975.68943 | J101: 4 | K101: 7448.9226 | L101: 1042.8492
B102: 5 | C102: 7038.9458 | D102: 985.45241 | J102: 5 | K102: 7523.4039 | L102: 1053.2765
B103: 6 | C103: 7109.3405 | D103: 995.30767 | J103: 6 | K103: 7598.6762 | L103: 1063.8147
B104: 7 | C104: 7180.3944 | D104: 1005.2552 | J104: 7 | K104: 7674.6076 | L104: 1074.4451
B105: 8 | C105: 7252.2392 | D105: 1015.3135 | J105: 8 | K105: 7751.3299 | L105: 1085.1862
B108: עוזרי הוראה | F108: =$F$5 -> מעודכן לספטמבר 2023 | J108: עוזרי הוראה | N108: =$F$5 -> מעודכן לספטמבר 2023
B109: על-פי משרה מלאה של 22 ש"ש | J109: על-פי משרה מלאה של 32 ש"ש
B110: שנות ותק | C110: שכר משולב כולל ותק | D110: תוספת אקדמית (ניידות, ביגוד, טלפון) | E110: סך הכול שכר ללא תוספת שחיקה | F110: תוספת שחיקה | J110: שנות ותק | L110: תוספת אקדמית (ניידות, ביגוד, טלפון) | M110: סך הכול שכר ללא תוספת שחיקה | N110: תוספת שחיקה
B111: 0 | C111: 4153.4367 | D111: 1217.2907 | E111: 5370.7274 | F111: 782.33593 | J111: 0 | K111: 4224.0527 | L111: 1243.1905 | M111: 5467.2432 | N111: 795.84815
B112: 1 | C112: 4185.6772 | D112: 1217.2907 | E112: 5402.9679 | F112: 786.84961 | J112: 1 | K112: 4256.9792 | L112: 1243.1905 | M112: 5500.1697 | N112: 800.45786
B113: 2 | C113: 4217.9178 | D113: 1217.2907 | E113: 5435.2085 | F113: 791.36328 | J113: 2 | K113: 4289.9058 | L113: 1243.1905 | M113: 5533.0962 | N113: 805.06757
B114: 3 | C114: 4250.1583 | D114: 1217.2907 | E114: 5467.449 | F114: 795.87696 | J114: 3 | K114: 4322.8323 | L114: 1243.1905 | M114: 5566.0228 | N114: 809.67728
B115: 4 | C115: 4282.3989 | D115: 1217.2907 | E115: 5499.6896 | F115: 800.39063 | J115: 4 | K115: 4355.7588 | L115: 1243.1905 | M115: 5598.9493 | N115: 814.28699
B116: 5 | C116: 4314.6394 | D116: 1217.2907 | E116: 5531.9301 | F116: 804.90431 | J116: 5 | K116: 4388.6853 | L116: 1243.1905 | M116: 5631.8758 | N116: 818.8967
B117: 6 | C117: 4346.88 | D117: 1217.2907 | E117: 5564.1706 | F117: 809.41799 | J117: 6 | K117: 4421.6118 | L117: 1243.1905 | M117: 5664.8023 | N117: 823.50642
B118: 7 | C118: 4379.1205 | D118: 1217.2907 | E118: 5596.4112 | F118: 813.93166 | J118: 7 | K118: 4454.5383 | L118: 1243.1905 | M118: 5697.7288 | N118: 828.11613
B119: 8 | C119: 4411.361 | D119: 1217.2907 | E119: 5628.6517 | F119: 818.44534 | J119: 8 | K119: 4487.4648 | L119: 1243.1905 | M119: 5730.6553 | N119: 832.72584
B120: 9 | C120: 4443.6016 | D120: 1217.2907 | E120: 5660.8923 | F120: 822.95901 | J120: 9 | K120: 4520.3913 | L120: 1243.1905 | M120: 5763.5818 | N120: 837.33555
B121: 10 | C121: 4475.8421 | D121: 1217.2907 | E121: 5693.1328 | F121: 827.47269 | J121: 10 | K121: 4553.3178 | L121: 1243.1905 | M121: 5796.5083 | N121: 841.94526
B122: 11 | C122: 4508.0827 | D122: 1217.2907 | E122: 5725.3733 | F122: 831.98636 | J122: 11 | K122: 4586.2443 | L122: 1243.1905 | M122: 5829.4348 | N122: 846.55497
... B126: 15 | C126: 4637.0448 | D126: 1217.2907 | E126: 5854.3355 | F126: 850.04107 | J126: 15 | K126: 4717.9504 | L126: 1243.1905 | M126: 5961.1409 | N126: 864.99382
B129: עמית הוראה ב' | F129: =$F$5 -> מעודכן לספטמבר 2023 | J129: עמית הוראה א' | N129: =$F$5 -> מעודכן לספטמבר 2023
B130: שנות ותק | C130: שכר משולב כולל ותק | D130: תוספת אקדמית (ניידות, ביגוד, טלפון) | E130: סך הכול שכר ללא תוספת שחיקה | F130: תוספת שחיקה | J130: שנות ותק | K130: שכר משולב כולל ותק | L130: תוספת אקדמית (ניידות, ביגוד, טלפון) | M130: סך הכול שכר ללא תוספת שחיקה | N130: תוספת שחיקה
B131: 0 | C131: 8280.0988 | D131: 2158.5856 | E131: =SUM($C131:$D131) -> 10438.684 | F131: 1497.8037 | J131: 0 | K131: 6751.6407 | L131: 2110.3221 | M131: =SUM($K131:$L131) -> 8861.9627 | N131: 1277.0627
B132: 1 | C132: 8347.3834 | D132: =$D$131 -> 2158.5856 | E132: =SUM($C132:$D132) -> 10505.969 | F132: 1507.2236 | J132: 1 | K132: 6807.5919 | L132: =$L$131 -> 2110.3221 | M132: =SUM($K132:$L132) -> 8917.9139 | N132: 1284.8959
B133: 2 | C133: 8414.668 | D133: =$D$131 -> 2158.5856 | E133: =SUM($C133:$D133) -> 10573.254 | F133: 1516.6434 | J133: 2 | K133: 6863.4238 | L133: =$L$131 -> 2110.3221 | M133: =SUM($K133:$L133) -> 8973.7458 | N133: 1292.7123
...

Sheet יולי 2025
A1: לוחות שכר באוניברסיטאות - סגל אקדמי זוטר, עמיתי הוראה ומורים מן החוץ | Q1: ='[1]גיליון סיכום'!D5 -> 0.0125 | R1: ='[1]גיליון סיכום'!E5 -> 0.04
A2: פעימה ראשונה בגין הסכם השכר עם הסגל האקדמי הזוטר באוניברסיטאות, החל מ-1.7.2025
B5: מורה משנה ב' | F5: מעודכן ליולי 2025 | K5: מורה משנה א' | O5: =$F$5 -> מעודכן ליולי 2025
B6: שנות ותק | C6: שכר משולב כולל ותק | D6: תוספת אקדמית (ניידות, ביגוד, טלפון) | E6: סך הכול שכר ללא תוספת שחיקה | F6: תוספת שחיקה | G6: תוספת שקלית 2025 | K6: שנות ותק | L6: שכר משולב כולל ותק | M6: תוספת אקדמית (ניידות, ביגוד, טלפון) | N6: סך הכול שכר ללא תוספת שחיקה | O6: תוספת שחיקה | P6: תוספת שקלית 2025
B7: 0 | C7: ='[1]מצב קיים'!C7*(1+'יולי 2025'!$Q$1) -> 7592.0866 | D7: ='[1]מצב קיים'!D7*(1+'יולי 2025'!$Q$1) -> 2396.313 | E7: =SUM(C7:D7) -> 9988.3995 | F7: ='[1]מצב קיים'!F7*(1+'יולי 2025'!$Q$1) -> 1398.3759 | G7: ='[1]גיליון סיכום'!$D$17 -> 306.39326 | K7: 0 | L7: ='[1]מצב קיים'!L7*(1+'יולי 2025'!$Q$1) -> 6437.5438 | M7: ='[1]מצב קיים'!M7*(1+'יולי 2025'!$Q$1) -> 2361.0547 | N7: =SUM(L7:M7) -> 8798.5985 | O7: ='[1]מצב קיים'!O7*(1+'יולי 2025'!$Q$1) -> 1231.8038 | P7: ='[1]גיליון סיכום'!$D$17 -> 306.39326
B8: 1 | C8: ='[1]מצב קיים'!C8*(1+'יולי 2025'!$Q$1) -> 7667.3654 | D8: ='[1]מצב קיים'!D8*(1+'יולי 2025'!$Q$1) -> 2396.313 | E8: =SUM(C8:D8) -> 10063.678 | F8: ='[1]מצב קיים'!F8*(1+'יולי 2025'!$Q$1) -> 1408.915 | G8: ='[1]גיליון סיכום'!$D$17 -> 306.39326 | K8: 1 | L8: ='[1]מצב קיים'!L8*(1+'יולי 2025'!$Q$1) -> 6500.1427 | M8: ='[1]מצב קיים'!M8*(1+'יולי 2025'!$Q$1) -> 2361.0547 | N8: =SUM(L8:M8) -> 8861.1974 | O8: ='[1]מצב קיים'!O8*(1+'יולי 2025'!$Q$1) -> 1240.5676 | P8: ='[1]גיליון סיכום'!$D$17 -> 306.39326
B9: 2 | C9: ='[1]מצב קיים'!C9*(1+'יולי 2025'!$Q$1) -> 7742.5108 | D9: ='[1]מצב קיים'!D9*(1+'יולי 2025'!$Q$1) -> 2396.313 | E9: =SUM(C9:D9) -> 10138.824 | F9: ='[1]מצב קיים'!F9*(1+'יולי 2025'!$Q$1) -> 1419.4353 | G9: ='[1]גיליון סיכום'!$D$17 -> 306.39326 | K9: 2 | L9: ='[1]מצב קיים'!L9*(1+'יולי 2025'!$Q$1) -> 6562.6081 | M9: ='[1]מצב קיים'!M9*(1+'יולי 2025'!$Q$1) -> 2361.0547 | N9: =SUM(L9:M9) -> 8923.6628 | O9: ='[1]מצב קיים'!O9*(1+'יולי 2025'!$Q$1) -> 1249.3128 | P9: ='[1]גיליון סיכום'!$D$17 -> 306.39326
B10: 3 | C10: ='[1]מצב קיים'!C10*(1+'יולי 2025'!$Q$1) -> 7817.7897 | D10: ='[1]מצב קיים'!D10*(1+'יולי 2025'!$Q$1) -> 2396.313 | E10: =SUM(C10:D10) -> 10214.103 | F10: ='[1]מצב קיים'!F10*(1+'יולי 2025'!$Q$1) -> 1429.9744 | G10: ='[1]גיליון סיכום'!$D$17 -> 306.39326 | K10: 3 | L10: ='[1]מצב קיים'!L10*(1+'יולי 2025'!$Q$1) -> 6625.207 | M10: ='[1]מצב קיים'!M10*(1+'יולי 2025'!$Q$1) -> 2361.0547 | N10: =SUM(L10:M10) -> 8986.2617 | O10: ='[1]מצב קיים'!O10*(1+'יולי 2025'!$Q$1) -> 1258.0766 | P10: ='[1]גיליון סיכום'!$D$17 -> 306.39326
B11: 4 | C11: ='[1]מצב קיים'!C11*(1+'יולי 2025'!$Q$1) -> 7893.0685 | D11: ='[1]מצב קיים'!D11*(1+'יולי 2025'!$Q$1) -> 2396.313 | E11: =SUM(C11:D11) -> 10289.381 | F11: ='[1]מצב קיים'!F11*(1+'יולי 2025'!$Q$1) -> 1440.5134 | G11: ='[1]גיליון סיכום'!$D$17 -> 306.39326 | K11: 4 | L11: ='[1]מצב קיים'!L11*(1+'יולי 2025'!$Q$1) -> 6687.8059 | M11: ='[1]מצב קיים'!M11*(1+'יולי 2025'!$Q$1) -> 2361.0547 | N11: =SUM(L11:M11) -> 9048.8606 | O11: ='[1]מצב קיים'!O11*(1+'יולי 2025'!$Q$1) -> 1266.8405 | P11: ='[1]גיליון סיכום'!$D$17 -> 306.39326
B12: 5 | C12: ='[1]מצב קיים'!C12*(1+'יולי 2025'!$Q$1) -> 7968.3474 | D12: ='[1]מצב קיים'!D12*(1+'יולי 2025'!$Q$1) -> 2396.313 | E12: =SUM(C12:D12) -> 10364.66 | F12: ='[1]מצב קיים'!F12*(1+'יולי 2025'!$Q$1) -> 1451.0525 | G12: ='[1]גיליון סיכום'!$D$17 -> 306.39326 | K12: 5 | L12: ='[1]מצב קיים'!L12*(1+'יולי 2025'!$Q$1) -> 6750.2714 | M12: ='[1]מצב קיים'!M12*(1+'יולי 2025'!$Q$1) -> 2361.0547 | N12: =SUM(L12:M12) -> 9111.3261 | O12: ='[1]מצב קיים'!O12*(1+'יולי 2025'!$Q$1) -> 1275.5856 | P12: ='[1]גיליון סיכום'!$D$17 -> 306.39326
B13: 6 | C13: ='[1]מצב קיים'!C13*(1+'יולי 2025'!$Q$1) -> 8043.6262 | D13: ='[1]מצב קיים'!D13*(1+'יולי 2025'!$Q$1) -> 2396.313 | E13: =SUM(C13:D13) -> 10439.939 | F13: ='[1]מצב קיים'!F13*(1+'יולי 2025'!$Q$1) -> 1461.5915 | G13: ='[1]גיליון סיכום'!$D$17 -> 306.39326 | K13: 6 | L13: ='[1]מצב קיים'!L13*(1+'יולי 2025'!$Q$1) -> 6812.8703 | M13: ='[1]מצב קיים'!M13*(1+'יולי 2025'!$Q$1) -> 2361.0547 | N13: =SUM(L13:M13) -> 9173.925 | O13: ='[1]מצב קיים'!O13*(1+'יולי 2025'!$Q$1) -> 1284.3495 | P13: ='[1]גיליון סיכום'!$D$17 -> 306.39326
B14: 7 | C14: ='[1]מצב קיים'!C14*(1+'יולי 2025'!$Q$1) -> 8118.9051 | D14: ='[1]מצב קיים'!D14*(1+'יולי 2025'!$Q$1) -> 2396.313 | E14: =SUM(C14:D14) -> 10515.218 | F14: ='[1]מצב קיים'!F14*(1+'יולי 2025'!$Q$1) -> 1472.1305 | G14: ='[1]גיליון סיכום'!$D$17 -> 306.39326 | K14: 7 | L14: ='[1]מצב קיים'!L14*(1+'יולי 2025'!$Q$1) -> 6875.3357 | M14: ='[1]מצב קיים'!M14*(1+'יולי 2025'!$Q$1) -> 2361.0547 | N14: =SUM(L14:M14) -> 9236.3904 | O14: ='[1]מצב קיים'!O14*(1+'יולי 2025'!$Q$1) -> 1293.0947 | P14: ='[1]גיליון סיכום'!$D$17 -> 306.39326
B15: 8 | C15: ='[1]מצב קיים'!C15*(1+'יולי 2025'!$Q$1) -> 8194.184 | D15: ='[1]מצב קיים'!D15*(1+'יולי 2025'!$Q$1) -> 2396.313 | E15: =SUM(C15:D15) -> 10590.497 | F15: ='[1]מצב קיים'!F15*(1+'יולי 2025'!$Q$1) -> 1482.6696 | G15: ='[1]גיליון סיכום'!$D$17 -> 306.39326 | K15: 8 | L15: ='[1]מצב קיים'!L15*(1+'יולי 2025'!$Q$1) -> 6937.9346 | M15: ='[1]מצב קיים'!M15*(1+'יולי 2025'!$Q$1) -> 2361.0547 | N15: =SUM(L15:M15) -> 9298.9893 | O15: ='[1]מצב קיים'!O15*(1+'יולי 2025'!$Q$1) -> 1301.8585 | P15: ='[1]גיליון סיכום'!$D$17 -> 306.39326
B16: 9 | C16: ='[1]מצב קיים'!C16*(1+'יולי 2025'!$Q$1) -> 8269.4628 | D16: ='[1]מצב קיים'!D16*(1+'יולי 2025'!$Q$1) -> 2396.313 | E16: =SUM(C16:D16) -> 10665.776 | F16: ='[1]מצב קיים'!F16*(1+'יולי 2025'!$Q$1) -> 1493.2086 | G16: ='[1]גיליון סיכום'!$D$17 -> 306.39326 | K16: 9 | L16: ='[1]מצב קיים'!L16*(1+'יולי 2025'!$Q$1) -> 7000.5335 | M16: ='[1]מצב קיים'!M16*(1+'יולי 2025'!$Q$1) -> 2361.0547 | N16: =SUM(L16:M16) -> 9361.5882 | O16: ='[1]מצב קיים'!O16*(1+'יולי 2025'!$Q$1) -> 1310.6224 | P16: ='[1]גיליון סיכום'!$D$17 -> 306.39326
B17: 10 | C17: ='[1]מצב קיים'!C17*(1+'יולי 2025'!$Q$1) -> 8344.7417 | D17: ='[1]מצב קיים'!D17*(1+'יולי 2025'!$Q$1) -> 2396.313 | E17: =SUM(C17:D17) -> 10741.055 | F17: ='[1]מצב קיים'!F17*(1+'יולי 2025'!$Q$1) -> 1503.7477 | G17: ='[1]גיליון סיכום'!$D$17 -> 306.39326 | K17: 10 | L17: ='[1]מצב קיים'!L17*(1+'יולי 2025'!$Q$1) -> 7062.999 | M17: ='[1]מצב קיים'!M17*(1+'יולי 2025'!$Q$1) -> 2361.0547 | N17: =SUM(L17:M17) -> 9424.0537 | O17: ='[1]מצב קיים'!O17*(1+'יולי 2025'!$Q$1) -> 1319.3675 | P17: ='[1]גיליון סיכום'!$D$17 -> 306.39326
B20: מדריך ד"ר | F20: =$F$5 -> מעודכן ליולי 2025 | K20: מדריך | O20: =$F$5 -> מעודכן ליולי 2025
B21: שנות ותק | C21: שכר משולב כולל ותק | D21: תוספת אקדמית (ניידות, ביגוד, טלפון) | E21: סך הכול שכר ללא תוספת שחיקה | F21: תוספת שחיקה | G21: תוספת שקלית 2025 | K21: שנות ותק | L21: שכר משולב כולל ותק | M21: תוספת אקדמית (ניידות, ביגוד, טלפון) | N21: סך הכול שכר ללא תוספת שחיקה | O21: תוספת שחיקה | P21: תוספת שקלית 2025
B22: 0 | C22: ='[1]מצב קיים'!C22*(1+'יולי 2025'!$Q$1) -> 8063.0099 | D22: ='[1]מצב קיים'!D22*(1+'יולי 2025'!$Q$1) -> 2185.568 | E22: =SUM(C22:D22) -> 10248.578 | F22: ='[1]מצב קיים'!F22*(1+'יולי 2025'!$Q$1) -> 1459.9516 | G22: ='[1]גיליון סיכום'!$D$17 -> 306.39326 | K22: 0 | L22: ='[1]מצב קיים'!L22*(1+'יולי 2025'!$Q$1) -> 7560.2812 | M22: ='[1]מצב קיים'!M22*(1+'יולי 2025'!$Q$1) -> 2168.609 | N22: =SUM(L22:M22) -> 9728.8902 | O22: ='[1]מצב קיים'!O22*(1+'יולי 2025'!$Q$1) -> 1387.1953 | P22: ='[1]גיליון סיכום'!$D$17 -> 306.39326
B23: 1 | C23: ='[1]מצב קיים'!C23*(1+'יולי 2025'!$Q$1) -> 8131.1356 | D23: ='[1]מצב קיים'!D23*(1+'יולי 2025'!$Q$1) -> 2185.568 | E23: =SUM(C23:D23) -> 10316.704 | F23: ='[1]מצב קיים'!F23*(1+'יולי 2025'!$Q$1) -> 1469.4891 | G23: ='[1]גיליון סיכום'!$D$17 -> 306.39326 | K23: 1 | L23: ='[1]מצב קיים'!L23*(1+'יולי 2025'!$Q$1) -> 7628.4068 | M23: ='[1]מצב קיים'!M23*(1+'יולי 2025'!$Q$1) -> 2168.609 | N23: =SUM(L23:M23) -> 9797.0159 | O23: ='[1]מצב קיים'!O23*(1+'יולי 2025'!$Q$1) -> 1396.7329 | P23: ='[1]גיליון סיכום'!$D$17 -> 306.39326
B24: 2 | C24: ='[1]מצב קיים'!C24*(1+'יולי 2025'!$Q$1) -> 8199.2613 | D24: ='[1]מצב קיים'!D24*(1+'יולי 2025'!$Q$1) -> 2185.568 | E24: =SUM(C24:D24) -> 10384.829 | F24: ='[1]מצב קיים'!F24*(1+'יולי 2025'!$Q$1) -> 1479.0267 | G24: ='[1]גיליון סיכום'!$D$17 -> 306.39326 | K24: 2 | L24: ='[1]מצב קיים'!L24*(1+'יולי 2025'!$Q$1) -> 7696.4117 | M24: ='[1]מצב קיים'!M24*(1+'יולי 2025'!$Q$1) -> 2168.609 | N24: =SUM(L24:M24) -> 9865.0207 | O24: ='[1]מצב קיים'!O24*(1+'יולי 2025'!$Q$1) -> 1406.2536 | P24: ='[1]גיליון סיכום'!$D$17 -> 306.39326
B25: 3 | C25: ='[1]מצב קיים'!C25*(1+'יולי 2025'!$Q$1) -> 8267.2661 | D25: ='[1]מצב קיים'!D25*(1+'יולי 2025'!$Q$1) -> 2185.568 | E25: =SUM(C25:D25) -> 10452.834 | F25: ='[1]מצב קיים'!F25*(1+'יולי 2025'!$Q$1) -> 1488.5474 | G25: ='[1]גיליון סיכום'!$D$17 -> 306.39326 | K25: 3 | L25: ='[1]מצב קיים'!L25*(1+'יולי 2025'!$Q$1) -> 7764.5374 | M25: ='[1]מצב קיים'!M25*(1+'יולי 2025'!$Q$1) -> 2168.609 | N25: =SUM(L25:M25) -> 9933.1464 | O25: ='[1]מצב קיים'!O25*(1+'יולי 2025'!$Q$1) -> 1415.7911 | P25: ='[1]גיליון סיכום'!$D$17 -> 306.39326
B26: 4 | C26: ='[1]מצב קיים'!C26*(1+'יולי 2025'!$Q$1) -> 8335.3918 | D26: ='[1]מצב קיים'!D26*(1+'יולי 2025'!$Q$1) -> 2185.568 | E26: =SUM(C26:D26) -> 10520.96 | F26: ='[1]מצב קיים'!F26*(1+'יולי 2025'!$Q$1) -> 1498.085 | G26: ='[1]גיליון סיכום'!$D$17 -> 306.39326 | K26: 4 | L26: ='[1]מצב קיים'!L26*(1+'יולי 2025'!$Q$1) -> 7832.663 | M26: ='[1]מצב קיים'!M26*(1+'יולי 2025'!$Q$1) -> 2168.609 | N26: =SUM(L26:M26) -> 10001.272 | O26: ='[1]מצב קיים'!O26*(1+'יולי 2025'!$Q$1) -> 1425.3287 | P26: ='[1]גיליון סיכום'!$D$17 -> 306.39326
B27: 5 | C27: ='[1]מצב קיים'!C27*(1+'יולי 2025'!$Q$1) -> 8403.5175 | D27: ='[1]מצב קיים'!D27*(1+'יולי 2025'!$Q$1) -> 2185.568 | E27: =SUM(C27:D27) -> 10589.085 | F27: ='[1]מצב קיים'!F27*(1+'יולי 2025'!$Q$1) -> 1507.6226 | G27: ='[1]גיליון סיכום'!$D$17 -> 306.39326 | K27: 5 | L27: ='[1]מצב קיים'!L27*(1+'יולי 2025'!$Q$1) -> 7900.7887 | M27: ='[1]מצב קיים'!M27*(1+'יולי 2025'!$Q$1) -> 2168.609 | N27: =SUM(L27:M27) -> 10069.398 | O27: ='[1]מצב קיים'!O27*(1+'יולי 2025'!$Q$1) -> 1434.8663 | P27: ='[1]גיליון סיכום'!$D$17 -> 306.39326
B28: 6 | C28: ='[1]מצב קיים'!C28*(1+'יולי 2025'!$Q$1) -> 8471.6431 | D28: ='[1]מצב קיים'!D28*(1+'יולי 2025'!$Q$1) -> 2185.568 | E28: =SUM(C28:D28) -> 10657.211 | F28: ='[1]מצב קיים'!F28*(1+'יולי 2025'!$Q$1) -> 1517.1602 | G28: ='[1]גיליון סיכום'!$D$17 -> 306.39326 | K28: 6 | L28: ='[1]מצב קיים'!L28*(1+'יולי 2025'!$Q$1) -> 7968.9144 | M28: ='[1]מצב קיים'!M28*(1+'יולי 2025'!$Q$1) -> 2168.609 | N28: =SUM(L28:M28) -> 10137.523 | O28: ='[1]מצב קיים'!O28*(1+'יולי 2025'!$Q$1) -> 1444.4039 | P28: ='[1]גיליון סיכום'!$D$17 -> 306.39326
B29: 7 | C29: ='[1]מצב קיים'!C29*(1+'יולי 2025'!$Q$1) -> 8539.7688 | D29: ='[1]מצב קיים'!D29*(1+'יולי 2025'!$Q$1) -> 2185.568 | E29: =SUM(C29:D29) -> 10725.337 | F29: ='[1]מצב קיים'!F29*(1+'יולי 2025'!$Q$1) -> 1526.6978 | G29: ='[1]גיליון סיכום'!$D$17 -> 306.39326 | K29: 7 | L29: ='[1]מצב קיים'!L29*(1+'יולי 2025'!$Q$1) -> 8037.04 | M29: ='[1]מצב קיים'!M29*(1+'יולי 2025'!$Q$1) -> 2168.609 | N29: =SUM(L29:M29) -> 10205.649 | O29: ='[1]מצב קיים'!O29*(1+'יולי 2025'!$Q$1) -> 1453.9415 | P29: ='[1]גיליון סיכום'!$D$17 -> 306.39326
B30: 8 | C30: ='[1]מצב קיים'!C30*(1+'יולי 2025'!$Q$1) -> 8607.8945 | D30: ='[1]מצב קיים'!D30*(1+'יולי 2025'!$Q$1) -> 2185.568 | E30: =SUM(C30:D30) -> 10793.462 | F30: ='[1]מצב קיים'!F30*(1+'יולי 2025'!$Q$1) -> 1536.2354 | G30: ='[1]גיליון סיכום'!$D$17 -> 306.39326 | K30: 8 | L30: ='[1]מצב קיים'!L30*(1+'יולי 2025'!$Q$1) -> 8105.1657 | M30: ='[1]מצב קיים'!M30*(1+'יולי 2025'!$Q$1) -> 2168.609 | N30: =SUM(L30:M30) -> 10273.775 | O30: ='[1]מצב קיים'!O30*(1+'יולי 2025'!$Q$1) -> 1463.4791 | P30: ='[1]גיליון סיכום'!$D$17 -> 306.39326
B31: 9 | C31: ='[1]מצב קיים'!C31*(1+'יולי 2025'!$Q$1) -> 8676.0201 | D31: ='[1]מצב קיים'!D31*(1+'יולי 2025'!$Q$1) -> 2185.568 | E31: =SUM(C31:D31) -> 10861.588 | F31: ='[1]מצב קיים'!F31*(1+'יולי 2025'!$Q$1) -> 1545.773 | G31: ='[1]גיליון סיכום'!$D$17 -> 306.39326 | K31: 9 | L31: ='[1]מצב קיים'!L31*(1+'יולי 2025'!$Q$1) -> 8173.2914 | M31: ='[1]מצב קיים'!M31*(1+'יולי 2025'!$Q$1) -> 2168.609 | N31: =SUM(L31:M31) -> 10341.9 | O31: ='[1]מצב קיים'!O31*(1+'יולי 2025'!$Q$1) -> 1473.0167 | P31: ='[1]גיליון סיכום'!$D$17 -> 306.39326
B32: 10 | C32: ='[1]מצב קיים'!C32*(1+'יולי 2025'!$Q$1) -> 8744.1458 | D32: ='[1]מצב קיים'!D32*(1+'יולי 2025'!$Q$1) -> 2185.568 | E32: =SUM(C32:D32) -> 10929.714 | F32: ='[1]מצב קיים'!F32*(1+'יולי 2025'!$Q$1) -> 1555.3106 | G32: ='[1]גיליון סיכום'!$D$17 -> 306.39326 | K32: 10 | L32: ='[1]מצב קיים'!L32*(1+'יולי 2025'!$Q$1) -> 8241.417 | M32: ='[1]מצב קיים'!M32*(1+'יולי 2025'!$Q$1) -> 2168.609 | N32: =SUM(L32:M32) -> 10410.026 | O32: ='[1]מצב קיים'!O32*(1+'יולי 2025'!$Q$1) -> 1482.5543 | P32: ='[1]גיליון סיכום'!$D$17 -> 306.39326
B33: 11 | C33: ='[1]מצב קיים'!C33*(1+'יולי 2025'!$Q$1) -> 8812.2714 | D33: ='[1]מצב קיים'!D33*(1+'יולי 2025'!$Q$1) -> 2185.568 | E33: =SUM(C33:D33) -> 10997.839 | F33: ='[1]מצב קיים'!F33*(1+'יולי 2025'!$Q$1) -> 1564.8482 | G33: ='[1]גיליון סיכום'!$D$17 -> 306.39326 | K33: 11 | L33: ='[1]מצב קיים'!L33*(1+'יולי 2025'!$Q$1) -> 8309.4219 | M33: ='[1]מצב קיים'!M33*(1+'יולי 2025'!$Q$1) -> 2168.609 | N33: =SUM(L33:M33) -> 10478.031 | O33: ='[1]מצב קיים'!O33*(1+'יולי 2025'!$Q$1) -> 1492.075 | P33: ='[1]גיליון סיכום'!$D$17 -> 306.39326
... B47: 25 | C47: ='[1]מצב קיים'!C47*(1+'יולי 2025'!$Q$1) -> 9765.7892 | D47: ='[1]מצב קיים'!D47*(1+'יולי 2025'!$Q$1) -> 2185.568 | E47: =SUM(C47:D47) -> 11951.357 | F47: ='[1]מצב קיים'!F47*(1+'יולי 2025'!$Q$1) -> 1698.3406 | G47: ='[1]גיליון סיכום'!$D$17 -> 306.39326 | K47: 25 | L47: ='[1]מצב קיים'!L47*(1+'יולי 2025'!$Q$1) -> 9263.0604 | M47: ='[1]מצב קיים'!M47*(1+'יולי 2025'!$Q$1) -> 2168.609 | N47: =SUM(L47:M47) -> 11431.669 | O47: ='[1]מצב קיים'!O47*(1+'יולי 2025'!$Q$1) -> 1625.5844 | P47: ='[1]גיליון סיכום'!$D$17 -> 306.39326
B50: אסיסטנט ב' | F50: =$F$5 -> מעודכן ליולי 2025 | K50: אסיסטנט א' | O50: =$F$5 -> מעודכן ליולי 2025
B51: שנות ותק | C51: שכר משולב כולל ותק | D51: תוספת אקדמית (ניידות, ביגוד, טלפון) | E51: סך הכול שכר ללא תוספת שחיקה | F51: תוספת שחיקה | G51: תוספת שקלית 2025 | K51: שנות ותק | L51: שכר משולב כולל ותק | M51: תוספת אקדמית (ניידות, ביגוד, טלפון) | N51: סך הכול שכר ללא תוספת שחיקה | O51: תוספת שחיקה | P51: תוספת שקלית 2025
B52: 0 | C52: ='[1]מצב קיים'!C52*(1+'יולי 2025'!$Q$1) -> 7173.9942 | D52: ='[1]מצב קיים'!D52*(1+'יולי 2025'!$Q$1) -> 2152.9063 | E52: =SUM(C52:D52) -> 9326.9004 | F52: ='[1]מצב קיים'!F52*(1+'יולי 2025'!$Q$1) -> 1330.9167 | G52: ='[1]גיליון סיכום'!$D$17 -> 306.39326 | K52: 0 | L52: ='[1]מצב קיים'!L52*(1+'יולי 2025'!$Q$1) -> 6515.4461 | M52: ='[1]מצב קיים'!M52*(1+'יולי 2025'!$Q$1) -> 2136.7011 | N52: =SUM(L52:M52) -> 8652.1471 | O52: ='[1]מצב קיים'!O52*(1+'יולי 2025'!$Q$1) -> 1236.4513 | P52: ='[1]גיליון סיכום'!$D$17 -> 306.39326
B53: 1 | C53: ='[1]מצב קיים'!C53*(1+'יולי 2025'!$Q$1) -> 7237.6506 | D53: ='[1]מצב קיים'!D53*(1+'יולי 2025'!$Q$1) -> 2152.9063 | E53: =SUM(C53:D53) -> 9390.5569 | F53: ='[1]מצב קיים'!F53*(1+'יולי 2025'!$Q$1) -> 1339.8286 | G53: ='[1]גיליון סיכום'!$D$17 -> 306.39326 | K53: 1 | L53: ='[1]מצב קיים'!L53*(1+'יולי 2025'!$Q$1) -> 6572.0967 | M53: ='[1]מצב קיים'!M53*(1+'יולי 2025'!$Q$1) -> 2136.7011 | N53: =SUM(L53:M53) -> 8708.7977 | O53: ='[1]מצב קיים'!O53*(1+'יולי 2025'!$Q$1) -> 1244.3823 | P53: ='[1]גיליון סיכום'!$D$17 -> 306.39326
B54: 2 | C54: ='[1]מצב קיים'!C54*(1+'יולי 2025'!$Q$1) -> 7301.4278 | D54: ='[1]מצב קיים'!D54*(1+'יולי 2025'!$Q$1) -> 2152.9063 | E54: =SUM(C54:D54) -> 9454.3341 | F54: ='[1]מצב קיים'!F54*(1+'יולי 2025'!$Q$1) -> 1348.7574 | G54: ='[1]גיליון סיכום'!$D$17 -> 306.39326 | K54: 2 | L54: ='[1]מצב קיים'!L54*(1+'יולי 2025'!$Q$1) -> 6628.6265 | M54: ='[1]מצב קיים'!M54*(1+'יולי 2025'!$Q$1) -> 2136.7011 | N54: =SUM(L54:M54) -> 8765.3275 | O54: ='[1]מצב קיים'!O54*(1+'יולי 2025'!$Q$1) -> 1252.2965 | P54: ='[1]גיליון סיכום'!$D$17 -> 306.39326
B55: 3 | C55: ='[1]מצב קיים'!C55*(1+'יולי 2025'!$Q$1) -> 7365.205 | D55: ='[1]מצב קיים'!D55*(1+'יולי 2025'!$Q$1) -> 2152.9063 | E55: =SUM(C55:D55) -> 9518.1113 | F55: ='[1]מצב קיים'!F55*(1+'יולי 2025'!$Q$1) -> 1357.6862 | G55: ='[1]גיליון סיכום'!$D$17 -> 306.39326 | K55: 3 | L55: ='[1]מצב קיים'!L55*(1+'יולי 2025'!$Q$1) -> 6685.2771 | M55: ='[1]מצב קיים'!M55*(1+'יולי 2025'!$Q$1) -> 2136.7011 | N55: =SUM(L55:M55) -> 8821.9781 | O55: ='[1]מצב קיים'!O55*(1+'יולי 2025'!$Q$1) -> 1260.2276 | P55: ='[1]גיליון סיכום'!$D$17 -> 306.39326
B56: 4 | C56: ='[1]מצב קיים'!C56*(1+'יולי 2025'!$Q$1) -> 7428.8614 | D56: ='[1]מצב קיים'!D56*(1+'יולי 2025'!$Q$1) -> 2152.9063 | E56: =SUM(C56:D56) -> 9581.7677 | F56: ='[1]מצב קיים'!F56*(1+'יולי 2025'!$Q$1) -> 1366.5981 | G56: ='[1]גיליון סיכום'!$D$17 -> 306.39326 | K56: 4 | L56: ='[1]מצב קיים'!L56*(1+'יולי 2025'!$Q$1) -> 6741.9277 | M56: ='[1]מצב קיים'!M56*(1+'יולי 2025'!$Q$1) -> 2136.7011 | N56: =SUM(L56:M56) -> 8878.6287 | O56: ='[1]מצב קיים'!O56*(1+'יולי 2025'!$Q$1) -> 1268.1587 | P56: ='[1]גיליון סיכום'!$D$17 -> 306.39326
B57: 5 | C57: ='[1]מצב קיים'!C57*(1+'יולי 2025'!$Q$1) -> 7492.6387 | D57: ='[1]מצב קיים'!D57*(1+'יולי 2025'!$Q$1) -> 2152.9063 | E57: =SUM(C57:D57) -> 9645.545 | F57: ='[1]מצב קיים'!F57*(1+'יולי 2025'!$Q$1) -> 1375.5269 | G57: ='[1]גיליון סיכום'!$D$17 -> 306.39326 | K57: 5 | L57: ='[1]מצב קיים'!L57*(1+'יולי 2025'!$Q$1) -> 6798.4575 | M57: ='[1]מצב קיים'!M57*(1+'יולי 2025'!$Q$1) -> 2136.7011 | N57: =SUM(L57:M57) -> 8935.1585 | O57: ='[1]מצב קיים'!O57*(1+'יולי 2025'!$Q$1) -> 1276.0728 | P57: ='[1]גיליון סיכום'!$D$17 -> 306.39326
B58: 6 | C58: ='[1]מצב קיים'!C58*(1+'יולי 2025'!$Q$1) -> 7556.4159 | D58: ='[1]מצב קיים'!D58*(1+'יולי 2025'!$Q$1) -> 2152.9063 | E58: =SUM(C58:D58) -> 9709.3222 | F58: ='[1]מצב קיים'!F58*(1+'יולי 2025'!$Q$1) -> 1384.4558 | G58: ='[1]גיליון סיכום'!$D$17 -> 306.39326 | K58: 6 | L58: ='[1]מצב קיים'!L58*(1+'יולי 2025'!$Q$1) -> 6855.1081 | M58: ='[1]מצב קיים'!M58*(1+'יולי 2025'!$Q$1) -> 2136.7011 | N58: =SUM(L58:M58) -> 8991.8091 | O58: ='[1]מצב קיים'!O58*(1+'יולי 2025'!$Q$1) -> 1284.0039 | P58: ='[1]גיליון סיכום'!$D$17 -> 306.39326
B59: 7 | C59: ='[1]מצב קיים'!C59*(1+'יולי 2025'!$Q$1) -> 7620.0723 | D59: ='[1]מצב קיים'!D59*(1+'יולי 2025'!$Q$1) -> 2152.9063 | E59: =SUM(C59:D59) -> 9772.9786 | F59: ='[1]מצב קיים'!F59*(1+'יולי 2025'!$Q$1) -> 1393.3677 | G59: ='[1]גיליון סיכום'!$D$17 -> 306.39326 | K59: 7 | L59: ='[1]מצב קיים'!L59*(1+'יולי 2025'!$Q$1) -> 6911.6379 | M59: ='[1]מצב קיים'!M59*(1+'יולי 2025'!$Q$1) -> 2136.7011 | N59: =SUM(L59:M59) -> 9048.339 | O59: ='[1]מצב קיים'!O59*(1+'יולי 2025'!$Q$1) -> 1291.9181 | P59: ='[1]גיליון סיכום'!$D$17 -> 306.39326
B60: 8 | C60: ='[1]מצב קיים'!C60*(1+'יולי 2025'!$Q$1) -> 7683.8495 | D60: ='[1]מצב קיים'!D60*(1+'יולי 2025'!$Q$1) -> 2152.9063 | E60: =SUM(C60:D60) -> 9836.7558 | F60: ='[1]מצב קיים'!F60*(1+'יולי 2025'!$Q$1) -> 1402.2965 | G60: ='[1]גיליון סיכום'!$D$17 -> 306.39326 | K60: 8 | L60: ='[1]מצב קיים'!L60*(1+'יולי 2025'!$Q$1) -> 6968.2885 | M60: ='[1]מצב קיים'!M60*(1+'יולי 2025'!$Q$1) -> 2136.7011 | N60: =SUM(L60:M60) -> 9104.9896 | O60: ='[1]מצב קיים'!O60*(1+'יולי 2025'!$Q$1) -> 1299.8492 | P60: ='[1]גיליון סיכום'!$D$17 -> 306.39326
B61: 9 | C61: ='[1]מצב קיים'!C61*(1+'יולי 2025'!$Q$1) -> 7747.6267 | D61: ='[1]מצב קיים'!D61*(1+'יולי 2025'!$Q$1) -> 2152.9063 | E61: =SUM(C61:D61) -> 9900.533 | F61: ='[1]מצב קיים'!F61*(1+'יולי 2025'!$Q$1) -> 1411.2253 | G61: ='[1]גיליון סיכום'!$D$17 -> 306.39326 | K61: 9 | L61: ='[1]מצב קיים'!L61*(1+'יולי 2025'!$Q$1) -> 7024.9391 | M61: ='[1]מצב קיים'!M61*(1+'יולי 2025'!$Q$1) -> 2136.7011 | N61: =SUM(L61:M61) -> 9161.6401 | O61: ='[1]מצב קיים'!O61*(1+'יולי 2025'!$Q$1) -> 1307.7803 | P61: ='[1]גיליון סיכום'!$D$17 -> 306.39326
B62: 10 | C62: ='[1]מצב קיים'!C62*(1+'יולי 2025'!$Q$1) -> 7811.2832 | D62: ='[1]מצב קיים'!D62*(1+'יולי 2025'!$Q$1) -> 2152.9063 | E62: =SUM(C62:D62) -> 9964.1895 | F62: ='[1]מצב קיים'!F62*(1+'יולי 2025'!$Q$1) -> 1420.1372 | G62: ='[1]גיליון סיכום'!$D$17 -> 306.39326 | K62: 10 | L62: ='[1]מצב קיים'!L62*(1+'יולי 2025'!$Q$1) -> 7081.4689 | M62: ='[1]מצב קיים'!M62*(1+'יולי 2025'!$Q$1) -> 2136.7011 | N62: =SUM(L62:M62) -> 9218.17 | O62: ='[1]מצב קיים'!O62*(1+'יולי 2025'!$Q$1) -> 1315.6944 | P62: ='[1]גיליון סיכום'!$D$17 -> 306.39326
B63: 11 | C63: ='[1]מצב קיים'!C63*(1+'יולי 2025'!$Q$1) -> 7875.0604 | D63: ='[1]מצב קיים'!D63*(1+'יולי 2025'!$Q$1) -> 2152.9063 | E63: =SUM(C63:D63) -> 10027.967 | F63: ='[1]מצב קיים'!F63*(1+'יולי 2025'!$Q$1) -> 1429.066 | G63: ='[1]גיליון סיכום'!$D$17 -> 306.39326 | K63: 11 | L63: ='[1]מצב קיים'!L63*(1+'יולי 2025'!$Q$1) -> 7138.1195 | M63: ='[1]מצב קיים'!M63*(1+'יולי 2025'!$Q$1) -> 2136.7011 | N63: =SUM(L63:M63) -> 9274.8206 | O63: ='[1]מצב קיים'!O63*(1+'יולי 2025'!$Q$1) -> 1323.6255 | P63: ='[1]גיליון סיכום'!$D$17 -> 306.39326
... B67: 15 | C67: ='[1]מצב קיים'!C67*(1+'יולי 2025'!$Q$1) -> 8129.9277 | D67: ='[1]מצב קיים'!D67*(1+'יולי 2025'!$Q$1) -> 2152.9063 | E67: =SUM(C67:D67) -> 10282.834 | F67: ='[1]מצב קיים'!F67*(1+'יולי 2025'!$Q$1) -> 1464.7474 | G67: ='[1]גיליון סיכום'!$D$17 -> 306.39326 | K67: 15 | L67: ='[1]מצב קיים'!L67*(1+'יולי 2025'!$Q$1) -> 7364.4803 | M67: ='[1]מצב קיים'!M67*(1+'יולי 2025'!$Q$1) -> 2136.7011 | N67: =SUM(L67:M67) -> 9501.1814 | O67: ='[1]מצב קיים'!O67*(1+'יולי 2025'!$Q$1) -> 1355.316 | P67: ='[1]גיליון סיכום'!$D$17 -> 306.39326
B68: 16 | C68: ='[1]מצב קיים'!C68*(1+'יולי 2025'!$Q$1) -> 8193.7049 | D68: ='[1]מצב קיים'!D68*(1+'יולי 2025'!$Q$1) -> 2152.9063 | E68: =SUM(C68:D68) -> 10346.611 | F68: ='[1]מצב קיים'!F68*(1+'יולי 2025'!$Q$1) -> 1473.6762 | G68: ='[1]גיליון סיכום'!$D$17 -> 306.39326
B69: 17 | C69: ='[1]מצב קיים'!C69*(1+'יולי 2025'!$Q$1) -> 8257.4821 | D69: ='[1]מצב קיים'!D69*(1+'יולי 2025'!$Q$1) -> 2152.9063 | E69: =SUM(C69:D69) -> 10410.388 | F69: ='[1]מצב קיים'!F69*(1+'יולי 2025'!$Q$1) -> 1482.605 | G69: ='[1]גיליון סיכום'!$D$17 -> 306.39326
B70: 18 | C70: ='[1]מצב קיים'!C70*(1+'יולי 2025'!$Q$1) -> 8321.1385 | D70: ='[1]מצב קיים'!D70*(1+'יולי 2025'!$Q$1) -> 2152.9063 | E70: =SUM(C70:D70) -> 10474.045 | F70: ='[1]מצב קיים'!F70*(1+'יולי 2025'!$Q$1) -> 1491.5169 | G70: ='[1]גיליון סיכום'!$D$17 -> 306.39326
B71: 19 | C71: ='[1]מצב קיים'!C71*(1+'יולי 2025'!$Q$1) -> 8384.9158 | D71: ='[1]מצב קיים'!D71*(1+'יולי 2025'!$Q$1) -> 2152.9063 | E71: =SUM(C71:D71) -> 10537.822 | F71: ='[1]מצב קיים'!F71*(1+'יולי 2025'!$Q$1) -> 1500.4457 | G71: ='[1]גיליון סיכום'!$D$17 -> 306.39326
B72: 20 | C72: ='[1]מצב קיים'!C72*(1+'יולי 2025'!$Q$1) -> 8448.693 | D72: ='[1]מצב קיים'!D72*(1+'יולי 2025'!$Q$1) -> 2152.9063 | E72: =SUM(C72:D72) -> 10601.599 | F72: ='[1]מצב קיים'!F72*(1+'יולי 2025'!$Q$1) -> 1509.3745 | G72: ='[1]גיליון סיכום'!$D$17 -> 306.39326
A77: =$A$1 -> לוחות שכר באוניברסיטאות - סגל אקדמי זוטר, עמיתי הוראה ומורים מן החוץ
A78: =$A$2 -> פעימה ראשונה בגין הסכם השכר עם הסגל האקדמי הזוטר באוניברסיטאות, החל מ-1.7.2025
B81: מורה עוזר | M81: =$F$5 -> מעודכן ליולי 2025
B82: רמה א' | K82: רמה ב'
B83: שנות ותק | C83: שכר משולב כולל ותק | D83: תוספת שחיקה | E83: תוספת שקלית 2025 | K83: שנות ותק | L83: שכר משולב כולל ותק | M83: תוספת שחיקה | N83: תוספת שקלית 2025
B84: 0 | C84: ='[1]מצב קיים'!C84*(1+'יולי 2025'!$Q$1) -> 5881.895 | D84: ='[1]מצב קיים'!D84*(1+'יולי 2025'!$Q$1) -> 823.4653 | E84: ='[1]גיליון סיכום'!$D$17 -> 306.39326 | K84: 0 | L84: ='[1]מצב קיים'!L84*(1+'יולי 2025'!$Q$1) -> 6212.6415 | M84: ='[1]מצב קיים'!M84*(1+'יולי 2025'!$Q$1) -> 869.76981 | N84: ='[1]גיליון סיכום'!$D$17 -> 306.39326
B85: 1 | C85: ='[1]מצב קיים'!C85*(1+'יולי 2025'!$Q$1) -> 5940.7567 | D85: ='[1]מצב קיים'!D85*(1+'יולי 2025'!$Q$1) -> 831.70594 | E85: ='[1]גיליון סיכום'!$D$17 -> 306.39326 | K85: 1 | L85: ='[1]מצב קיים'!L85*(1+'יולי 2025'!$Q$1) -> 6274.7065 | M85: ='[1]מצב קיים'!M85*(1+'יולי 2025'!$Q$1) -> 878.45891 | N85: ='[1]גיליון סיכום'!$D$17 -> 306.39326
B86: 2 | C86: ='[1]מצב קיים'!C86*(1+'יולי 2025'!$Q$1) -> 6000.1522 | D86: ='[1]מצב קיים'!D86*(1+'יולי 2025'!$Q$1) -> 840.02131 | E86: ='[1]גיליון סיכום'!$D$17 -> 306.39326 | K86: 2 | L86: ='[1]מצב קיים'!L86*(1+'יולי 2025'!$Q$1) -> 6337.4389 | M86: ='[1]מצב קיים'!M86*(1+'יולי 2025'!$Q$1) -> 887.24145 | N86: ='[1]גיליון סיכום'!$D$17 -> 306.39326
B87: 3 | C87: ='[1]מצב קיים'!C87*(1+'יולי 2025'!$Q$1) -> 6060.2152 | D87: ='[1]מצב קיים'!D87*(1+'יולי 2025'!$Q$1) -> 848.43012 | E87: ='[1]גיליון סיכום'!$D$17 -> 306.39326 | K87: 3 | L87: ='[1]מצב קיים'!L87*(1+'יולי 2025'!$Q$1) -> 6400.8387 | M87: ='[1]מצב קיים'!M87*(1+'יולי 2025'!$Q$1) -> 896.11741 | N87: ='[1]גיליון סיכום'!$D$17 -> 306.39326
B88: 4 | C88: ='[1]מצב קיים'!C88*(1+'יולי 2025'!$Q$1) -> 6120.812 | D88: ='[1]מצב קיים'!D88*(1+'יולי 2025'!$Q$1) -> 856.91368 | E88: ='[1]גיליון סיכום'!$D$17 -> 306.39326 | K88: 4 | L88: ='[1]מצב קיים'!L88*(1+'יולי 2025'!$Q$1) -> 6464.9058 | M88: ='[1]מצב קיים'!M88*(1+'יולי 2025'!$Q$1) -> 905.08681 | N88: ='[1]גיליון סיכום'!$D$17 -> 306.39326
B89: 5 | C89: ='[1]מצב קיים'!C89*(1+'יולי 2025'!$Q$1) -> 6182.0761 | D89: ='[1]מצב קיים'!D89*(1+'יולי 2025'!$Q$1) -> 865.49066 | E89: ='[1]גיליון סיכום'!$D$17 -> 306.39326 | K89: 5 | L89: ='[1]מצב קיים'!L89*(1+'יולי 2025'!$Q$1) -> 6529.5068 | M89: ='[1]מצב קיים'!M89*(1+'יולי 2025'!$Q$1) -> 914.13095 | N89: ='[1]גיליון סיכום'!$D$17 -> 306.39326
B90: 6 | C90: ='[1]מצב קיים'!C90*(1+'יולי 2025'!$Q$1) -> 6243.8742 | D90: ='[1]מצב קיים'!D90*(1+'יולי 2025'!$Q$1) -> 874.14239 | E90: ='[1]גיליון סיכום'!$D$17 -> 306.39326 | K90: 6 | L90: ='[1]מצב קיים'!L90*(1+'יולי 2025'!$Q$1) -> 6594.7751 | M90: ='[1]מצב קיים'!M90*(1+'יולי 2025'!$Q$1) -> 923.26852 | N90: ='[1]גיליון סיכום'!$D$17 -> 306.39326
B91: 7 | C91: ='[1]מצב קיים'!C91*(1+'יולי 2025'!$Q$1) -> 6306.3397 | D91: ='[1]מצב קיים'!D91*(1+'יולי 2025'!$Q$1) -> 882.88755 | E91: ='[1]גיליון סיכום'!$D$17 -> 306.39326 | K91: 7 | L91: ='[1]מצב קיים'!L91*(1+'יולי 2025'!$Q$1) -> 6660.7109 | M91: ='[1]מצב קיים'!M91*(1+'יולי 2025'!$Q$1) -> 932.49952 | N91: ='[1]גיליון סיכום'!$D$17 -> 306.39326
B92: 8 | C92: ='[1]מצב קיים'!C92*(1+'יולי 2025'!$Q$1) -> 6369.339 | D92: ='[1]מצב קיים'!D92*(1+'יולי 2025'!$Q$1) -> 891.70746 | E92: ='[1]גיליון סיכום'!$D$17 -> 306.39326 | K92: 8 | L92: ='[1]מצב קיים'!L92*(1+'יולי 2025'!$Q$1) -> 6727.314 | M92: ='[1]מצב קיים'!M92*(1+'יולי 2025'!$Q$1) -> 941.82396 | N92: ='[1]גיליון סיכום'!$D$17 -> 306.39326
B95: רמה ג' | K95: רמה ד'
B96: שנות ותק | C96: שכר משולב כולל ותק | D96: תוספת שחיקה | E96: תוספת שקלית 2025 | K96: שנות ותק | L96: שכר משולב כולל ותק | M96: תוספת שחיקה | N96: תוספת שקלית 2025
B97: 0 | C97: ='[1]מצב קיים'!C97*(1+'יולי 2025'!$Q$1) -> 6781.1037 | D97: ='[1]מצב קיים'!D97*(1+'יולי 2025'!$Q$1) -> 949.35451 | E97: ='[1]גיליון סיכום'!$D$17 -> 306.39326 | K97: 0 | L97: ='[1]מצב קיים'!L97*(1+'יולי 2025'!$Q$1) -> 7247.8593 | M97: ='[1]מצב קיים'!M97*(1+'יולי 2025'!$Q$1) -> 1014.7003 | N97: ='[1]גיליון סיכום'!$D$17 -> 306.39326
B98: 1 | C98: ='[1]מצב קיים'!C98*(1+'יולי 2025'!$Q$1) -> 6848.908 | D98: ='[1]מצב קיים'!D98*(1+'יולי 2025'!$Q$1) -> 958.84712 | E98: ='[1]גיליון סיכום'!$D$17 -> 306.39326 | K98: 1 | L98: ='[1]מצב קיים'!L98*(1+'יולי 2025'!$Q$1) -> 7320.3352 | M98: ='[1]מצב קיים'!M98*(1+'יולי 2025'!$Q$1) -> 1024.8469 | N98: ='[1]גיליון סיכום'!$D$17 -> 306.39326
B99: 2 | C99: ='[1]מצב קיים'!C99*(1+'יולי 2025'!$Q$1) -> 6917.3798 | D99: ='[1]מצב קיים'!D99*(1+'יולי 2025'!$Q$1) -> 968.43317 | E99: ='[1]גיליון סיכום'!$D$17 -> 306.39326 | K99: 2 | L99: ='[1]מצב קיים'!L99*(1+'יולי 2025'!$Q$1) -> 7393.4785 | M99: ='[1]מצב קיים'!M99*(1+'יולי 2025'!$Q$1) -> 1035.087 | N99: ='[1]גיליון סיכום'!$D$17 -> 306.39326
B100: 3 | C100: ='[1]מצב קיים'!C100*(1+'יולי 2025'!$Q$1) -> 6986.5189 | D100: ='[1]מצב קיים'!D100*(1+'יולי 2025'!$Q$1) -> 978.11264 | E100: ='[1]גיליון סיכום'!$D$17 -> 306.39326 | K100: 3 | L100: ='[1]מצב קיים'!L100*(1+'יולי 2025'!$Q$1) -> 7467.4226 | M100: ='[1]מצב קיים'!M100*(1+'יולי 2025'!$Q$1) -> 1045.4392 | N100: ='[1]גיליון סיכום'!$D$17 -> 306.39326
B101: 4 | C101: ='[1]מצב קיים'!C101*(1+'יולי 2025'!$Q$1) -> 7056.3253 | D101: ='[1]מצב קיים'!D101*(1+'יולי 2025'!$Q$1) -> 987.88554 | E101: ='[1]גיליון סיכום'!$D$17 -> 306.39326 | K101: 4 | L101: ='[1]מצב קיים'!L101*(1+'יולי 2025'!$Q$1) -> 7542.0341 | M101: ='[1]מצב קיים'!M101*(1+'יולי 2025'!$Q$1) -> 1055.8848 | N101: ='[1]גיליון סיכום'!$D$17 -> 306.39326
B102: 5 | C102: ='[1]מצב קיים'!C102*(1+'יולי 2025'!$Q$1) -> 7126.9326 | D102: ='[1]מצב קיים'!D102*(1+'יולי 2025'!$Q$1) -> 997.77057 | E102: ='[1]גיליון סיכום'!$D$17 -> 306.39326 | K102: 5 | L102: ='[1]מצב קיים'!L102*(1+'יולי 2025'!$Q$1) -> 7617.4465 | M102: ='[1]מצב קיים'!M102*(1+'יולי 2025'!$Q$1) -> 1066.4425 | N102: ='[1]גיליון סיכום'!$D$17 -> 306.39326
B103: 6 | C103: ='[1]מצב קיים'!C103*(1+'יולי 2025'!$Q$1) -> 7198.2073 | D103: ='[1]מצב קיים'!D103*(1+'יולי 2025'!$Q$1) -> 1007.749 | E103: ='[1]גיליון סיכום'!$D$17 -> 306.39326 | K103: 6 | L103: ='[1]מצב קיים'!L103*(1+'יולי 2025'!$Q$1) -> 7693.6596 | M103: ='[1]מצב קיים'!M103*(1+'יולי 2025'!$Q$1) -> 1077.1123 | N103: ='[1]גיליון סיכום'!$D$17 -> 306.39326
B104: 7 | C104: ='[1]מצב קיים'!C104*(1+'יולי 2025'!$Q$1) -> 7270.1493 | D104: ='[1]מצב קיים'!D104*(1+'יולי 2025'!$Q$1) -> 1017.8209 | E104: ='[1]גיליון סיכום'!$D$17 -> 306.39326 | K104: 7 | L104: ='[1]מצב קיים'!L104*(1+'יולי 2025'!$Q$1) -> 7770.5402 | M104: ='[1]מצב קיים'!M104*(1+'יולי 2025'!$Q$1) -> 1087.8756 | N104: ='[1]גיליון סיכום'!$D$17 -> 306.39326
B105: 8 | C105: ='[1]מצב קיים'!C105*(1+'יולי 2025'!$Q$1) -> 7342.8922 | D105: ='[1]מצב קיים'!D105*(1+'יולי 2025'!$Q$1) -> 1028.0049 | E105: ='[1]גיליון סיכום'!$D$17 -> 306.39326 | K105: 8 | L105: ='[1]מצב קיים'!L105*(1+'יולי 2025'!$Q$1) -> 7848.2215 | M105: ='[1]מצב קיים'!M105*(1+'יולי 2025'!$Q$1) -> 1098.751 | N105: ='[1]גיליון סיכום'!$D$17 -> 306.39326
B108: עוזרי הוראה | F108: =$F$5 -> מעודכן ליולי 2025 | K108: עוזרי הוראה | O108: =$F$5 -> מעודכן ליולי 2025
B109: על-פי משרה מלאה של 22 ש"ש | K109: על-פי משרה מלאה של 32 ש"ש
B110: שנות ותק | C110: שכר משולב כולל ותק | D110: תוספת אקדמית (ניידות, ביגוד, טלפון) | E110: סך הכול שכר ללא תוספת שחיקה | F110: תוספת שחיקה | G110: תוספת שקלית 2025 | K110: שנות ותק | M110: תוספת אקדמית (ניידות, ביגוד, טלפון) | N110: סך הכול שכר ללא תוספת שחיקה | O110: תוספת שחיקה | P110: תוספת שקלית 2025
B111: 0 | C111: ='[1]מצב קיים'!C111*(1+'יולי 2025'!$Q$1) -> 4205.3547 | D111: ='[1]מצב קיים'!D111*(1+'יולי 2025'!$Q$1) -> 1232.5068 | E111: =SUM(C111:D111) -> 5437.8615 | F111: ='[1]מצב קיים'!F111*(1+'יולי 2025'!$Q$1) -> 792.11513 | G111: ='[1]גיליון סיכום'!$D$16 -> 170.5007 | K111: 0 | L111: ='[1]מצב קיים'!L111*(1+'יולי 2025'!$Q$1) -> 4276.8534 | M111: ='[1]מצב קיים'!M111*(1+'יולי 2025'!$Q$1) -> 1258.7304 | N111: =SUM(L111:M111) -> 5535.5838 | O111: ='[1]מצב קיים'!O111*(1+'יולי 2025'!$Q$1) -> 805.79625 | P111: ='[1]גיליון סיכום'!$D$16 -> 170.5007
B112: 1 | C112: ='[1]מצב קיים'!C112*(1+'יולי 2025'!$Q$1) -> 4237.9982 | D112: ='[1]מצב קיים'!D112*(1+'יולי 2025'!$Q$1) -> 1232.5068 | E112: =SUM(C112:D112) -> 5470.505 | F112: ='[1]מצב קיים'!F112*(1+'יולי 2025'!$Q$1) -> 796.68523 | G112: ='[1]גיליון סיכום'!$D$16 -> 170.5007 | K112: 1 | L112: ='[1]מצב קיים'!L112*(1+'יולי 2025'!$Q$1) -> 4310.1915 | M112: ='[1]מצב קיים'!M112*(1+'יולי 2025'!$Q$1) -> 1258.7304 | N112: =SUM(L112:M112) -> 5568.9219 | O112: ='[1]מצב קיים'!O112*(1+'יולי 2025'!$Q$1) -> 810.46358 | P112: ='[1]גיליון סיכום'!$D$16 -> 170.5007
B113: 2 | C113: ='[1]מצב קיים'!C113*(1+'יולי 2025'!$Q$1) -> 4270.6418 | D113: ='[1]מצב קיים'!D113*(1+'יולי 2025'!$Q$1) -> 1232.5068 | E113: =SUM(C113:D113) -> 5503.1486 | F113: ='[1]מצב קיים'!F113*(1+'יולי 2025'!$Q$1) -> 801.25532 | G113: ='[1]גיליון סיכום'!$D$16 -> 170.5007 | K113: 2 | L113: ='[1]מצב קיים'!L113*(1+'יולי 2025'!$Q$1) -> 4343.5296 | M113: ='[1]מצב קיים'!M113*(1+'יולי 2025'!$Q$1) -> 1258.7304 | N113: =SUM(L113:M113) -> 5602.2599 | O113: ='[1]מצב קיים'!O113*(1+'יולי 2025'!$Q$1) -> 815.13091 | P113: ='[1]גיליון סיכום'!$D$16 -> 170.5007
B114: 3 | C114: ='[1]מצב קיים'!C114*(1+'יולי 2025'!$Q$1) -> 4303.2853 | D114: ='[1]מצב קיים'!D114*(1+'יולי 2025'!$Q$1) -> 1232.5068 | E114: =SUM(C114:D114) -> 5535.7921 | F114: ='[1]מצב קיים'!F114*(1+'יולי 2025'!$Q$1) -> 805.82542 | G114: ='[1]גיליון סיכום'!$D$16 -> 170.5007 | K114: 3 | L114: ='[1]מצב קיים'!L114*(1+'יולי 2025'!$Q$1) -> 4376.8677 | M114: ='[1]מצב קיים'!M114*(1+'יולי 2025'!$Q$1) -> 1258.7304 | N114: =SUM(L114:M114) -> 5635.598 | O114: ='[1]מצב קיים'!O114*(1+'יולי 2025'!$Q$1) -> 819.79825 | P114: ='[1]גיליון סיכום'!$D$16 -> 170.5007
B115: 4 | C115: ='[1]מצב קיים'!C115*(1+'יולי 2025'!$Q$1) -> 4335.9289 | D115: ='[1]מצב קיים'!D115*(1+'יולי 2025'!$Q$1) -> 1232.5068 | E115: =SUM(C115:D115) -> 5568.4357 | F115: ='[1]מצב קיים'!F115*(1+'יולי 2025'!$Q$1) -> 810.39552 | G115: ='[1]גיליון סיכום'!$D$16 -> 170.5007 | K115: 4 | L115: ='[1]מצב קיים'!L115*(1+'יולי 2025'!$Q$1) -> 4410.2058 | M115: ='[1]מצב קיים'!M115*(1+'יולי 2025'!$Q$1) -> 1258.7304 | N115: =SUM(L115:M115) -> 5668.9361 | O115: ='[1]מצב קיים'!O115*(1+'יולי 2025'!$Q$1) -> 824.46558 | P115: ='[1]גיליון סיכום'!$D$16 -> 170.5007
B116: 5 | C116: ='[1]מצב קיים'!C116*(1+'יולי 2025'!$Q$1) -> 4368.5724 | D116: ='[1]מצב קיים'!D116*(1+'יולי 2025'!$Q$1) -> 1232.5068 | E116: =SUM(C116:D116) -> 5601.0792 | F116: ='[1]מצב קיים'!F116*(1+'יולי 2025'!$Q$1) -> 814.96561 | G116: ='[1]גיליון סיכום'!$D$16 -> 170.5007 | K116: 5 | L116: ='[1]מצב קיים'!L116*(1+'יולי 2025'!$Q$1) -> 4443.5439 | M116: ='[1]מצב קיים'!M116*(1+'יולי 2025'!$Q$1) -> 1258.7304 | N116: =SUM(L116:M116) -> 5702.2742 | O116: ='[1]מצב קיים'!O116*(1+'יולי 2025'!$Q$1) -> 829.13291 | P116: ='[1]גיליון סיכום'!$D$16 -> 170.5007
B117: 6 | C117: ='[1]מצב קיים'!C117*(1+'יולי 2025'!$Q$1) -> 4401.2159 | D117: ='[1]מצב קיים'!D117*(1+'יולי 2025'!$Q$1) -> 1232.5068 | E117: =SUM(C117:D117) -> 5633.7228 | F117: ='[1]מצב קיים'!F117*(1+'יולי 2025'!$Q$1) -> 819.53571 | G117: ='[1]גיליון סיכום'!$D$16 -> 170.5007 | K117: 6 | L117: ='[1]מצב קיים'!L117*(1+'יולי 2025'!$Q$1) -> 4476.8819 | M117: ='[1]מצב קיים'!M117*(1+'יולי 2025'!$Q$1) -> 1258.7304 | N117: =SUM(L117:M117) -> 5735.6123 | O117: ='[1]מצב קיים'!O117*(1+'יולי 2025'!$Q$1) -> 833.80025 | P117: ='[1]גיליון סיכום'!$D$16 -> 170.5007
B118: 7 | C118: ='[1]מצב קיים'!C118*(1+'יולי 2025'!$Q$1) -> 4433.8595 | D118: ='[1]מצב קיים'!D118*(1+'יולי 2025'!$Q$1) -> 1232.5068 | E118: =SUM(C118:D118) -> 5666.3663 | F118: ='[1]מצב קיים'!F118*(1+'יולי 2025'!$Q$1) -> 824.10581 | G118: ='[1]גיליון סיכום'!$D$16 -> 170.5007 | K118: 7 | L118: ='[1]מצב קיים'!L118*(1+'יולי 2025'!$Q$1) -> 4510.22 | M118: ='[1]מצב קיים'!M118*(1+'יולי 2025'!$Q$1) -> 1258.7304 | N118: =SUM(L118:M118) -> 5768.9504 | O118: ='[1]מצב קיים'!O118*(1+'יולי 2025'!$Q$1) -> 838.46758 | P118: ='[1]גיליון סיכום'!$D$16 -> 170.5007
B119: 8 | C119: ='[1]מצב קיים'!C119*(1+'יולי 2025'!$Q$1) -> 4466.503 | D119: ='[1]מצב קיים'!D119*(1+'יולי 2025'!$Q$1) -> 1232.5068 | E119: =SUM(C119:D119) -> 5699.0099 | F119: ='[1]מצב קיים'!F119*(1+'יולי 2025'!$Q$1) -> 828.6759 | G119: ='[1]גיליון סיכום'!$D$16 -> 170.5007 | K119: 8 | L119: ='[1]מצב קיים'!L119*(1+'יולי 2025'!$Q$1) -> 4543.5581 | M119: ='[1]מצב קיים'!M119*(1+'יולי 2025'!$Q$1) -> 1258.7304 | N119: =SUM(L119:M119) -> 5802.2885 | O119: ='[1]מצב קיים'!O119*(1+'יולי 2025'!$Q$1) -> 843.13491 | P119: ='[1]גיליון סיכום'!$D$16 -> 170.5007
B120: 9 | C120: ='[1]מצב קיים'!C120*(1+'יולי 2025'!$Q$1) -> 4499.1466 | D120: ='[1]מצב קיים'!D120*(1+'יולי 2025'!$Q$1) -> 1232.5068 | E120: =SUM(C120:D120) -> 5731.6534 | F120: ='[1]מצב קיים'!F120*(1+'יולי 2025'!$Q$1) -> 833.246 | G120: ='[1]גיליון סיכום'!$D$16 -> 170.5007 | K120: 9 | L120: ='[1]מצב קיים'!L120*(1+'יולי 2025'!$Q$1) -> 4576.8962 | M120: ='[1]מצב קיים'!M120*(1+'יולי 2025'!$Q$1) -> 1258.7304 | N120: =SUM(L120:M120) -> 5835.6266 | O120: ='[1]מצב קיים'!O120*(1+'יולי 2025'!$Q$1) -> 847.80224 | P120: ='[1]גיליון סיכום'!$D$16 -> 170.5007
B121: 10 | C121: ='[1]מצב קיים'!C121*(1+'יולי 2025'!$Q$1) -> 4531.7901 | D121: ='[1]מצב קיים'!D121*(1+'יולי 2025'!$Q$1) -> 1232.5068 | E121: =SUM(C121:D121) -> 5764.297 | F121: ='[1]מצב קיים'!F121*(1+'יולי 2025'!$Q$1) -> 837.8161 | G121: ='[1]גיליון סיכום'!$D$16 -> 170.5007 | K121: 10 | L121: ='[1]מצב קיים'!L121*(1+'יולי 2025'!$Q$1) -> 4610.2343 | M121: ='[1]מצב קיים'!M121*(1+'יולי 2025'!$Q$1) -> 1258.7304 | N121: =SUM(L121:M121) -> 5868.9647 | O121: ='[1]מצב קיים'!O121*(1+'יולי 2025'!$Q$1) -> 852.46958 | P121: ='[1]גיליון סיכום'!$D$16 -> 170.5007
B122: 11 | C122: ='[1]מצב קיים'!C122*(1+'יולי 2025'!$Q$1) -> 4564.4337 | D122: ='[1]מצב קיים'!D122*(1+'יולי 2025'!$Q$1) -> 1232.5068 | E122: =SUM(C122:D122) -> 5796.9405 | F122: ='[1]מצב קיים'!F122*(1+'יולי 2025'!$Q$1) -> 842.38619 | G122: ='[1]גיליון סיכום'!$D$16 -> 170.5007 | K122: 11 | L122: ='[1]מצב קיים'!L122*(1+'יולי 2025'!$Q$1) -> 4643.5724 | M122: ='[1]מצב קיים'!M122*(1+'יולי 2025'!$Q$1) -> 1258.7304 | N122: =SUM(L122:M122) -> 5902.3028 | O122: ='[1]מצב קיים'!O122*(1+'יולי 2025'!$Q$1) -> 857.13691 | P122: ='[1]גיליון סיכום'!$D$16 -> 170.5007
... B126: 15 | C126: ='[1]מצב קיים'!C126*(1+'יולי 2025'!$Q$1) -> 4695.0079 | D126: ='[1]מצב קיים'!D126*(1+'יולי 2025'!$Q$1) -> 1232.5068 | E126: =SUM(C126:D126) -> 5927.5147 | F126: ='[1]מצב קיים'!F126*(1+'יולי 2025'!$Q$1) -> 860.66658 | G126: ='[1]גיליון סיכום'!$D$16 -> 170.5007 | K126: 15 | L126: ='[1]מצב קיים'!L126*(1+'יולי 2025'!$Q$1) -> 4776.9248 | M126: ='[1]מצב קיים'!M126*(1+'יולי 2025'!$Q$1) -> 1258.7304 | N126: =SUM(L126:M126) -> 6035.6551 | O126: ='[1]מצב קיים'!O126*(1+'יולי 2025'!$Q$1) -> 875.80624 | P126: ='[1]גיליון סיכום'!$D$16 -> 170.5007
B129: עמית הוראה ב' | F129: =$F$5 -> מעודכן ליולי 2025 | K129: עמית הוראה א' | O129: =$F$5 -> מעודכן ליולי 2025
B130: שנות ותק | C130: שכר משולב כולל ותק | D130: תוספת אקדמית (ניידות, ביגוד, טלפון) | E130: סך הכול שכר ללא תוספת שחיקה | F130: תוספת שחיקה | G130: תוספת שקלית 2025 | K130: שנות ותק | L130: שכר משולב כולל ותק | M130: תוספת אקדמית (ניידות, ביגוד, טלפון) | N130: סך הכול שכר ללא תוספת שחיקה | O130: תוספת שחיקה | P130: תוספת שקלית 2025
B131: 0 | C131: ='[1]מצב קיים'!C131*(1+'יולי 2025'!$Q$1) -> 8383.6 | D131: ='[1]מצב קיים'!D131*(1+'יולי 2025'!$Q$1) -> 2185.568 | E131: =SUM(C131:D131) -> 10569.168 | F131: ='[1]מצב קיים'!F131*(1+'יולי 2025'!$Q$1) -> 1516.5263 | G131: ='[1]גיליון סיכום'!$D$15 -> 344.41624 | K131: 0 | L131: ='[1]מצב קיים'!L131*(1+'יולי 2025'!$Q$1) -> 6836.0362 | M131: ='[1]מצב קיים'!M131*(1+'יולי 2025'!$Q$1) -> 2136.7011 | N131: =SUM(L131:M131) -> 8972.7372 | O131: ='[1]מצב קיים'!O131*(1+'יולי 2025'!$Q$1) -> 1293.026 | P131: ='[1]גיליון סיכום'!$D$15 -> 344.41624
B132: 1 | C132: ='[1]מצב קיים'!C132*(1+'יולי 2025'!$Q$1) -> 8451.7257 | D132: ='[1]מצב קיים'!D132*(1+'יולי 2025'!$Q$1) -> 2185.568 | E132: =SUM(C132:D132) -> 10637.294 | F132: ='[1]מצב קיים'!F132*(1+'יולי 2025'!$Q$1) -> 1526.0639 | G132: ='[1]גיליון סיכום'!$D$15 -> 344.41624 | K132: 1 | L132: ='[1]מצב קיים'!L132*(1+'יולי 2025'!$Q$1) -> 6892.6868 | M132: ='[1]מצב קיים'!M132*(1+'יולי 2025'!$Q$1) -> 2136.7011 | N132: =SUM(L132:M132) -> 9029.3878 | O132: ='[1]מצב קיים'!O132*(1+'יולי 2025'!$Q$1) -> 1300.9571 | P132: ='[1]גיליון סיכום'!$D$15 -> 344.41624
B133: 2 | C133: ='[1]מצב קיים'!C133*(1+'יולי 2025'!$Q$1) -> 8519.8514 | D133: ='[1]מצב קיים'!D133*(1+'יולי 2025'!$Q$1) -> 2185.568 | E133: =SUM(C133:D133) -> 10705.419 | F133: ='[1]מצב קיים'!F133*(1+'יולי 2025'!$Q$1) -> 1535.6015 | G133: ='[1]גיליון סיכום'!$D$15 -> 344.41624 | K133: 2 | L133: ='[1]מצב קיים'!L133*(1+'יולי 2025'!$Q$1) -> 6949.2166 | M133: ='[1]מצב קיים'!M133*(1+'יולי 2025'!$Q$1) -> 2136.7011 | N133: =SUM(L133:M133) -> 9085.9177 | O133: ='[1]מצב קיים'!O133*(1+'יולי 2025'!$Q$1) -> 1308.8712 | P133: ='[1]גיליון סיכום'!$D$15 -> 344.41624
B134: 3 | C134: ='[1]מצב קיים'!C134*(1+'יולי 2025'!$Q$1) -> 8587.8562 | D134: ='[1]מצב קיים'!D134*(1+'יולי 2025'!$Q$1) -> 2185.568 | E134: =SUM(C134:D134) -> 10773.424 | F134: ='[1]מצב קיים'!F134*(1+'יולי 2025'!$Q$1) -> 1545.1221 | G134: ='[1]גיליון סיכום'!$D$15 -> 344.41624 | K134: 3 | L134: ='[1]מצב קיים'!L134*(1+'יולי 2025'!$Q$1) -> 7005.8672 | M134: ='[1]מצב קיים'!M134*(1+'יולי 2025'!$Q$1) -> 2136.7011 | N134: =SUM(L134:M134) -> 9142.5682 | O134: ='[1]מצב קיים'!O134*(1+'יולי 2025'!$Q$1) -> 1316.8023 | P134: ='[1]גיליון סיכום'!$D$15 -> 344.41624
B135: 4 | C135: ='[1]מצב קיים'!C135*(1+'יולי 2025'!$Q$1) -> 8655.9819 | D135: ='[1]מצב קיים'!D135*(1+'יולי 2025'!$Q$1) -> 2185.568 | E135: =SUM(C135:D135) -> 10841.55 | F135: ='[1]מצב קיים'!F135*(1+'יולי 2025'!$Q$1) -> 1554.6597 | G135: ='[1]גיליון סיכום'!$D$15 -> 344.41624 | K135: 4 | L135: ='[1]מצב קיים'!L135*(1+'יולי 2025'!$Q$1) -> 7062.5178 | M135: ='[1]מצב קיים'!M135*(1+'יולי 2025'!$Q$1) -> 2136.7011 | N135: =SUM(L135:M135) -> 9199.2188 | O135: ='[1]מצב קיים'!O135*(1+'יולי 2025'!$Q$1) -> 1324.7334 | P135: ='[1]גיליון סיכום'!$D$15 -> 344.41624
B136: 5 | C136: ='[1]מצב קיים'!C136*(1+'יולי 2025'!$Q$1) -> 8724.1076 | D136: ='[1]מצב קיים'!D136*(1+'יולי 2025'!$Q$1) -> 2185.568 | E136: =SUM(C136:D136) -> 10909.676 | F136: ='[1]מצב קיים'!F136*(1+'יולי 2025'!$Q$1) -> 1564.1973 | G136: ='[1]גיליון סיכום'!$D$15 -> 344.41624 | K136: 5 | L136: ='[1]מצב קיים'!L136*(1+'יולי 2025'!$Q$1) -> 7119.0476 | M136: ='[1]מצב קיים'!M136*(1+'יולי 2025'!$Q$1) -> 2136.7011 | N136: =SUM(L136:M136) -> 9255.7487 | O136: ='[1]מצב קיים'!O136*(1+'יולי 2025'!$Q$1) -> 1332.6476 | P136: ='[1]גיליון סיכום'!$D$15 -> 344.41624
B137: 6 | C137: ='[1]מצב קיים'!C137*(1+'יולי 2025'!$Q$1) -> 8792.2332 | D137: ='[1]מצב קיים'!D137*(1+'יולי 2025'!$Q$1) -> 2185.568 | E137: =SUM(C137:D137) -> 10977.801 | F137: ='[1]מצב קיים'!F137*(1+'יולי 2025'!$Q$1) -> 1573.7349 | G137: ='[1]גיליון סיכום'!$D$15 -> 344.41624 | K137: 6 | L137: ='[1]מצב קיים'!L137*(1+'יולי 2025'!$Q$1) -> 7175.6982 | M137: ='[1]מצב קיים'!M137*(1+'יולי 2025'!$Q$1) -> 2136.7011 | N137: =SUM(L137:M137) -> 9312.3992 | O137: ='[1]מצב קיים'!O137*(1+'יולי 2025'!$Q$1) -> 1340.5787 | P137: ='[1]גיליון סיכום'!$D$15 -> 344.41624
...

Sheet אוקטובר 2026
A1: לוחות שכר באוניברסיטאות - סגל אקדמי זוטר, עמיתי הוראה ומורים מן החוץ | Q1: ='[1]גיליון סיכום'!D6 -> 0.0225 | R1: ='[1]גיליון סיכום'!E6 -> 0.05
A2: פעימה שניה בגין הסכם השכר עם הסגל האקדמי הזוטר באוניברסיטאות, החל מ-1.10.2026
B5: מורה משנה ב' | F5: מעודכן לאקטובר 2026 | K5: מורה משנה א' | O5: =$F$5 -> מעודכן לאקטובר 2026
B6: שנות ותק | C6: שכר משולב כולל ותק | D6: תוספת אקדמית (ניידות, ביגוד, טלפון) | E6: סך הכול שכר ללא תוספת שחיקה | F6: תוספת שחיקה | G6: תוספת שקלית 2025 | K6: שנות ותק | L6: שכר משולב כולל ותק | M6: תוספת אקדמית (ניידות, ביגוד, טלפון) | N6: סך הכול שכר ללא תוספת שחיקה | O6: תוספת שחיקה | P6: תוספת שקלית 2025
B7: 0 | C7: ='[1]מצב קיים'!C7*(1+'אוקטובר 2026'!$Q$1) -> 7667.0701 | D7: ='[1]מצב קיים'!D7*(1+'אוקטובר 2026'!$Q$1) -> 2419.9803 | E7: =SUM(C7:D7) -> 10087.05 | F7: ='[1]מצב קיים'!F7*(1+'אוקטובר 2026'!$Q$1) -> 1412.1871 | G7: ='יולי 2025'!G7 -> 306.39326 | K7: 0 | L7: ='[1]מצב קיים'!L7*(1+'אוקטובר 2026'!$Q$1) -> 6501.1244 | M7: ='[1]מצב קיים'!M7*(1+'אוקטובר 2026'!$Q$1) -> 2384.3738 | N7: =SUM(L7:M7) -> 8885.4982 | O7: ='[1]מצב קיים'!O7*(1+'אוקטובר 2026'!$Q$1) -> 1243.9697 | P7: ='יולי 2025'!P7 -> 306.39326
B8: 1 | C8: ='[1]מצב קיים'!C8*(1+'אוקטובר 2026'!$Q$1) -> 7743.0925 | D8: ='[1]מצב קיים'!D8*(1+'אוקטובר 2026'!$Q$1) -> 2419.9803 | E8: =SUM(C8:D8) -> 10163.073 | F8: ='[1]מצב קיים'!F8*(1+'אוקטובר 2026'!$Q$1) -> 1422.8302 | G8: ='יולי 2025'!G8 -> 306.39326 | K8: 1 | L8: ='[1]מצב קיים'!L8*(1+'אוקטובר 2026'!$Q$1) -> 6564.3416 | M8: ='[1]מצב קיים'!M8*(1+'אוקטובר 2026'!$Q$1) -> 2384.3738 | N8: =SUM(L8:M8) -> 8948.7154 | O8: ='[1]מצב קיים'!O8*(1+'אוקטובר 2026'!$Q$1) -> 1252.8202 | P8: ='יולי 2025'!P8 -> 306.39326
B9: 2 | C9: ='[1]מצב קיים'!C9*(1+'אוקטובר 2026'!$Q$1) -> 7818.9801 | D9: ='[1]מצב קיים'!D9*(1+'אוקטובר 2026'!$Q$1) -> 2419.9803 | E9: =SUM(C9:D9) -> 10238.96 | F9: ='[1]מצב קיים'!F9*(1+'אוקטובר 2026'!$Q$1) -> 1433.4544 | G9: ='יולי 2025'!G9 -> 306.39326 | K9: 2 | L9: ='[1]מצב קיים'!L9*(1+'אוקטובר 2026'!$Q$1) -> 6627.424 | M9: ='[1]מצב קיים'!M9*(1+'אוקטובר 2026'!$Q$1) -> 2384.3738 | N9: =SUM(L9:M9) -> 9011.7978 | O9: ='[1]מצב קיים'!O9*(1+'אוקטובר 2026'!$Q$1) -> 1261.6517 | P9: ='יולי 2025'!P9 -> 306.39326
B10: 3 | C10: ='[1]מצב קיים'!C10*(1+'אוקטובר 2026'!$Q$1) -> 7895.0024 | D10: ='[1]מצב קיים'!D10*(1+'אוקטובר 2026'!$Q$1) -> 2419.9803 | E10: =SUM(C10:D10) -> 10314.983 | F10: ='[1]מצב קיים'!F10*(1+'אוקטובר 2026'!$Q$1) -> 1444.0976 | G10: ='יולי 2025'!G10 -> 306.39326 | K10: 3 | L10: ='[1]מצב קיים'!L10*(1+'אוקטובר 2026'!$Q$1) -> 6690.6412 | M10: ='[1]מצב קיים'!M10*(1+'אוקטובר 2026'!$Q$1) -> 2384.3738 | N10: =SUM(L10:M10) -> 9075.0149 | O10: ='[1]מצב קיים'!O10*(1+'אוקטובר 2026'!$Q$1) -> 1270.5021 | P10: ='יולי 2025'!P10 -> 306.39326
B11: 4 | C11: ='[1]מצב קיים'!C11*(1+'אוקטובר 2026'!$Q$1) -> 7971.0248 | D11: ='[1]מצב קיים'!D11*(1+'אוקטובר 2026'!$Q$1) -> 2419.9803 | E11: =SUM(C11:D11) -> 10391.005 | F11: ='[1]מצב קיים'!F11*(1+'אוקטובר 2026'!$Q$1) -> 1454.7407 | G11: ='יולי 2025'!G11 -> 306.39326 | K11: 4 | L11: ='[1]מצב קיים'!L11*(1+'אוקטובר 2026'!$Q$1) -> 6753.8583 | M11: ='[1]מצב קיים'!M11*(1+'אוקטובר 2026'!$Q$1) -> 2384.3738 | N11: =SUM(L11:M11) -> 9138.2321 | O11: ='[1]מצב קיים'!O11*(1+'אוקטובר 2026'!$Q$1) -> 1279.3525 | P11: ='יולי 2025'!P11 -> 306.39326
B12: 5 | C12: ='[1]מצב קיים'!C12*(1+'אוקטובר 2026'!$Q$1) -> 8047.0471 | D12: ='[1]מצב קיים'!D12*(1+'אוקטובר 2026'!$Q$1) -> 2419.9803 | E12: =SUM(C12:D12) -> 10467.027 | F12: ='[1]מצב קיים'!F12*(1+'אוקטובר 2026'!$Q$1) -> 1465.3838 | G12: ='יולי 2025'!G12 -> 306.39326 | K12: 5 | L12: ='[1]מצב קיים'!L12*(1+'אוקטובר 2026'!$Q$1) -> 6816.9407 | M12: ='[1]מצב קיים'!M12*(1+'אוקטובר 2026'!$Q$1) -> 2384.3738 | N12: =SUM(L12:M12) -> 9201.3145 | O12: ='[1]מצב קיים'!O12*(1+'אוקטובר 2026'!$Q$1) -> 1288.184 | P12: ='יולי 2025'!P12 -> 306.39326
B13: 6 | C13: ='[1]מצב קיים'!C13*(1+'אוקטובר 2026'!$Q$1) -> 8123.0695 | D13: ='[1]מצב קיים'!D13*(1+'אוקטובר 2026'!$Q$1) -> 2419.9803 | E13: =SUM(C13:D13) -> 10543.05 | F13: ='[1]מצב קיים'!F13*(1+'אוקטובר 2026'!$Q$1) -> 1476.027 | G13: ='יולי 2025'!G13 -> 306.39326 | K13: 6 | L13: ='[1]מצב קיים'!L13*(1+'אוקטובר 2026'!$Q$1) -> 6880.1579 | M13: ='[1]מצב קיים'!M13*(1+'אוקטובר 2026'!$Q$1) -> 2384.3738 | N13: =SUM(L13:M13) -> 9264.5316 | O13: ='[1]מצב קיים'!O13*(1+'אוקטובר 2026'!$Q$1) -> 1297.0344 | P13: ='יולי 2025'!P13 -> 306.39326
B14: 7 | C14: ='[1]מצב קיים'!C14*(1+'אוקטובר 2026'!$Q$1) -> 8199.0918 | D14: ='[1]מצב קיים'!D14*(1+'אוקטובר 2026'!$Q$1) -> 2419.9803 | E14: =SUM(C14:D14) -> 10619.072 | F14: ='[1]מצב קיים'!F14*(1+'אוקטובר 2026'!$Q$1) -> 1486.6701 | G14: ='יולי 2025'!G14 -> 306.39326 | K14: 7 | L14: ='[1]מצב קיים'!L14*(1+'אוקטובר 2026'!$Q$1) -> 6943.2403 | M14: ='[1]מצב קיים'!M14*(1+'אוקטובר 2026'!$Q$1) -> 2384.3738 | N14: =SUM(L14:M14) -> 9327.614 | O14: ='[1]מצב קיים'!O14*(1+'אוקטובר 2026'!$Q$1) -> 1305.866 | P14: ='יולי 2025'!P14 -> 306.39326
B15: 8 | C15: ='[1]מצב קיים'!C15*(1+'אוקטובר 2026'!$Q$1) -> 8275.1142 | D15: ='[1]מצב קיים'!D15*(1+'אוקטובר 2026'!$Q$1) -> 2419.9803 | E15: =SUM(C15:D15) -> 10695.094 | F15: ='[1]מצב קיים'!F15*(1+'אוקטובר 2026'!$Q$1) -> 1497.3132 | G15: ='יולי 2025'!G15 -> 306.39326 | K15: 8 | L15: ='[1]מצב קיים'!L15*(1+'אוקטובר 2026'!$Q$1) -> 7006.4574 | M15: ='[1]מצב קיים'!M15*(1+'אוקטובר 2026'!$Q$1) -> 2384.3738 | N15: =SUM(L15:M15) -> 9390.8312 | O15: ='[1]מצב קיים'!O15*(1+'אוקטובר 2026'!$Q$1) -> 1314.7164 | P15: ='יולי 2025'!P15 -> 306.39326
B16: 9 | C16: ='[1]מצב קיים'!C16*(1+'אוקטובר 2026'!$Q$1) -> 8351.1365 | D16: ='[1]מצב קיים'!D16*(1+'אוקטובר 2026'!$Q$1) -> 2419.9803 | E16: =SUM(C16:D16) -> 10771.117 | F16: ='[1]מצב קיים'!F16*(1+'אוקטובר 2026'!$Q$1) -> 1507.9564 | G16: ='יולי 2025'!G16 -> 306.39326 | K16: 9 | L16: ='[1]מצב קיים'!L16*(1+'אוקטובר 2026'!$Q$1) -> 7069.6746 | M16: ='[1]מצב קיים'!M16*(1+'אוקטובר 2026'!$Q$1) -> 2384.3738 | N16: =SUM(L16:M16) -> 9454.0484 | O16: ='[1]מצב קיים'!O16*(1+'אוקטובר 2026'!$Q$1) -> 1323.5668 | P16: ='יולי 2025'!P16 -> 306.39326
B17: 10 | C17: ='[1]מצב קיים'!C17*(1+'אוקטובר 2026'!$Q$1) -> 8427.1589 | D17: ='[1]מצב קיים'!D17*(1+'אוקטובר 2026'!$Q$1) -> 2419.9803 | E17: =SUM(C17:D17) -> 10847.139 | F17: ='[1]מצב קיים'!F17*(1+'אוקטובר 2026'!$Q$1) -> 1518.5995 | G17: ='יולי 2025'!G17 -> 306.39326 | K17: 10 | L17: ='[1]מצב קיים'!L17*(1+'אוקטובר 2026'!$Q$1) -> 7132.757 | M17: ='[1]מצב קיים'!M17*(1+'אוקטובר 2026'!$Q$1) -> 2384.3738 | N17: =SUM(L17:M17) -> 9517.1307 | O17: ='[1]מצב קיים'!O17*(1+'אוקטובר 2026'!$Q$1) -> 1332.3983 | P17: ='יולי 2025'!P17 -> 306.39326
B20: מדריך ד"ר | F20: =$F$5 -> מעודכן לאקטובר 2026 | K20: מדריך | O20: =$F$5 -> מעודכן לאקטובר 2026
B21: שנות ותק | C21: שכר משולב כולל ותק | D21: תוספת אקדמית (ניידות, ביגוד, טלפון) | E21: סך הכול שכר ללא תוספת שחיקה | F21: תוספת שחיקה | G21: תוספת שקלית 2025 | K21: שנות ותק | L21: שכר משולב כולל ותק | M21: תוספת אקדמית (ניידות, ביגוד, טלפון) | N21: סך הכול שכר ללא תוספת שחיקה | O21: תוספת שחיקה | P21: תוספת שקלית 2025
B22: 0 | C22: ='[1]מצב קיים'!C22*(1+'אוקטובר 2026'!$Q$1) -> 8142.6446 | D22: ='[1]מצב קיים'!D22*(1+'אוקטובר 2026'!$Q$1) -> 2207.1538 | E22: =SUM(C22:D22) -> 10349.798 | F22: ='[1]מצב קיים'!F22*(1+'אוקטובר 2026'!$Q$1) -> 1474.3708 | G22: ='יולי 2025'!G22 -> 306.39326 | K22: 0 | L22: ='[1]מצב קיים'!L22*(1+'אוקטובר 2026'!$Q$1) -> 7634.9506 | M22: ='[1]מצב קיים'!M22*(1+'אוקטובר 2026'!$Q$1) -> 2190.0274 | N22: =SUM(L22:M22) -> 9824.978 | O22: ='[1]מצב קיים'!O22*(1+'אוקטובר 2026'!$Q$1) -> 1400.896 | P22: ='יולי 2025'!P22 -> 306.39326
B23: 1 | C23: ='[1]מצב קיים'!C23*(1+'אוקטובר 2026'!$Q$1) -> 8211.4431 | D23: ='[1]מצב קיים'!D23*(1+'אוקטובר 2026'!$Q$1) -> 2207.1538 | E23: =SUM(C23:D23) -> 10418.597 | F23: ='[1]מצב קיים'!F23*(1+'אוקטובר 2026'!$Q$1) -> 1484.0026 | G23: ='יולי 2025'!G23 -> 306.39326 | K23: 1 | L23: ='[1]מצב קיים'!L23*(1+'אוקטובר 2026'!$Q$1) -> 7703.7491 | M23: ='[1]מצב קיים'!M23*(1+'אוקטובר 2026'!$Q$1) -> 2190.0274 | N23: =SUM(L23:M23) -> 9893.7765 | O23: ='[1]מצב קיים'!O23*(1+'אוקטובר 2026'!$Q$1) -> 1410.5278 | P23: ='יולי 2025'!P23 -> 306.39326
B24: 2 | C24: ='[1]מצב קיים'!C24*(1+'אוקטובר 2026'!$Q$1) -> 8280.2416 | D24: ='[1]מצב קיים'!D24*(1+'אוקטובר 2026'!$Q$1) -> 2207.1538 | E24: =SUM(C24:D24) -> 10487.395 | F24: ='[1]מצב קיים'!F24*(1+'אוקטובר 2026'!$Q$1) -> 1493.6344 | G24: ='יולי 2025'!G24 -> 306.39326 | K24: 2 | L24: ='[1]מצב קיים'!L24*(1+'אוקטובר 2026'!$Q$1) -> 7772.4256 | M24: ='[1]מצב קיים'!M24*(1+'אוקטובר 2026'!$Q$1) -> 2190.0274 | N24: =SUM(L24:M24) -> 9962.453 | O24: ='[1]מצב קיים'!O24*(1+'אוקטובר 2026'!$Q$1) -> 1420.1425 | P24: ='יולי 2025'!P24 -> 306.39326
B25: 3 | C25: ='[1]מצב קיים'!C25*(1+'אוקטובר 2026'!$Q$1) -> 8348.9181 | D25: ='[1]מצב קיים'!D25*(1+'אוקטובר 2026'!$Q$1) -> 2207.1538 | E25: =SUM(C25:D25) -> 10556.072 | F25: ='[1]מצב קיים'!F25*(1+'אוקטובר 2026'!$Q$1) -> 1503.2491 | G25: ='יולי 2025'!G25 -> 306.39326 | K25: 3 | L25: ='[1]מצב קיים'!L25*(1+'אוקטובר 2026'!$Q$1) -> 7841.2242 | M25: ='[1]מצב קיים'!M25*(1+'אוקטובר 2026'!$Q$1) -> 2190.0274 | N25: =SUM(L25:M25) -> 10031.252 | O25: ='[1]מצב קיים'!O25*(1+'אוקטובר 2026'!$Q$1) -> 1429.7743 | P25: ='יולי 2025'!P25 -> 306.39326
B26: 4 | C26: ='[1]מצב קיים'!C26*(1+'אוקטובר 2026'!$Q$1) -> 8417.7166 | D26: ='[1]מצב קיים'!D26*(1+'אוקטובר 2026'!$Q$1) -> 2207.1538 | E26: =SUM(C26:D26) -> 10624.87 | F26: ='[1]מצב קיים'!F26*(1+'אוקטובר 2026'!$Q$1) -> 1512.8809 | G26: ='יולי 2025'!G26 -> 306.39326 | K26: 4 | L26: ='[1]מצב קיים'!L26*(1+'אוקטובר 2026'!$Q$1) -> 7910.0227 | M26: ='[1]מצב קיים'!M26*(1+'אוקטובר 2026'!$Q$1) -> 2190.0274 | N26: =SUM(L26:M26) -> 10100.05 | O26: ='[1]מצב קיים'!O26*(1+'אוקטובר 2026'!$Q$1) -> 1439.4061 | P26: ='יולי 2025'!P26 -> 306.39326
B27: 5 | C27: ='[1]מצב קיים'!C27*(1+'אוקטובר 2026'!$Q$1) -> 8486.5152 | D27: ='[1]מצב קיים'!D27*(1+'אוקטובר 2026'!$Q$1) -> 2207.1538 | E27: =SUM(C27:D27) -> 10693.669 | F27: ='[1]מצב קיים'!F27*(1+'אוקטובר 2026'!$Q$1) -> 1522.5127 | G27: ='יולי 2025'!G27 -> 306.39326 | K27: 5 | L27: ='[1]מצב קיים'!L27*(1+'אוקטובר 2026'!$Q$1) -> 7978.8212 | M27: ='[1]מצב קיים'!M27*(1+'אוקטובר 2026'!$Q$1) -> 2190.0274 | N27: =SUM(L27:M27) -> 10168.849 | O27: ='[1]מצב קיים'!O27*(1+'אוקטובר 2026'!$Q$1) -> 1449.0379 | P27: ='יולי 2025'!P27 -> 306.39326
B28: 6 | C28: ='[1]מצב קיים'!C28*(1+'אוקטובר 2026'!$Q$1) -> 8555.3137 | D28: ='[1]מצב קיים'!D28*(1+'אוקטובר 2026'!$Q$1) -> 2207.1538 | E28: =SUM(C28:D28) -> 10762.467 | F28: ='[1]מצב קיים'!F28*(1+'אוקטובר 2026'!$Q$1) -> 1532.1445 | G28: ='יולי 2025'!G28 -> 306.39326 | K28: 6 | L28: ='[1]מצב קיים'!L28*(1+'אוקטובר 2026'!$Q$1) -> 8047.6197 | M28: ='[1]מצב קיים'!M28*(1+'אוקטובר 2026'!$Q$1) -> 2190.0274 | N28: =SUM(L28:M28) -> 10237.647 | O28: ='[1]מצב קיים'!O28*(1+'אוקטובר 2026'!$Q$1) -> 1458.6696 | P28: ='יולי 2025'!P28 -> 306.39326
B29: 7 | C29: ='[1]מצב קיים'!C29*(1+'אוקטובר 2026'!$Q$1) -> 8624.1122 | D29: ='[1]מצב קיים'!D29*(1+'אוקטובר 2026'!$Q$1) -> 2207.1538 | E29: =SUM(C29:D29) -> 10831.266 | F29: ='[1]מצב קיים'!F29*(1+'אוקטובר 2026'!$Q$1) -> 1541.7763 | G29: ='יולי 2025'!G29 -> 306.39326 | K29: 7 | L29: ='[1]מצב קיים'!L29*(1+'אוקטובר 2026'!$Q$1) -> 8116.4182 | M29: ='[1]מצב קיים'!M29*(1+'אוקטובר 2026'!$Q$1) -> 2190.0274 | N29: =SUM(L29:M29) -> 10306.446 | O29: ='[1]מצב קיים'!O29*(1+'אוקטובר 2026'!$Q$1) -> 1468.3014 | P29: ='יולי 2025'!P29 -> 306.39326
B30: 8 | C30: ='[1]מצב קיים'!C30*(1+'אוקטובר 2026'!$Q$1) -> 8692.9107 | D30: ='[1]מצב קיים'!D30*(1+'אוקטובר 2026'!$Q$1) -> 2207.1538 | E30: =SUM(C30:D30) -> 10900.065 | F30: ='[1]מצב קיים'!F30*(1+'אוקטובר 2026'!$Q$1) -> 1551.4081 | G30: ='יולי 2025'!G30 -> 306.39326 | K30: 8 | L30: ='[1]מצב קיים'!L30*(1+'אוקטובר 2026'!$Q$1) -> 8185.2167 | M30: ='[1]מצב קיים'!M30*(1+'אוקטובר 2026'!$Q$1) -> 2190.0274 | N30: =SUM(L30:M30) -> 10375.244 | O30: ='[1]מצב קיים'!O30*(1+'אוקטובר 2026'!$Q$1) -> 1477.9332 | P30: ='יולי 2025'!P30 -> 306.39326
B31: 9 | C31: ='[1]מצב קיים'!C31*(1+'אוקטובר 2026'!$Q$1) -> 8761.7092 | D31: ='[1]מצב קיים'!D31*(1+'אוקטובר 2026'!$Q$1) -> 2207.1538 | E31: =SUM(C31:D31) -> 10968.863 | F31: ='[1]מצב קיים'!F31*(1+'אוקטובר 2026'!$Q$1) -> 1561.0399 | G31: ='יולי 2025'!G31 -> 306.39326 | K31: 9 | L31: ='[1]מצב קיים'!L31*(1+'אוקטובר 2026'!$Q$1) -> 8254.0152 | M31: ='[1]מצב קיים'!M31*(1+'אוקטובר 2026'!$Q$1) -> 2190.0274 | N31: =SUM(L31:M31) -> 10444.043 | O31: ='[1]מצב קיים'!O31*(1+'אוקטובר 2026'!$Q$1) -> 1487.565 | P31: ='יולי 2025'!P31 -> 306.39326
B32: 10 | C32: ='[1]מצב קיים'!C32*(1+'אוקטובר 2026'!$Q$1) -> 8830.5077 | D32: ='[1]מצב קיים'!D32*(1+'אוקטובר 2026'!$Q$1) -> 2207.1538 | E32: =SUM(C32:D32) -> 11037.662 | F32: ='[1]מצב קיים'!F32*(1+'אוקטובר 2026'!$Q$1) -> 1570.6717 | G32: ='יולי 2025'!G32 -> 306.39326 | K32: 10 | L32: ='[1]מצב קיים'!L32*(1+'אוקטובר 2026'!$Q$1) -> 8322.8137 | M32: ='[1]מצב קיים'!M32*(1+'אוקטובר 2026'!$Q$1) -> 2190.0274 | N32: =SUM(L32:M32) -> 10512.841 | O32: ='[1]מצב קיים'!O32*(1+'אוקטובר 2026'!$Q$1) -> 1497.1968 | P32: ='יולי 2025'!P32 -> 306.39326
B33: 11 | C33: ='[1]מצב קיים'!C33*(1+'אוקטובר 2026'!$Q$1) -> 8899.3062 | D33: ='[1]מצב קיים'!D33*(1+'אוקטובר 2026'!$Q$1) -> 2207.1538 | E33: =SUM(C33:D33) -> 11106.46 | F33: ='[1]מצב קיים'!F33*(1+'אוקטובר 2026'!$Q$1) -> 1580.3035 | G33: ='יולי 2025'!G33 -> 306.39326 | K33: 11 | L33: ='[1]מצב קיים'!L33*(1+'אוקטובר 2026'!$Q$1) -> 8391.4903 | M33: ='[1]מצב קיים'!M33*(1+'אוקטובר 2026'!$Q$1) -> 2190.0274 | N33: =SUM(L33:M33) -> 10581.518 | O33: ='[1]מצב קיים'!O33*(1+'אוקטובר 2026'!$Q$1) -> 1506.8115 | P33: ='יולי 2025'!P33 -> 306.39326
... B47: 25 | C47: ='[1]מצב קיים'!C47*(1+'אוקטובר 2026'!$Q$1) -> 9862.2414 | D47: ='[1]מצב קיים'!D47*(1+'אוקטובר 2026'!$Q$1) -> 2207.1538 | E47: =SUM(C47:D47) -> 12069.395 | F47: ='[1]מצב קיים'!F47*(1+'אוקטובר 2026'!$Q$1) -> 1715.1144 | G47: ='יולי 2025'!G47 -> 306.39326 | K47: 25 | L47: ='[1]מצב קיים'!L47*(1+'אוקטובר 2026'!$Q$1) -> 9354.5474 | M47: ='[1]מצב קיים'!M47*(1+'אוקטובר 2026'!$Q$1) -> 2190.0274 | N47: =SUM(L47:M47) -> 11544.575 | O47: ='[1]מצב קיים'!O47*(1+'אוקטובר 2026'!$Q$1) -> 1641.6395 | P47: ='יולי 2025'!P47 -> 306.39326
B50: אסיסטנט ב' | F50: =$F$5 -> מעודכן לאקטובר 2026 | K50: אסיסטנט א' | O50: =$F$5 -> מעודכן לאקטובר 2026
B51: שנות ותק | C51: שכר משולב כולל ותק | D51: תוספת אקדמית (ניידות, ביגוד, טלפון) | E51: סך הכול שכר ללא תוספת שחיקה | F51: תוספת שחיקה | G51: תוספת שקלית 2025 | K51: שנות ותק | L51: שכר משולב כולל ותק | M51: תוספת אקדמית (ניידות, ביגוד, טלפון) | N51: סך הכול שכר ללא תוספת שחיקה | O51: תוספת שחיקה | P51: תוספת שקלית 2025
B52: 0 | C52: ='[1]מצב קיים'!C52*(1+'אוקטובר 2026'!$Q$1) -> 7244.8484 | D52: ='[1]מצב קיים'!D52*(1+'אוקטובר 2026'!$Q$1) -> 2174.1696 | E52: =SUM(C52:D52) -> 9419.018 | F52: ='[1]מצב קיים'!F52*(1+'אוקטובר 2026'!$Q$1) -> 1344.0616 | G52: ='יולי 2025'!G52 -> 306.39326 | K52: 0 | L52: ='[1]מצב קיים'!L52*(1+'אוקטובר 2026'!$Q$1) -> 6579.7961 | M52: ='[1]מצב קיים'!M52*(1+'אוקטובר 2026'!$Q$1) -> 2157.8043 | N52: =SUM(L52:M52) -> 8737.6004 | O52: ='[1]מצב קיים'!O52*(1+'אוקטובר 2026'!$Q$1) -> 1248.6631 | P52: ='יולי 2025'!P52 -> 306.39326
B53: 1 | C53: ='[1]מצב קיים'!C53*(1+'אוקטובר 2026'!$Q$1) -> 7309.1335 | D53: ='[1]מצב קיים'!D53*(1+'אוקטובר 2026'!$Q$1) -> 2174.1696 | E53: =SUM(C53:D53) -> 9483.3031 | F53: ='[1]מצב קיים'!F53*(1+'אוקטובר 2026'!$Q$1) -> 1353.0615 | G53: ='יולי 2025'!G53 -> 306.39326 | K53: 1 | L53: ='[1]מצב קיים'!L53*(1+'אוקטובר 2026'!$Q$1) -> 6637.0063 | M53: ='[1]מצב קיים'!M53*(1+'אוקטובר 2026'!$Q$1) -> 2157.8043 | N53: =SUM(L53:M53) -> 8794.8106 | O53: ='[1]מצב קיים'!O53*(1+'אוקטובר 2026'!$Q$1) -> 1256.6725 | P53: ='יולי 2025'!P53 -> 306.39326
B54: 2 | C54: ='[1]מצב קיים'!C54*(1+'אוקטובר 2026'!$Q$1) -> 7373.5407 | D54: ='[1]מצב קיים'!D54*(1+'אוקטובר 2026'!$Q$1) -> 2174.1696 | E54: =SUM(C54:D54) -> 9547.7102 | F54: ='[1]מצב קיים'!F54*(1+'אוקטובר 2026'!$Q$1) -> 1362.0785 | G54: ='יולי 2025'!G54 -> 306.39326 | K54: 2 | L54: ='[1]מצב קיים'!L54*(1+'אוקטובר 2026'!$Q$1) -> 6694.0944 | M54: ='[1]מצב קיים'!M54*(1+'אוקטובר 2026'!$Q$1) -> 2157.8043 | N54: =SUM(L54:M54) -> 8851.8987 | O54: ='[1]מצב קיים'!O54*(1+'אוקטובר 2026'!$Q$1) -> 1264.6649 | P54: ='יולי 2025'!P54 -> 306.39326
B55: 3 | C55: ='[1]מצב קיים'!C55*(1+'אוקטובר 2026'!$Q$1) -> 7437.9478 | D55: ='[1]מצב קיים'!D55*(1+'אוקטובר 2026'!$Q$1) -> 2174.1696 | E55: =SUM(C55:D55) -> 9612.1174 | F55: ='[1]מצב קיים'!F55*(1+'אוקטובר 2026'!$Q$1) -> 1371.0955 | G55: ='יולי 2025'!G55 -> 306.39326 | K55: 3 | L55: ='[1]מצב קיים'!L55*(1+'אוקטובר 2026'!$Q$1) -> 6751.3045 | M55: ='[1]מצב קיים'!M55*(1+'אוקטובר 2026'!$Q$1) -> 2157.8043 | N55: =SUM(L55:M55) -> 8909.1088 | O55: ='[1]מצב קיים'!O55*(1+'אוקטובר 2026'!$Q$1) -> 1272.6743 | P55: ='יולי 2025'!P55 -> 306.39326
B56: 4 | C56: ='[1]מצב קיים'!C56*(1+'אוקטובר 2026'!$Q$1) -> 7502.2329 | D56: ='[1]מצב קיים'!D56*(1+'אוקטובר 2026'!$Q$1) -> 2174.1696 | E56: =SUM(C56:D56) -> 9676.4025 | F56: ='[1]מצב קיים'!F56*(1+'אוקטובר 2026'!$Q$1) -> 1380.0954 | G56: ='יולי 2025'!G56 -> 306.39326 | K56: 4 | L56: ='[1]מצב קיים'!L56*(1+'אוקטובר 2026'!$Q$1) -> 6808.5146 | M56: ='[1]מצב קיים'!M56*(1+'אוקטובר 2026'!$Q$1) -> 2157.8043 | N56: =SUM(L56:M56) -> 8966.3189 | O56: ='[1]מצב קיים'!O56*(1+'אוקטובר 2026'!$Q$1) -> 1280.6837 | P56: ='יולי 2025'!P56 -> 306.39326
B57: 5 | C57: ='[1]מצב קיים'!C57*(1+'אוקטובר 2026'!$Q$1) -> 7566.64 | D57: ='[1]מצב קיים'!D57*(1+'אוקטובר 2026'!$Q$1) -> 2174.1696 | E57: =SUM(C57:D57) -> 9740.8096 | F57: ='[1]מצב קיים'!F57*(1+'אוקטובר 2026'!$Q$1) -> 1389.1124 | G57: ='יולי 2025'!G57 -> 306.39326 | K57: 5 | L57: ='[1]מצב קיים'!L57*(1+'אוקטובר 2026'!$Q$1) -> 6865.6027 | M57: ='[1]מצב קיים'!M57*(1+'אוקטובר 2026'!$Q$1) -> 2157.8043 | N57: =SUM(L57:M57) -> 9023.407 | O57: ='[1]מצב קיים'!O57*(1+'אוקטובר 2026'!$Q$1) -> 1288.676 | P57: ='יולי 2025'!P57 -> 306.39326
B58: 6 | C58: ='[1]מצב קיים'!C58*(1+'אוקטובר 2026'!$Q$1) -> 7631.0471 | D58: ='[1]מצב קיים'!D58*(1+'אוקטובר 2026'!$Q$1) -> 2174.1696 | E58: =SUM(C58:D58) -> 9805.2167 | F58: ='[1]מצב קיים'!F58*(1+'אוקטובר 2026'!$Q$1) -> 1398.1294 | G58: ='יולי 2025'!G58 -> 306.39326 | K58: 6 | L58: ='[1]מצב קיים'!L58*(1+'אוקטובר 2026'!$Q$1) -> 6922.8128 | M58: ='[1]מצב קיים'!M58*(1+'אוקטובר 2026'!$Q$1) -> 2157.8043 | N58: =SUM(L58:M58) -> 9080.6171 | O58: ='[1]מצב קיים'!O58*(1+'אוקטובר 2026'!$Q$1) -> 1296.6855 | P58: ='יולי 2025'!P58 -> 306.39326
B59: 7 | C59: ='[1]מצב קיים'!C59*(1+'אוקטובר 2026'!$Q$1) -> 7695.3323 | D59: ='[1]מצב קיים'!D59*(1+'אוקטובר 2026'!$Q$1) -> 2174.1696 | E59: =SUM(C59:D59) -> 9869.5019 | F59: ='[1]מצב קיים'!F59*(1+'אוקטובר 2026'!$Q$1) -> 1407.1293 | G59: ='יולי 2025'!G59 -> 306.39326 | K59: 7 | L59: ='[1]מצב קיים'!L59*(1+'אוקטובר 2026'!$Q$1) -> 6979.901 | M59: ='[1]מצב קיים'!M59*(1+'אוקטובר 2026'!$Q$1) -> 2157.8043 | N59: =SUM(L59:M59) -> 9137.7053 | O59: ='[1]מצב קיים'!O59*(1+'אוקטובר 2026'!$Q$1) -> 1304.6778 | P59: ='יולי 2025'!P59 -> 306.39326
B60: 8 | C60: ='[1]מצב קיים'!C60*(1+'אוקטובר 2026'!$Q$1) -> 7759.7394 | D60: ='[1]מצב קיים'!D60*(1+'אוקטובר 2026'!$Q$1) -> 2174.1696 | E60: =SUM(C60:D60) -> 9933.909 | F60: ='[1]מצב קיים'!F60*(1+'אוקטובר 2026'!$Q$1) -> 1416.1463 | G60: ='יולי 2025'!G60 -> 306.39326 | K60: 8 | L60: ='[1]מצב קיים'!L60*(1+'אוקטובר 2026'!$Q$1) -> 7037.1111 | M60: ='[1]מצב קיים'!M60*(1+'אוקטובר 2026'!$Q$1) -> 2157.8043 | N60: =SUM(L60:M60) -> 9194.9154 | O60: ='[1]מצב קיים'!O60*(1+'אוקטובר 2026'!$Q$1) -> 1312.6872 | P60: ='יולי 2025'!P60 -> 306.39326
B61: 9 | C61: ='[1]מצב קיים'!C61*(1+'אוקטובר 2026'!$Q$1) -> 7824.1465 | D61: ='[1]מצב קיים'!D61*(1+'אוקטובר 2026'!$Q$1) -> 2174.1696 | E61: =SUM(C61:D61) -> 9998.3161 | F61: ='[1]מצב קיים'!F61*(1+'אוקטובר 2026'!$Q$1) -> 1425.1633 | G61: ='יולי 2025'!G61 -> 306.39326 | K61: 9 | L61: ='[1]מצב קיים'!L61*(1+'אוקטובר 2026'!$Q$1) -> 7094.3212 | M61: ='[1]מצב קיים'!M61*(1+'אוקטובר 2026'!$Q$1) -> 2157.8043 | N61: =SUM(L61:M61) -> 9252.1255 | O61: ='[1]מצב קיים'!O61*(1+'אוקטובר 2026'!$Q$1) -> 1320.6966 | P61: ='יולי 2025'!P61 -> 306.39326
B62: 10 | C62: ='[1]מצב קיים'!C62*(1+'אוקטובר 2026'!$Q$1) -> 7888.4316 | D62: ='[1]מצב קיים'!D62*(1+'אוקטובר 2026'!$Q$1) -> 2174.1696 | E62: =SUM(C62:D62) -> 10062.601 | F62: ='[1]מצב קיים'!F62*(1+'אוקטובר 2026'!$Q$1) -> 1434.1632 | G62: ='יולי 2025'!G62 -> 306.39326 | K62: 10 | L62: ='[1]מצב קיים'!L62*(1+'אוקטובר 2026'!$Q$1) -> 7151.4093 | M62: ='[1]מצב קיים'!M62*(1+'אוקטובר 2026'!$Q$1) -> 2157.8043 | N62: =SUM(L62:M62) -> 9309.2136 | O62: ='[1]מצב קיים'!O62*(1+'אוקטובר 2026'!$Q$1) -> 1328.689 | P62: ='יולי 2025'!P62 -> 306.39326
B63: 11 | C63: ='[1]מצב קיים'!C63*(1+'אוקטובר 2026'!$Q$1) -> 7952.8388 | D63: ='[1]מצב קיים'!D63*(1+'אוקטובר 2026'!$Q$1) -> 2174.1696 | E63: =SUM(C63:D63) -> 10127.008 | F63: ='[1]מצב קיים'!F63*(1+'אוקטובר 2026'!$Q$1) -> 1443.1802 | G63: ='יולי 2025'!G63 -> 306.39326 | K63: 11 | L63: ='[1]מצב קיים'!L63*(1+'אוקטובר 2026'!$Q$1) -> 7208.6194 | M63: ='[1]מצב קיים'!M63*(1+'אוקטובר 2026'!$Q$1) -> 2157.8043 | N63: =SUM(L63:M63) -> 9366.4237 | O63: ='[1]מצב קיים'!O63*(1+'אוקטובר 2026'!$Q$1) -> 1336.6984 | P63: ='יולי 2025'!P63 -> 306.39326
... B67: 15 | C67: ='[1]מצב קיים'!C67*(1+'אוקטובר 2026'!$Q$1) -> 8210.2233 | D67: ='[1]מצב קיים'!D67*(1+'אוקטובר 2026'!$Q$1) -> 2174.1696 | E67: =SUM(C67:D67) -> 10384.393 | F67: ='[1]מצב קיים'!F67*(1+'אוקטובר 2026'!$Q$1) -> 1479.214 | G67: ='יולי 2025'!G67 -> 306.39326 | K67: 15 | L67: ='[1]מצב קיים'!L67*(1+'אוקטובר 2026'!$Q$1) -> 7437.2159 | M67: ='[1]מצב קיים'!M67*(1+'אוקטובר 2026'!$Q$1) -> 2157.8043 | N67: =SUM(L67:M67) -> 9595.0202 | O67: ='[1]מצב קיים'!O67*(1+'אוקטובר 2026'!$Q$1) -> 1368.7019 | P67: ='יולי 2025'!P67 -> 306.39326
