{"text_format":"3","workbook":"xlsx","n_sheets":2,"sheets":["Datos de clientes","Ventas previstas "],"not_rendered":{"defined_names":3},"read":"whole","date_system":"1900"}

{"sheet":"Datos de clientes","index":0,"n_rows":10,"n_cols":8,"rows_kept":10,"merged":[[3,1,3,6]]}
[null,"Nombre de la empresa"]
[null,"Seguimiento de clientes"]
[null,{"$f":"TODAY()","v":"2020-09-22"}]
[null,"Nombre del cliente"]
[null,"Nombre del cliente","Contacto del cliente ","Tipo de \ncliente","Oportunidad potencial","Oportunidad \nde venta","Cierre de \nla previsión","Previsión \nponderada"]
[null,"EMPRESA 1",null,"Premium",{"v":45000,"d":"45,000.00 €"},{"v":0.7,"d":"70 %"},"enero",{"$f":"IFERROR(IF('Datos de clientes'!$F$6:$F$9<>\"\",'Datos de clientes'!$F$6:$F$9*'Datos de clientes'!$E$6:$E$9,\"\"),\"\")","v":{"v":31500,"d":"31,500.00 €"}}]
[null,"EMPRESA 2",null,"Premium",{"v":33000,"d":"33,000.00 €"},{"v":0.2,"d":"20 %"},"febrero",{"$f":"IFERROR(IF('Datos de clientes'!$F$6:$F$9<>\"\",'Datos de clientes'!$F$6:$F$9*'Datos de clientes'!$E$6:$E$9,\"\"),\"\")","v":{"v":6600,"d":"6,600.00 €"}}]
[null,"EMPRESA 3",null,"Nuevo",{"v":12000,"d":"12,000.00 €"},{"v":0.9,"d":"90 %"},"marzo",{"$f":"IFERROR(IF('Datos de clientes'!$F$6:$F$9<>\"\",'Datos de clientes'!$F$6:$F$9*'Datos de clientes'!$E$6:$E$9,\"\"),\"\")","v":{"v":10800,"d":"10,800.00 €"}}]
[null,"EMPRESA 4",null,"Nuevo",{"v":20000,"d":"20,000.00 €"},{"v":0.3,"d":"30 %"},"abril",{"$f":"IFERROR(IF('Datos de clientes'!$F$6:$F$9<>\"\",'Datos de clientes'!$F$6:$F$9*'Datos de clientes'!$E$6:$E$9,\"\"),\"\")","v":{"v":6000,"d":"6,000.00 €"}}]
[null,"Total",null,null,{"$f":"SUBTOTAL(109,'Datos de clientes'!$E$6:$E$9)","v":{"v":110000,"d":"110,000.00 €"}},null,null,{"$f":"SUBTOTAL(109,'Datos de clientes'!$H$6:$H$9)","v":{"v":54900,"d":"54,900.00 €"}}]

{"sheet":"Ventas previstas ","index":1,"n_rows":21,"n_cols":14,"rows_kept":21,"merged":[[3,1,3,11],[3,12,3,13]]}
[null,{"$f":"Nombre_compañía","v":"Nombre de la empresa"}]
[null,"Ventas previstas"]
[null,{"$f":"FechaSeguimiento","v":"2020-09-22"}]
[null,{"$f":"Nombre_compañía","v":"Nombre de la empresa"}]
[null,"Nombre del cliente potencial","Previsión\nde enero","Previsión\nde febrero","Previsión\nde marzo","Previsión\nde abril","Previsión\nde mayo","Previsión\nde junio","Previsión\nde julio","Previsión\nde agosto","Previsión\nde septiembre","Previsión\nde octubre","Previsión\nde noviembre","Previsión\nde diciembre"]
[null,{"$f":"IFERROR(IF(AND('Datos de clientes'!$B$6:$B$9 <> \"\", ROW('Ventas previstas '!$B$6:$B$19)<>ÚltimaEntrada),'Datos de clientes'!$B$6:$B$9, \"\"),\"\")","v":""},{"$f":"IFERROR(IF('Datos de clientes'!$F$6:$F$9<>\"\",'Datos de clientes'!$F$6:$F$9*'Datos de clientes'!$E$6:$E$9,\"\"),\"\")","v":{"v":31500,"d":"31,500.00 €"}},{"$f":"IFERROR(IF('Datos de clientes'!$G$6:$G$9 <>\"\",IF('Datos de clientes'!$G$6:$G$9 = \"Febrero\",'Datos de clientes'!$H$6:$H$9,0),\"\"),\"\")","v":{"v":0,"d":"0 €"}},{"$f":"IFERROR(IF('Datos de clientes'!$G$6:$G$9 <>\"\",IF('Datos de clientes'!$G$6:$G$9= \"Marzo\",'Datos de clientes'!$H$6:$H$9,0),\"\"),\"\")","v":{"v":0,"d":"0 €"}},{"$f":"IFERROR(IF('Datos de clientes'!$G$6:$G$9 <>\"\",IF('Datos de clientes'!$G$6:$G$9= \"Abril\",'Datos de clientes'!$H$6:$H$9,0),\"\"),\"\")","v":{"v":0,"d":"0 €"}},{"$f":"IFERROR(IF('Datos de clientes'!$G$6:$G$9 <>\"\",IF('Datos de clientes'!$G$6:$G$9= \"Mayo\",'Datos de clientes'!$H$6:$H$9,0),\"\"),\"\")","v":{"v":0,"d":"0 €"}},{"$f":"IFERROR(IF('Datos de clientes'!$G$6:$G$9 <>\"\",IF('Datos de clientes'!$G$6:$G$9= \"Junio\",'Datos de clientes'!$H$6:$H$9,0),\"\"),\"\")","v":{"v":0,"d":"0 €"}},{"$f":"IFERROR(IF('Datos de clientes'!$G$6:$G$9 <>\"\",IF('Datos de clientes'!$G$6:$G$9= \"Julio\",'Datos de clientes'!$H$6:$H$9,0),\"\"),\"\")","v":{"v":0,"d":"0 €"}},{"$f":"IFERROR(IF('Datos de clientes'!$G$6:$G$9 <>\"\",IF('Datos de clientes'!$G$6:$G$9= \"Agosto\",'Datos de clientes'!$H$6:$H$9,0),\"\"),\"\")","v":{"v":0,"d":"0 €"}},{"$f":"IFERROR(IF('Datos de clientes'!$G$6:$G$9 <>\"\",IF('Datos de clientes'!$G$6:$G$9= \"Septiembre\",'Datos de clientes'!$H$6:$H$9,0),\"\"),\"\")","v":{"v":0,"d":"0 €"}},{"$f":"IFERROR(IF('Datos de clientes'!$G$6:$G$9 <>\"\",IF('Datos de clientes'!$G$6:$G$9= \"Octubre\",'Datos de clientes'!$H$6:$H$9,0),\"\"),\"\")","v":{"v":0,"d":"0 €"}},{"$f":"IFERROR(IF('Datos de clientes'!$G$6:$G$9 <>\"\",IF('Datos de clientes'!$G$6:$G$9= \"Noviembre\",'Datos de clientes'!$H$6:$H$9,0),\"\"),\"\")","v":{"v":0,"d":"0 €"}},{"$f":"IFERROR(IF('Datos de clientes'!$G$6:$G$9 <>\"\",IF('Datos de clientes'!$G$6:$G$9= \"Diciembre\",'Datos de clientes'!$H$6:$H$9,0),\"\"),\"\")","v":{"v":0,"d":"0 €"}}]
[null,{"$f":"IFERROR(IF(AND('Datos de clientes'!$B$6:$B$9 <> \"\", ROW('Ventas previstas '!$B$6:$B$19)<>ÚltimaEntrada),'Datos de clientes'!$B$6:$B$9, \"\"),\"\")","v":""},{"$f":"IFERROR(IF('Datos de clientes'!$G$6:$G$9 <>\"\",IF('Datos de clientes'!$G$6:$G$9= \"Enero\",'Datos de clientes'!$H$6:$H$9,0),\"\"),\"\")","v":{"v":0,"d":"0 €"}},{"$f":"IFERROR(IF('Datos de clientes'!$F$6:$F$9<>\"\",'Datos de clientes'!$F$6:$F$9*'Datos de clientes'!$E$6:$E$9,\"\"),\"\")","v":{"v":6600,"d":"6,600.00 €"}},{"$f":"IFERROR(IF('Datos de clientes'!$G$6:$G$9 <>\"\",IF('Datos de clientes'!$G$6:$G$9= \"Marzo\",'Datos de clientes'!$H$6:$H$9,0),\"\"),\"\")","v":{"v":0,"d":"0 €"}},{"$f":"IFERROR(IF('Datos de clientes'!$G$6:$G$9 <>\"\",IF('Datos de clientes'!$G$6:$G$9= \"Abril\",'Datos de clientes'!$H$6:$H$9,0),\"\"),\"\")","v":{"v":0,"d":"0 €"}},{"$f":"IFERROR(IF('Datos de clientes'!$G$6:$G$9 <>\"\",IF('Datos de clientes'!$G$6:$G$9= \"Mayo\",'Datos de clientes'!$H$6:$H$9,0),\"\"),\"\")","v":{"v":0,"d":"0 €"}},{"$f":"IFERROR(IF('Datos de clientes'!$G$6:$G$9 <>\"\",IF('Datos de clientes'!$G$6:$G$9= \"Junio\",'Datos de clientes'!$H$6:$H$9,0),\"\"),\"\")","v":{"v":0,"d":"0 €"}},{"$f":"IFERROR(IF('Datos de clientes'!$G$6:$G$9 <>\"\",IF('Datos de clientes'!$G$6:$G$9= \"Julio\",'Datos de clientes'!$H$6:$H$9,0),\"\"),\"\")","v":{"v":0,"d":"0 €"}},{"$f":"IFERROR(IF('Datos de clientes'!$G$6:$G$9 <>\"\",IF('Datos de clientes'!$G$6:$G$9= \"Agosto\",'Datos de clientes'!$H$6:$H$9,0),\"\"),\"\")","v":{"v":0,"d":"0 €"}},{"$f":"IFERROR(IF('Datos de clientes'!$G$6:$G$9 <>\"\",IF('Datos de clientes'!$G$6:$G$9= \"Septiembre\",'Datos de clientes'!$H$6:$H$9,0),\"\"),\"\")","v":{"v":0,"d":"0 €"}},{"$f":"IFERROR(IF('Datos de clientes'!$G$6:$G$9 <>\"\",IF('Datos de clientes'!$G$6:$G$9= \"Octubre\",'Datos de clientes'!$H$6:$H$9,0),\"\"),\"\")","v":{"v":0,"d":"0 €"}},{"$f":"IFERROR(IF('Datos de clientes'!$G$6:$G$9 <>\"\",IF('Datos de clientes'!$G$6:$G$9= \"Noviembre\",'Datos de clientes'!$H$6:$H$9,0),\"\"),\"\")","v":{"v":0,"d":"0 €"}},{"$f":"IFERROR(IF('Datos de clientes'!$G$6:$G$9 <>\"\",IF('Datos de clientes'!$G$6:$G$9= \"Diciembre\",'Datos de clientes'!$H$6:$H$9,0),\"\"),\"\")","v":{"v":0,"d":"0 €"}}]
[null,{"$f":"IFERROR(IF(AND('Datos de clientes'!$B$6:$B$9 <> \"\", ROW('Ventas previstas '!$B$6:$B$19)<>ÚltimaEntrada),'Datos de clientes'!$B$6:$B$9, \"\"),\"\")","v":""},{"$f":"IFERROR(IF('Datos de clientes'!$G$6:$G$9 <>\"\",IF('Datos de clientes'!$G$6:$G$9= \"Enero\",'Datos de clientes'!$H$6:$H$9,0),\"\"),\"\")","v":{"v":0,"d":"0 €"}},{"$f":"IFERROR(IF('Datos de clientes'!$G$6:$G$9 <>\"\",IF('Datos de clientes'!$G$6:$G$9 = \"Febrero\",'Datos de clientes'!$H$6:$H$9,0),\"\"),\"\")","v":{"v":0,"d":"0 €"}},{"$f":"IFERROR(IF('Datos de clientes'!$F$6:$F$9<>\"\",'Datos de clientes'!$F$6:$F$9*'Datos de clientes'!$E$6:$E$9,\"\"),\"\")","v":{"v":10800,"d":"10,800.00 €"}},{"$f":"IFERROR(IF('Datos de clientes'!$G$6:$G$9 <>\"\",IF('Datos de clientes'!$G$6:$G$9= \"Abril\",'Datos de clientes'!$H$6:$H$9,0),\"\"),\"\")","v":{"v":0,"d":"0 €"}},{"$f":"IFERROR(IF('Datos de clientes'!$G$6:$G$9 <>\"\",IF('Datos de clientes'!$G$6:$G$9= \"Mayo\",'Datos de clientes'!$H$6:$H$9,0),\"\"),\"\")","v":{"v":0,"d":"0 €"}},{"$f":"IFERROR(IF('Datos de clientes'!$G$6:$G$9 <>\"\",IF('Datos de clientes'!$G$6:$G$9= \"Junio\",'Datos de clientes'!$H$6:$H$9,0),\"\"),\"\")","v":{"v":0,"d":"0 €"}},{"$f":"IFERROR(IF('Datos de clientes'!$G$6:$G$9 <>\"\",IF('Datos de clientes'!$G$6:$G$9= \"Julio\",'Datos de clientes'!$H$6:$H$9,0),\"\"),\"\")","v":{"v":0,"d":"0 €"}},{"$f":"IFERROR(IF('Datos de clientes'!$G$6:$G$9 <>\"\",IF('Datos de clientes'!$G$6:$G$9= \"Agosto\",'Datos de clientes'!$H$6:$H$9,0),\"\"),\"\")","v":{"v":0,"d":"0 €"}},{"$f":"IFERROR(IF('Datos de clientes'!$G$6:$G$9 <>\"\",IF('Datos de clientes'!$G$6:$G$9= \"Septiembre\",'Datos de clientes'!$H$6:$H$9,0),\"\"),\"\")","v":{"v":0,"d":"0 €"}},{"$f":"IFERROR(IF('Datos de clientes'!$G$6:$G$9 <>\"\",IF('Datos de clientes'!$G$6:$G$9= \"Octubre\",'Datos de clientes'!$H$6:$H$9,0),\"\"),\"\")","v":{"v":0,"d":"0 €"}},{"$f":"IFERROR(IF('Datos de clientes'!$G$6:$G$9 <>\"\",IF('Datos de clientes'!$G$6:$G$9= \"Noviembre\",'Datos de clientes'!$H$6:$H$9,0),\"\"),\"\")","v":{"v":0,"d":"0 €"}},{"$f":"IFERROR(IF('Datos de clientes'!$G$6:$G$9 <>\"\",IF('Datos de clientes'!$G$6:$G$9= \"Diciembre\",'Datos de clientes'!$H$6:$H$9,0),\"\"),\"\")","v":{"v":0,"d":"0 €"}}]
[null,{"$f":"IFERROR(IF(AND('Datos de clientes'!$B$6:$B$9 <> \"\", ROW('Ventas previstas '!$B$6:$B$19)<>ÚltimaEntrada),'Datos de clientes'!$B$6:$B$9, \"\"),\"\")","v":""},{"$f":"IFERROR(IF('Datos de clientes'!$G$6:$G$9 <>\"\",IF('Datos de clientes'!$G$6:$G$9= \"Enero\",'Datos de clientes'!$H$6:$H$9,0),\"\"),\"\")","v":{"v":0,"d":"0 €"}},{"$f":"IFERROR(IF('Datos de clientes'!$G$6:$G$9 <>\"\",IF('Datos de clientes'!$G$6:$G$9 = \"Febrero\",'Datos de clientes'!$H$6:$H$9,0),\"\"),\"\")","v":{"v":0,"d":"0 €"}},{"$f":"IFERROR(IF('Datos de clientes'!$G$6:$G$9 <>\"\",IF('Datos de clientes'!$G$6:$G$9= \"Marzo\",'Datos de clientes'!$H$6:$H$9,0),\"\"),\"\")","v":{"v":0,"d":"0 €"}},{"$f":"IFERROR(IF('Datos de clientes'!$F$6:$F$9<>\"\",'Datos de clientes'!$F$6:$F$9*'Datos de clientes'!$E$6:$E$9,\"\"),\"\")","v":{"v":6000,"d":"6,000.00 €"}},{"$f":"IFERROR(IF('Datos de clientes'!$G$6:$G$9 <>\"\",IF('Datos de clientes'!$G$6:$G$9= \"Mayo\",'Datos de clientes'!$H$6:$H$9,0),\"\"),\"\")","v":{"v":0,"d":"0 €"}},{"$f":"IFERROR(IF('Datos de clientes'!$G$6:$G$9 <>\"\",IF('Datos de clientes'!$G$6:$G$9= \"Junio\",'Datos de clientes'!$H$6:$H$9,0),\"\"),\"\")","v":{"v":0,"d":"0 €"}},{"$f":"IFERROR(IF('Datos de clientes'!$G$6:$G$9 <>\"\",IF('Datos de clientes'!$G$6:$G$9= \"Julio\",'Datos de clientes'!$H$6:$H$9,0),\"\"),\"\")","v":{"v":0,"d":"0 €"}},{"$f":"IFERROR(IF('Datos de clientes'!$G$6:$G$9 <>\"\",IF('Datos de clientes'!$G$6:$G$9= \"Agosto\",'Datos de clientes'!$H$6:$H$9,0),\"\"),\"\")","v":{"v":0,"d":"0 €"}},{"$f":"IFERROR(IF('Datos de clientes'!$G$6:$G$9 <>\"\",IF('Datos de clientes'!$G$6:$G$9= \"Septiembre\",'Datos de clientes'!$H$6:$H$9,0),\"\"),\"\")","v":{"v":0,"d":"0 €"}},{"$f":"IFERROR(IF('Datos de clientes'!$G$6:$G$9 <>\"\",IF('Datos de clientes'!$G$6:$G$9= \"Octubre\",'Datos de clientes'!$H$6:$H$9,0),\"\"),\"\")","v":{"v":0,"d":"0 €"}},{"$f":"IFERROR(IF('Datos de clientes'!$G$6:$G$9 <>\"\",IF('Datos de clientes'!$G$6:$G$9= \"Noviembre\",'Datos de clientes'!$H$6:$H$9,0),\"\"),\"\")","v":{"v":0,"d":"0 €"}},{"$f":"IFERROR(IF('Datos de clientes'!$G$6:$G$9 <>\"\",IF('Datos de clientes'!$G$6:$G$9= \"Diciembre\",'Datos de clientes'!$H$6:$H$9,0),\"\"),\"\")","v":{"v":0,"d":"0 €"}}]
[null,{"$f":"IFERROR(IF(AND('Datos de clientes'!$B$6:$B$9 <> \"\", ROW('Ventas previstas '!$B$6:$B$19)<>ÚltimaEntrada),'Datos de clientes'!$B$6:$B$9, \"\"),\"\")","v":""},{"$f":"IFERROR(IF('Datos de clientes'!$G$6:$G$9 <>\"\",IF('Datos de clientes'!$G$6:$G$9= \"Enero\",'Datos de clientes'!$H$6:$H$9,0),\"\"),\"\")","v":""},{"$f":"IFERROR(IF('Datos de clientes'!$G$6:$G$9 <>\"\",IF('Datos de clientes'!$G$6:$G$9 = \"Febrero\",'Datos de clientes'!$H$6:$H$9,0),\"\"),\"\")","v":""},{"$f":"IFERROR(IF('Datos de clientes'!$G$6:$G$9 <>\"\",IF('Datos de clientes'!$G$6:$G$9= \"Marzo\",'Datos de clientes'!$H$6:$H$9,0),\"\"),\"\")","v":""},{"$f":"IFERROR(IF('Datos de clientes'!$G$6:$G$9 <>\"\",IF('Datos de clientes'!$G$6:$G$9= \"Abril\",'Datos de clientes'!$H$6:$H$9,0),\"\"),\"\")","v":""},{"$f":"IFERROR(IF('Datos de clientes'!$G$6:$G$9 <>\"\",IF('Datos de clientes'!$G$6:$G$9= \"Mayo\",'Datos de clientes'!$H$6:$H$9,0),\"\"),\"\")","v":""},{"$f":"IFERROR(IF('Datos de clientes'!$G$6:$G$9 <>\"\",IF('Datos de clientes'!$G$6:$G$9= \"Junio\",'Datos de clientes'!$H$6:$H$9,0),\"\"),\"\")","v":""},{"$f":"IFERROR(IF('Datos de clientes'!$G$6:$G$9 <>\"\",IF('Datos de clientes'!$G$6:$G$9= \"Julio\",'Datos de clientes'!$H$6:$H$9,0),\"\"),\"\")","v":""},{"$f":"IFERROR(IF('Datos de clientes'!$G$6:$G$9 <>\"\",IF('Datos de clientes'!$G$6:$G$9= \"Agosto\",'Datos de clientes'!$H$6:$H$9,0),\"\"),\"\")","v":""},{"$f":"IFERROR(IF('Datos de clientes'!$G$6:$G$9 <>\"\",IF('Datos de clientes'!$G$6:$G$9= \"Septiembre\",'Datos de clientes'!$H$6:$H$9,0),\"\"),\"\")","v":""},{"$f":"IFERROR(IF('Datos de clientes'!$G$6:$G$9 <>\"\",IF('Datos de clientes'!$G$6:$G$9= \"Octubre\",'Datos de clientes'!$H$6:$H$9,0),\"\"),\"\")","v":""},{"$f":"IFERROR(IF('Datos de clientes'!$G$6:$G$9 <>\"\",IF('Datos de clientes'!$G$6:$G$9= \"Noviembre\",'Datos de clientes'!$H$6:$H$9,0),\"\"),\"\")","v":""},{"$f":"IFERROR(IF('Datos de clientes'!$G$6:$G$9 <>\"\",IF('Datos de clientes'!$G$6:$G$9= \"Diciembre\",'Datos de clientes'!$H$6:$H$9,0),\"\"),\"\")","v":""}]
[null,{"$f":"IFERROR(IF(AND('Datos de clientes'!$B$6:$B$9 <> \"\", ROW('Ventas previstas '!$B$6:$B$19)<>ÚltimaEntrada),'Datos de clientes'!$B$6:$B$9, \"\"),\"\")","v":""},{"$f":"IFERROR(IF('Datos de clientes'!$G$6:$G$9 <>\"\",IF('Datos de clientes'!$G$6:$G$9= \"Enero\",'Datos de clientes'!$H$6:$H$9,0),\"\"),\"\")","v":""},{"$f":"IFERROR(IF('Datos de clientes'!$G$6:$G$9 <>\"\",IF('Datos de clientes'!$G$6:$G$9 = \"Febrero\",'Datos de clientes'!$H$6:$H$9,0),\"\"),\"\")","v":""},{"$f":"IFERROR(IF('Datos de clientes'!$G$6:$G$9 <>\"\",IF('Datos de clientes'!$G$6:$G$9= \"Marzo\",'Datos de clientes'!$H$6:$H$9,0),\"\"),\"\")","v":""},{"$f":"IFERROR(IF('Datos de clientes'!$G$6:$G$9 <>\"\",IF('Datos de clientes'!$G$6:$G$9= \"Abril\",'Datos de clientes'!$H$6:$H$9,0),\"\"),\"\")","v":""},{"$f":"IFERROR(IF('Datos de clientes'!$G$6:$G$9 <>\"\",IF('Datos de clientes'!$G$6:$G$9= \"Mayo\",'Datos de clientes'!$H$6:$H$9,0),\"\"),\"\")","v":""},{"$f":"IFERROR(IF('Datos de clientes'!$G$6:$G$9 <>\"\",IF('Datos de clientes'!$G$6:$G$9= \"Junio\",'Datos de clientes'!$H$6:$H$9,0),\"\"),\"\")","v":""},{"$f":"IFERROR(IF('Datos de clientes'!$G$6:$G$9 <>\"\",IF('Datos de clientes'!$G$6:$G$9= \"Julio\",'Datos de clientes'!$H$6:$H$9,0),\"\"),\"\")","v":""},{"$f":"IFERROR(IF('Datos de clientes'!$G$6:$G$9 <>\"\",IF('Datos de clientes'!$G$6:$G$9= \"Agosto\",'Datos de clientes'!$H$6:$H$9,0),\"\"),\"\")","v":""},{"$f":"IFERROR(IF('Datos de clientes'!$G$6:$G$9 <>\"\",IF('Datos de clientes'!$G$6:$G$9= \"Septiembre\",'Datos de clientes'!$H$6:$H$9,0),\"\"),\"\")","v":""},{"$f":"IFERROR(IF('Datos de clientes'!$G$6:$G$9 <>\"\",IF('Datos de clientes'!$G$6:$G$9= \"Octubre\",'Datos de clientes'!$H$6:$H$9,0),\"\"),\"\")","v":""},{"$f":"IFERROR(IF('Datos de clientes'!$G$6:$G$9 <>\"\",IF('Datos de clientes'!$G$6:$G$9= \"Noviembre\",'Datos de clientes'!$H$6:$H$9,0),\"\"),\"\")","v":""},{"$f":"IFERROR(IF('Datos de clientes'!$G$6:$G$9 <>\"\",IF('Datos de clientes'!$G$6:$G$9= \"Diciembre\",'Datos de clientes'!$H$6:$H$9,0),\"\"),\"\")","v":""}]
[null,{"$f":"IFERROR(IF(AND('Datos de clientes'!$B$6:$B$9 <> \"\", ROW('Ventas previstas '!$B$6:$B$19)<>ÚltimaEntrada),'Datos de clientes'!$B$6:$B$9, \"\"),\"\")","v":""},{"$f":"IFERROR(IF('Datos de clientes'!$G$6:$G$9 <>\"\",IF('Datos de clientes'!$G$6:$G$9= \"Enero\",'Datos de clientes'!$H$6:$H$9,0),\"\"),\"\")","v":""},{"$f":"IFERROR(IF('Datos de clientes'!$G$6:$G$9 <>\"\",IF('Datos de clientes'!$G$6:$G$9 = \"Febrero\",'Datos de clientes'!$H$6:$H$9,0),\"\"),\"\")","v":""},{"$f":"IFERROR(IF('Datos de clientes'!$G$6:$G$9 <>\"\",IF('Datos de clientes'!$G$6:$G$9= \"Marzo\",'Datos de clientes'!$H$6:$H$9,0),\"\"),\"\")","v":""},{"$f":"IFERROR(IF('Datos de clientes'!$G$6:$G$9 <>\"\",IF('Datos de clientes'!$G$6:$G$9= \"Abril\",'Datos de clientes'!$H$6:$H$9,0),\"\"),\"\")","v":""},{"$f":"IFERROR(IF('Datos de clientes'!$G$6:$G$9 <>\"\",IF('Datos de clientes'!$G$6:$G$9= \"Mayo\",'Datos de clientes'!$H$6:$H$9,0),\"\"),\"\")","v":""},{"$f":"IFERROR(IF('Datos de clientes'!$G$6:$G$9 <>\"\",IF('Datos de clientes'!$G$6:$G$9= \"Junio\",'Datos de clientes'!$H$6:$H$9,0),\"\"),\"\")","v":""},{"$f":"IFERROR(IF('Datos de clientes'!$G$6:$G$9 <>\"\",IF('Datos de clientes'!$G$6:$G$9= \"Julio\",'Datos de clientes'!$H$6:$H$9,0),\"\"),\"\")","v":""},{"$f":"IFERROR(IF('Datos de clientes'!$G$6:$G$9 <>\"\",IF('Datos de clientes'!$G$6:$G$9= \"Agosto\",'Datos de clientes'!$H$6:$H$9,0),\"\"),\"\")","v":""},{"$f":"IFERROR(IF('Datos de clientes'!$G$6:$G$9 <>\"\",IF('Datos de clientes'!$G$6:$G$9= \"Septiembre\",'Datos de clientes'!$H$6:$H$9,0),\"\"),\"\")","v":""},{"$f":"IFERROR(IF('Datos de clientes'!$G$6:$G$9 <>\"\",IF('Datos de clientes'!$G$6:$G$9= \"Octubre\",'Datos de clientes'!$H$6:$H$9,0),\"\"),\"\")","v":""},{"$f":"IFERROR(IF('Datos de clientes'!$G$6:$G$9 <>\"\",IF('Datos de clientes'!$G$6:$G$9= \"Noviembre\",'Datos de clientes'!$H$6:$H$9,0),\"\"),\"\")","v":""},{"$f":"IFERROR(IF('Datos de clientes'!$G$6:$G$9 <>\"\",IF('Datos de clientes'!$G$6:$G$9= \"Diciembre\",'Datos de clientes'!$H$6:$H$9,0),\"\"),\"\")","v":""}]
[null,{"$f":"IFERROR(IF(AND('Datos de clientes'!$B$6:$B$9 <> \"\", ROW('Ventas previstas '!$B$6:$B$19)<>ÚltimaEntrada),'Datos de clientes'!$B$6:$B$9, \"\"),\"\")","v":""},{"$f":"IFERROR(IF('Datos de clientes'!$G$6:$G$9 <>\"\",IF('Datos de clientes'!$G$6:$G$9= \"Enero\",'Datos de clientes'!$H$6:$H$9,0),\"\"),\"\")","v":""},{"$f":"IFERROR(IF('Datos de clientes'!$G$6:$G$9 <>\"\",IF('Datos de clientes'!$G$6:$G$9 = \"Febrero\",'Datos de clientes'!$H$6:$H$9,0),\"\"),\"\")","v":""},{"$f":"IFERROR(IF('Datos de clientes'!$G$6:$G$9 <>\"\",IF('Datos de clientes'!$G$6:$G$9= \"Marzo\",'Datos de clientes'!$H$6:$H$9,0),\"\"),\"\")","v":""},{"$f":"IFERROR(IF('Datos de clientes'!$G$6:$G$9 <>\"\",IF('Datos de clientes'!$G$6:$G$9= \"Abril\",'Datos de clientes'!$H$6:$H$9,0),\"\"),\"\")","v":""},{"$f":"IFERROR(IF('Datos de clientes'!$G$6:$G$9 <>\"\",IF('Datos de clientes'!$G$6:$G$9= \"Mayo\",'Datos de clientes'!$H$6:$H$9,0),\"\"),\"\")","v":""},{"$f":"IFERROR(IF('Datos de clientes'!$G$6:$G$9 <>\"\",IF('Datos de clientes'!$G$6:$G$9= \"Junio\",'Datos de clientes'!$H$6:$H$9,0),\"\"),\"\")","v":""},{"$f":"IFERROR(IF('Datos de clientes'!$G$6:$G$9 <>\"\",IF('Datos de clientes'!$G$6:$G$9= \"Julio\",'Datos de clientes'!$H$6:$H$9,0),\"\"),\"\")","v":""},{"$f":"IFERROR(IF('Datos de clientes'!$G$6:$G$9 <>\"\",IF('Datos de clientes'!$G$6:$G$9= \"Agosto\",'Datos de clientes'!$H$6:$H$9,0),\"\"),\"\")","v":""},{"$f":"IFERROR(IF('Datos de clientes'!$G$6:$G$9 <>\"\",IF('Datos de clientes'!$G$6:$G$9= \"Septiembre\",'Datos de clientes'!$H$6:$H$9,0),\"\"),\"\")","v":""},{"$f":"IFERROR(IF('Datos de clientes'!$G$6:$G$9 <>\"\",IF('Datos de clientes'!$G$6:$G$9= \"Octubre\",'Datos de clientes'!$H$6:$H$9,0),\"\"),\"\")","v":""},{"$f":"IFERROR(IF('Datos de clientes'!$G$6:$G$9 <>\"\",IF('Datos de clientes'!$G$6:$G$9= \"Noviembre\",'Datos de clientes'!$H$6:$H$9,0),\"\"),\"\")","v":""},{"$f":"IFERROR(IF('Datos de clientes'!$G$6:$G$9 <>\"\",IF('Datos de clientes'!$G$6:$G$9= \"Diciembre\",'Datos de clientes'!$H$6:$H$9,0),\"\"),\"\")","v":""}]
[null,{"$f":"IFERROR(IF(AND('Datos de clientes'!$B$6:$B$9 <> \"\", ROW('Ventas previstas '!$B$6:$B$19)<>ÚltimaEntrada),'Datos de clientes'!$B$6:$B$9, \"\"),\"\")","v":""},{"$f":"IFERROR(IF('Datos de clientes'!$G$6:$G$9 <>\"\",IF('Datos de clientes'!$G$6:$G$9= \"Enero\",'Datos de clientes'!$H$6:$H$9,0),\"\"),\"\")","v":""},{"$f":"IFERROR(IF('Datos de clientes'!$G$6:$G$9 <>\"\",IF('Datos de clientes'!$G$6:$G$9 = \"Febrero\",'Datos de clientes'!$H$6:$H$9,0),\"\"),\"\")","v":""},{"$f":"IFERROR(IF('Datos de clientes'!$G$6:$G$9 <>\"\",IF('Datos de clientes'!$G$6:$G$9= \"Marzo\",'Datos de clientes'!$H$6:$H$9,0),\"\"),\"\")","v":""},{"$f":"IFERROR(IF('Datos de clientes'!$G$6:$G$9 <>\"\",IF('Datos de clientes'!$G$6:$G$9= \"Abril\",'Datos de clientes'!$H$6:$H$9,0),\"\"),\"\")","v":""},{"$f":"IFERROR(IF('Datos de clientes'!$G$6:$G$9 <>\"\",IF('Datos de clientes'!$G$6:$G$9= \"Mayo\",'Datos de clientes'!$H$6:$H$9,0),\"\"),\"\")","v":""},{"$f":"IFERROR(IF('Datos de clientes'!$G$6:$G$9 <>\"\",IF('Datos de clientes'!$G$6:$G$9= \"Junio\",'Datos de clientes'!$H$6:$H$9,0),\"\"),\"\")","v":""},{"$f":"IFERROR(IF('Datos de clientes'!$G$6:$G$9 <>\"\",IF('Datos de clientes'!$G$6:$G$9= \"Julio\",'Datos de clientes'!$H$6:$H$9,0),\"\"),\"\")","v":""},{"$f":"IFERROR(IF('Datos de clientes'!$G$6:$G$9 <>\"\",IF('Datos de clientes'!$G$6:$G$9= \"Agosto\",'Datos de clientes'!$H$6:$H$9,0),\"\"),\"\")","v":""},{"$f":"IFERROR(IF('Datos de clientes'!$G$6:$G$9 <>\"\",IF('Datos de clientes'!$G$6:$G$9= \"Septiembre\",'Datos de clientes'!$H$6:$H$9,0),\"\"),\"\")","v":""},{"$f":"IFERROR(IF('Datos de clientes'!$G$6:$G$9 <>\"\",IF('Datos de clientes'!$G$6:$G$9= \"Octubre\",'Datos de clientes'!$H$6:$H$9,0),\"\"),\"\")","v":""},{"$f":"IFERROR(IF('Datos de clientes'!$G$6:$G$9 <>\"\",IF('Datos de clientes'!$G$6:$G$9= \"Noviembre\",'Datos de clientes'!$H$6:$H$9,0),\"\"),\"\")","v":""},{"$f":"IFERROR(IF('Datos de clientes'!$G$6:$G$9 <>\"\",IF('Datos de clientes'!$G$6:$G$9= \"Diciembre\",'Datos de clientes'!$H$6:$H$9,0),\"\"),\"\")","v":""}]
[null,{"$f":"IFERROR(IF(AND('Datos de clientes'!$B$6:$B$9 <> \"\", ROW('Ventas previstas '!$B$6:$B$19)<>ÚltimaEntrada),'Datos de clientes'!$B$6:$B$9, \"\"),\"\")","v":""},{"$f":"IFERROR(IF('Datos de clientes'!$G$6:$G$9 <>\"\",IF('Datos de clientes'!$G$6:$G$9= \"Enero\",'Datos de clientes'!$H$6:$H$9,0),\"\"),\"\")","v":""},{"$f":"IFERROR(IF('Datos de clientes'!$G$6:$G$9 <>\"\",IF('Datos de clientes'!$G$6:$G$9 = \"Febrero\",'Datos de clientes'!$H$6:$H$9,0),\"\"),\"\")","v":""},{"$f":"IFERROR(IF('Datos de clientes'!$G$6:$G$9 <>\"\",IF('Datos de clientes'!$G$6:$G$9= \"Marzo\",'Datos de clientes'!$H$6:$H$9,0),\"\"),\"\")","v":""},{"$f":"IFERROR(IF('Datos de clientes'!$G$6:$G$9 <>\"\",IF('Datos de clientes'!$G$6:$G$9= \"Abril\",'Datos de clientes'!$H$6:$H$9,0),\"\"),\"\")","v":""},{"$f":"IFERROR(IF('Datos de clientes'!$G$6:$G$9 <>\"\",IF('Datos de clientes'!$G$6:$G$9= \"Mayo\",'Datos de clientes'!$H$6:$H$9,0),\"\"),\"\")","v":""},{"$f":"IFERROR(IF('Datos de clientes'!$G$6:$G$9 <>\"\",IF('Datos de clientes'!$G$6:$G$9= \"Junio\",'Datos de clientes'!$H$6:$H$9,0),\"\"),\"\")","v":""},{"$f":"IFERROR(IF('Datos de clientes'!$G$6:$G$9 <>\"\",IF('Datos de clientes'!$G$6:$G$9= \"Julio\",'Datos de clientes'!$H$6:$H$9,0),\"\"),\"\")","v":""},{"$f":"IFERROR(IF('Datos de clientes'!$G$6:$G$9 <>\"\",IF('Datos de clientes'!$G$6:$G$9= \"Agosto\",'Datos de clientes'!$H$6:$H$9,0),\"\"),\"\")","v":""},{"$f":"IFERROR(IF('Datos de clientes'!$G$6:$G$9 <>\"\",IF('Datos de clientes'!$G$6:$G$9= \"Septiembre\",'Datos de clientes'!$H$6:$H$9,0),\"\"),\"\")","v":""},{"$f":"IFERROR(IF('Datos de clientes'!$G$6:$G$9 <>\"\",IF('Datos de clientes'!$G$6:$G$9= \"Octubre\",'Datos de clientes'!$H$6:$H$9,0),\"\"),\"\")","v":""},{"$f":"IFERROR(IF('Datos de clientes'!$G$6:$G$9 <>\"\",IF('Datos de clientes'!$G$6:$G$9= \"Noviembre\",'Datos de clientes'!$H$6:$H$9,0),\"\"),\"\")","v":""},{"$f":"IFERROR(IF('Datos de clientes'!$G$6:$G$9 <>\"\",IF('Datos de clientes'!$G$6:$G$9= \"Diciembre\",'Datos de clientes'!$H$6:$H$9,0),\"\"),\"\")","v":""}]
[null,{"$f":"IFERROR(IF(AND('Datos de clientes'!$B$6:$B$9 <> \"\", ROW('Ventas previstas '!$B$6:$B$19)<>ÚltimaEntrada),'Datos de clientes'!$B$6:$B$9, \"\"),\"\")","v":""},{"$f":"IFERROR(IF('Datos de clientes'!$G$6:$G$9 <>\"\",IF('Datos de clientes'!$G$6:$G$9= \"Enero\",'Datos de clientes'!$H$6:$H$9,0),\"\"),\"\")","v":""},{"$f":"IFERROR(IF('Datos de clientes'!$G$6:$G$9 <>\"\",IF('Datos de clientes'!$G$6:$G$9 = \"Febrero\",'Datos de clientes'!$H$6:$H$9,0),\"\"),\"\")","v":""},{"$f":"IFERROR(IF('Datos de clientes'!$G$6:$G$9 <>\"\",IF('Datos de clientes'!$G$6:$G$9= \"Marzo\",'Datos de clientes'!$H$6:$H$9,0),\"\"),\"\")","v":""},{"$f":"IFERROR(IF('Datos de clientes'!$G$6:$G$9 <>\"\",IF('Datos de clientes'!$G$6:$G$9= \"Abril\",'Datos de clientes'!$H$6:$H$9,0),\"\"),\"\")","v":""},{"$f":"IFERROR(IF('Datos de clientes'!$G$6:$G$9 <>\"\",IF('Datos de clientes'!$G$6:$G$9= \"Mayo\",'Datos de clientes'!$H$6:$H$9,0),\"\"),\"\")","v":""},{"$f":"IFERROR(IF('Datos de clientes'!$G$6:$G$9 <>\"\",IF('Datos de clientes'!$G$6:$G$9= \"Junio\",'Datos de clientes'!$H$6:$H$9,0),\"\"),\"\")","v":""},{"$f":"IFERROR(IF('Datos de clientes'!$G$6:$G$9 <>\"\",IF('Datos de clientes'!$G$6:$G$9= \"Julio\",'Datos de clientes'!$H$6:$H$9,0),\"\"),\"\")","v":""},{"$f":"IFERROR(IF('Datos de clientes'!$G$6:$G$9 <>\"\",IF('Datos de clientes'!$G$6:$G$9= \"Agosto\",'Datos de clientes'!$H$6:$H$9,0),\"\"),\"\")","v":""},{"$f":"IFERROR(IF('Datos de clientes'!$G$6:$G$9 <>\"\",IF('Datos de clientes'!$G$6:$G$9= \"Septiembre\",'Datos de clientes'!$H$6:$H$9,0),\"\"),\"\")","v":""},{"$f":"IFERROR(IF('Datos de clientes'!$G$6:$G$9 <>\"\",IF('Datos de clientes'!$G$6:$G$9= \"Octubre\",'Datos de clientes'!$H$6:$H$9,0),\"\"),\"\")","v":""},{"$f":"IFERROR(IF('Datos de clientes'!$G$6:$G$9 <>\"\",IF('Datos de clientes'!$G$6:$G$9= \"Noviembre\",'Datos de clientes'!$H$6:$H$9,0),\"\"),\"\")","v":""},{"$f":"IFERROR(IF('Datos de clientes'!$G$6:$G$9 <>\"\",IF('Datos de clientes'!$G$6:$G$9= \"Diciembre\",'Datos de clientes'!$H$6:$H$9,0),\"\"),\"\")","v":""}]
[null,{"$f":"IFERROR(IF(AND('Datos de clientes'!$B$6:$B$9 <> \"\", ROW('Ventas previstas '!$B$6:$B$19)<>ÚltimaEntrada),'Datos de clientes'!$B$6:$B$9, \"\"),\"\")","v":""},{"$f":"IFERROR(IF('Datos de clientes'!$G$6:$G$9 <>\"\",IF('Datos de clientes'!$G$6:$G$9= \"Enero\",'Datos de clientes'!$H$6:$H$9,0),\"\"),\"\")","v":""},{"$f":"IFERROR(IF('Datos de clientes'!$G$6:$G$9 <>\"\",IF('Datos de clientes'!$G$6:$G$9 = \"Febrero\",'Datos de clientes'!$H$6:$H$9,0),\"\"),\"\")","v":""},{"$f":"IFERROR(IF('Datos de clientes'!$G$6:$G$9 <>\"\",IF('Datos de clientes'!$G$6:$G$9= \"Marzo\",'Datos de clientes'!$H$6:$H$9,0),\"\"),\"\")","v":""},{"$f":"IFERROR(IF('Datos de clientes'!$G$6:$G$9 <>\"\",IF('Datos de clientes'!$G$6:$G$9= \"Abril\",'Datos de clientes'!$H$6:$H$9,0),\"\"),\"\")","v":""},{"$f":"IFERROR(IF('Datos de clientes'!$G$6:$G$9 <>\"\",IF('Datos de clientes'!$G$6:$G$9= \"Mayo\",'Datos de clientes'!$H$6:$H$9,0),\"\"),\"\")","v":""},{"$f":"IFERROR(IF('Datos de clientes'!$G$6:$G$9 <>\"\",IF('Datos de clientes'!$G$6:$G$9= \"Junio\",'Datos de clientes'!$H$6:$H$9,0),\"\"),\"\")","v":""},{"$f":"IFERROR(IF('Datos de clientes'!$G$6:$G$9 <>\"\",IF('Datos de clientes'!$G$6:$G$9= \"Julio\",'Datos de clientes'!$H$6:$H$9,0),\"\"),\"\")","v":""},{"$f":"IFERROR(IF('Datos de clientes'!$G$6:$G$9 <>\"\",IF('Datos de clientes'!$G$6:$G$9= \"Agosto\",'Datos de clientes'!$H$6:$H$9,0),\"\"),\"\")","v":""},{"$f":"IFERROR(IF('Datos de clientes'!$G$6:$G$9 <>\"\",IF('Datos de clientes'!$G$6:$G$9= \"Septiembre\",'Datos de clientes'!$H$6:$H$9,0),\"\"),\"\")","v":""},{"$f":"IFERROR(IF('Datos de clientes'!$G$6:$G$9 <>\"\",IF('Datos de clientes'!$G$6:$G$9= \"Octubre\",'Datos de clientes'!$H$6:$H$9,0),\"\"),\"\")","v":""},{"$f":"IFERROR(IF('Datos de clientes'!$G$6:$G$9 <>\"\",IF('Datos de clientes'!$G$6:$G$9= \"Noviembre\",'Datos de clientes'!$H$6:$H$9,0),\"\"),\"\")","v":""},{"$f":"IFERROR(IF('Datos de clientes'!$G$6:$G$9 <>\"\",IF('Datos de clientes'!$G$6:$G$9= \"Diciembre\",'Datos de clientes'!$H$6:$H$9,0),\"\"),\"\")","v":""}]
[null,{"$f":"IFERROR(IF(AND('Datos de clientes'!$B$6:$B$9 <> \"\", ROW('Ventas previstas '!$B$6:$B$19)<>ÚltimaEntrada),'Datos de clientes'!$B$6:$B$9, \"\"),\"\")","v":""},{"$f":"IFERROR(IF('Datos de clientes'!$G$6:$G$9 <>\"\",IF('Datos de clientes'!$G$6:$G$9= \"Enero\",'Datos de clientes'!$H$6:$H$9,0),\"\"),\"\")","v":""},{"$f":"IFERROR(IF('Datos de clientes'!$G$6:$G$9 <>\"\",IF('Datos de clientes'!$G$6:$G$9 = \"Febrero\",'Datos de clientes'!$H$6:$H$9,0),\"\"),\"\")","v":""},{"$f":"IFERROR(IF('Datos de clientes'!$G$6:$G$9 <>\"\",IF('Datos de clientes'!$G$6:$G$9= \"Marzo\",'Datos de clientes'!$H$6:$H$9,0),\"\"),\"\")","v":""},{"$f":"IFERROR(IF('Datos de clientes'!$G$6:$G$9 <>\"\",IF('Datos de clientes'!$G$6:$G$9= \"Abril\",'Datos de clientes'!$H$6:$H$9,0),\"\"),\"\")","v":""},{"$f":"IFERROR(IF('Datos de clientes'!$G$6:$G$9 <>\"\",IF('Datos de clientes'!$G$6:$G$9= \"Mayo\",'Datos de clientes'!$H$6:$H$9,0),\"\"),\"\")","v":""},{"$f":"IFERROR(IF('Datos de clientes'!$G$6:$G$9 <>\"\",IF('Datos de clientes'!$G$6:$G$9= \"Junio\",'Datos de clientes'!$H$6:$H$9,0),\"\"),\"\")","v":""},{"$f":"IFERROR(IF('Datos de clientes'!$G$6:$G$9 <>\"\",IF('Datos de clientes'!$G$6:$G$9= \"Julio\",'Datos de clientes'!$H$6:$H$9,0),\"\"),\"\")","v":""},{"$f":"IFERROR(IF('Datos de clientes'!$G$6:$G$9 <>\"\",IF('Datos de clientes'!$G$6:$G$9= \"Agosto\",'Datos de clientes'!$H$6:$H$9,0),\"\"),\"\")","v":""},{"$f":"IFERROR(IF('Datos de clientes'!$G$6:$G$9 <>\"\",IF('Datos de clientes'!$G$6:$G$9= \"Septiembre\",'Datos de clientes'!$H$6:$H$9,0),\"\"),\"\")","v":""},{"$f":"IFERROR(IF('Datos de clientes'!$G$6:$G$9 <>\"\",IF('Datos de clientes'!$G$6:$G$9= \"Octubre\",'Datos de clientes'!$H$6:$H$9,0),\"\"),\"\")","v":""},{"$f":"IFERROR(IF('Datos de clientes'!$G$6:$G$9 <>\"\",IF('Datos de clientes'!$G$6:$G$9= \"Noviembre\",'Datos de clientes'!$H$6:$H$9,0),\"\"),\"\")","v":""},{"$f":"IFERROR(IF('Datos de clientes'!$G$6:$G$9 <>\"\",IF('Datos de clientes'!$G$6:$G$9= \"Diciembre\",'Datos de clientes'!$H$6:$H$9,0),\"\"),\"\")","v":""}]
[null,{"$f":"IFERROR(IF(AND('Datos de clientes'!$B$6:$B$9 <> \"\", ROW('Ventas previstas '!$B$6:$B$19)<>ÚltimaEntrada),'Datos de clientes'!$B$6:$B$9, \"\"),\"\")","v":""},{"$f":"IFERROR(IF('Datos de clientes'!$G$6:$G$9 <>\"\",IF('Datos de clientes'!$G$6:$G$9= \"Enero\",'Datos de clientes'!$H$6:$H$9,0),\"\"),\"\")","v":""},{"$f":"IFERROR(IF('Datos de clientes'!$G$6:$G$9 <>\"\",IF('Datos de clientes'!$G$6:$G$9 = \"Febrero\",'Datos de clientes'!$H$6:$H$9,0),\"\"),\"\")","v":""},{"$f":"IFERROR(IF('Datos de clientes'!$G$6:$G$9 <>\"\",IF('Datos de clientes'!$G$6:$G$9= \"Marzo\",'Datos de clientes'!$H$6:$H$9,0),\"\"),\"\")","v":""},{"$f":"IFERROR(IF('Datos de clientes'!$G$6:$G$9 <>\"\",IF('Datos de clientes'!$G$6:$G$9= \"Abril\",'Datos de clientes'!$H$6:$H$9,0),\"\"),\"\")","v":""},{"$f":"IFERROR(IF('Datos de clientes'!$G$6:$G$9 <>\"\",IF('Datos de clientes'!$G$6:$G$9= \"Mayo\",'Datos de clientes'!$H$6:$H$9,0),\"\"),\"\")","v":""},{"$f":"IFERROR(IF('Datos de clientes'!$G$6:$G$9 <>\"\",IF('Datos de clientes'!$G$6:$G$9= \"Junio\",'Datos de clientes'!$H$6:$H$9,0),\"\"),\"\")","v":""},{"$f":"IFERROR(IF('Datos de clientes'!$G$6:$G$9 <>\"\",IF('Datos de clientes'!$G$6:$G$9= \"Julio\",'Datos de clientes'!$H$6:$H$9,0),\"\"),\"\")","v":""},{"$f":"IFERROR(IF('Datos de clientes'!$G$6:$G$9 <>\"\",IF('Datos de clientes'!$G$6:$G$9= \"Agosto\",'Datos de clientes'!$H$6:$H$9,0),\"\"),\"\")","v":""},{"$f":"IFERROR(IF('Datos de clientes'!$G$6:$G$9 <>\"\",IF('Datos de clientes'!$G$6:$G$9= \"Septiembre\",'Datos de clientes'!$H$6:$H$9,0),\"\"),\"\")","v":""},{"$f":"IFERROR(IF('Datos de clientes'!$G$6:$G$9 <>\"\",IF('Datos de clientes'!$G$6:$G$9= \"Octubre\",'Datos de clientes'!$H$6:$H$9,0),\"\"),\"\")","v":""},{"$f":"IFERROR(IF('Datos de clientes'!$G$6:$G$9 <>\"\",IF('Datos de clientes'!$G$6:$G$9= \"Noviembre\",'Datos de clientes'!$H$6:$H$9,0),\"\"),\"\")","v":""},{"$f":"IFERROR(IF('Datos de clientes'!$G$6:$G$9 <>\"\",IF('Datos de clientes'!$G$6:$G$9= \"Diciembre\",'Datos de clientes'!$H$6:$H$9,0),\"\"),\"\")","v":""}]
[null,"Total",{"$f":"SUBTOTAL(109,'Ventas previstas '!$C$6:$C$19)","v":{"v":31500,"d":"31,500 €"}},{"$f":"SUBTOTAL(109,'Ventas previstas '!$D$6:$D$19)","v":{"v":6600,"d":"6,600 €"}},{"$f":"SUBTOTAL(109,'Ventas previstas '!$E$6:$E$19)","v":{"v":10800,"d":"10,800 €"}},{"$f":"SUBTOTAL(109,'Ventas previstas '!$F$6:$F$19)","v":{"v":6000,"d":"6,000 €"}},{"$f":"SUBTOTAL(109,'Ventas previstas '!$G$6:$G$19)","v":{"v":0,"d":"0 €"}},{"$f":"SUBTOTAL(109,'Ventas previstas '!$H$6:$H$19)","v":{"v":0,"d":"0 €"}},{"$f":"SUBTOTAL(109,'Ventas previstas '!$I$6:$I$19)","v":{"v":0,"d":"0 €"}},{"$f":"SUBTOTAL(109,'Ventas previstas '!$J$6:$J$19)","v":{"v":0,"d":"0 €"}},{"$f":"SUBTOTAL(109,'Ventas previstas '!$K$6:$K$19)","v":{"v":0,"d":"0 €"}},{"$f":"SUBTOTAL(109,'Ventas previstas '!$L$6:$L$19)","v":{"v":0,"d":"0 €"}},{"$f":"SUBTOTAL(109,'Ventas previstas '!$M$6:$M$19)","v":{"v":0,"d":"0 €"}},{"$f":"SUBTOTAL(109,'Ventas previstas '!$N$6:$N$19)","v":{"v":0,"d":"0 €"}}]
[null,"Total acumulado",{"$f":"C20","v":{"v":31500,"d":"31,500 €"}},{"$f":"C21+D20","v":{"v":38100,"d":"38,100 €"}},{"v":48900,"d":"48,900 €"},{"v":54900,"d":"54,900 €"},{"v":54900,"d":"54,900 €"},{"v":54900,"d":"54,900 €"},{"v":54900,"d":"54,900 €"},{"v":54900,"d":"54,900 €"},{"v":54900,"d":"54,900 €"},{"v":54900,"d":"54,900 €"},{"v":54900,"d":"54,900 €"},{"v":54900,"d":"54,900 €"}]